BEGIN:VCALENDAR
VERSION:2.0
PRODID:-//Guida Artistica - ECPv6.15.20//NONSGML v1.0//EN
CALSCALE:GREGORIAN
METHOD:PUBLISH
X-WR-CALNAME:Guida Artistica
X-ORIGINAL-URL:https://www.guidaartistica.com
X-WR-CALDESC:Eventi per Guida Artistica
REFRESH-INTERVAL;VALUE=DURATION:PT1H
X-Robots-Tag:noindex
X-PUBLISHED-TTL:PT1H
BEGIN:VTIMEZONE
TZID:Europe/Rome
BEGIN:DAYLIGHT
TZOFFSETFROM:+0100
TZOFFSETTO:+0200
TZNAME:CEST
DTSTART:20210328T010000
END:DAYLIGHT
BEGIN:STANDARD
TZOFFSETFROM:+0200
TZOFFSETTO:+0100
TZNAME:CET
DTSTART:20211031T010000
END:STANDARD
BEGIN:DAYLIGHT
TZOFFSETFROM:+0100
TZOFFSETTO:+0200
TZNAME:CEST
DTSTART:20220327T010000
END:DAYLIGHT
BEGIN:STANDARD
TZOFFSETFROM:+0200
TZOFFSETTO:+0100
TZNAME:CET
DTSTART:20221030T010000
END:STANDARD
BEGIN:DAYLIGHT
TZOFFSETFROM:+0100
TZOFFSETTO:+0200
TZNAME:CEST
DTSTART:20230326T010000
END:DAYLIGHT
BEGIN:STANDARD
TZOFFSETFROM:+0200
TZOFFSETTO:+0100
TZNAME:CET
DTSTART:20231029T010000
END:STANDARD
END:VTIMEZONE
BEGIN:VEVENT
DTSTART;TZID=Europe/Rome:20221029T100000
DTEND;TZID=Europe/Rome:20221029T113000
DTSTAMP:20260426T055321
CREATED:20150528T155458Z
LAST-MODIFIED:20221022T161806Z
UID:5547-1667037600-1667043000@www.guidaartistica.com
SUMMARY:LA STRADA DEL SOCCORSO E IL FALCONE D'ITALIA - storie nel castello di Brescia
DESCRIPTION:Il Castello di Brescia ha una storia millenaria che si intreccia con quella della città: ha ospitato templi romani\, chiese\, magazzini\, milizie\, prigionieri e nell’ultimo secolo gruppi festanti di famiglie in gita domenicale. Oggi si presenta infatti come un grande spazio verde che domina benevolo la città. Guida Artistica vi racconterà la storie e i segreti che la roccaforte custodisce\, per tornare a vivere l’ incanto che ci suscitava da bambini. \nIl percorso si è arricchito di recente con la riapertura della strada del soccorso\, restaurata e ben illuminata\, che ci porterà dal castello al parco della montagnola offrendoci scorci molto suggestivi. Non dimenticare la macchina fotografica! \nContributo di partecipazione euro 8 a persona.\nDurata della visita circa 1h e 30 min. Prenotazione obbligatoria. \n  \n  \ncredit fotografico: Annalisa Bianchetti \n  \nVisita guidata a Brescia organizzata da Guida Artistica\, gruppo di guide turistiche abilitate specializzate su Brescia\, lago di Garda\, Sebino\, Franciacorta\, Vallecamonica e tutta la provincia di Brescia.
URL:https://www.guidaartistica.com/evento/la-strada-del-soccorso-e-il-falcone-ditalia-storie-nel-castello-di-brescia/
LOCATION:Castello di Brescia\, via del Castello\, Brescia\, Italia
CATEGORIES:Visite guidate
ATTACH;FMTTYPE=image/jpeg:https://www.guidaartistica.com/wp-content/uploads/2015/05/Annalisa-Bianchetti.jpg
END:VEVENT
BEGIN:VEVENT
DTSTART;TZID=Europe/Rome:20221029T144500
DTEND;TZID=Europe/Rome:20221029T154500
DTSTAMP:20260426T055321
CREATED:20151026T164723Z
LAST-MODIFIED:20151026T164723Z
UID:5549-1667054700-1667058300@www.guidaartistica.com
SUMMARY:A CACCIA DI MOSTRI: ITINERARIO HORROR PER PICCOLI CORAGGIOSI-livello 1
DESCRIPTION:In questo originale percorso per famiglie andremo insieme a caccia di mostri: noi non ce ne accorgiamo\, ma nascosti in tanti angolini delle strade e delle piazze di Brescia sono rintanati un sacco di mostri che ci guardano dall’alto col loro ghigno feroce… niente paura! Grazie ai giochi di Guida Artistica\, li staneremo\, racconteremo la loro storia e li renderemo inoffensivi! \nIncontro sotto l’orologio di Piazza della Loggia. Prenotazione obbligatoria (pagamento in loco) \nContributo di partecipazione 5 euro a testa. \n  \n  \nNB:  – i mostri sono artistici (dipinti\, statue…) \n– attività consigliata per bambini tra i 4 e gli 8 anni (…e per fanciullino che è dentro ognuno di noi ^_^) \n  \nGuida Artistica Junior! è il progetto di Guida Artistica per le famiglie. Non semplici visite guidate ma itinerari interattivi ludico-didattici per conoscere luoghi inaspettati e le loro storie. Con un linguaggio semplice\, giochi e divertimento\, l’appuntamento è appositamente studiato dalle guide turistiche di Guida Artistica per i più piccoli (ma siamo pronti a scommettere che piacerà anche ai grandi!)
URL:https://www.guidaartistica.com/evento/a-caccia-di-mostri-itinerario-horror-per-piccoli-coraggiosi-livello-1-26/
LOCATION:Orologio Piazza Loggia\, Piazza della Loggia\, Brescia\, Italia
CATEGORIES:Visite guidate
ATTACH;FMTTYPE=image/jpeg:https://www.guidaartistica.com/wp-content/uploads/2015/10/draghi-FUMETTO.jpg
END:VEVENT
BEGIN:VEVENT
DTSTART;TZID=Europe/Rome:20221029T154500
DTEND;TZID=Europe/Rome:20221029T164500
DTSTAMP:20260426T055321
CREATED:20151026T164723Z
LAST-MODIFIED:20151026T164723Z
UID:5548-1667058300-1667061900@www.guidaartistica.com
SUMMARY:A CACCIA DI MOSTRI: ITINERARIO HORROR PER PICCOLI CORAGGIOSI-livello 1
DESCRIPTION:In questo originale percorso per famiglie andremo insieme a caccia di mostri: noi non ce ne accorgiamo\, ma nascosti in tanti angolini delle strade e delle piazze di Brescia sono rintanati un sacco di mostri che ci guardano dall’alto col loro ghigno feroce… niente paura! Grazie ai giochi di Guida Artistica\, li staneremo\, racconteremo la loro storia e li renderemo inoffensivi! \nIncontro sotto l’orologio di Piazza della Loggia. Prenotazione obbligatoria (pagamento in loco) \nContributo di partecipazione 5 euro a testa. \n  \n  \nNB:  – i mostri sono artistici (dipinti\, statue…) \n– attività consigliata per bambini tra i 4 e gli 8 anni (…e per fanciullino che è dentro ognuno di noi ^_^) \n  \nGuida Artistica Junior! è il progetto di Guida Artistica per le famiglie. Non semplici visite guidate ma itinerari interattivi ludico-didattici per conoscere luoghi inaspettati e le loro storie. Con un linguaggio semplice\, giochi e divertimento\, l’appuntamento è appositamente studiato dalle guide turistiche di Guida Artistica per i più piccoli (ma siamo pronti a scommettere che piacerà anche ai grandi!)
URL:https://www.guidaartistica.com/evento/a-caccia-di-mostri-itinerario-horror-per-piccoli-coraggiosi-livello-1-25/
LOCATION:Orologio Piazza Loggia\, Piazza della Loggia\, Brescia\, Italia
CATEGORIES:Visite guidate
ATTACH;FMTTYPE=image/jpeg:https://www.guidaartistica.com/wp-content/uploads/2015/10/draghi-FUMETTO.jpg
END:VEVENT
BEGIN:VEVENT
DTSTART;TZID=Europe/Rome:20221030T153000
DTEND;TZID=Europe/Rome:20221030T170000
DTSTAMP:20260426T055321
CREATED:20160813T070016Z
LAST-MODIFIED:20221006T200704Z
UID:5542-1667143800-1667149200@www.guidaartistica.com
SUMMARY:LA CHIESA DI S.MARIA DEL CARMINE
DESCRIPTION:L’edificio è legato\, sin dalle sue origini – alla metà del Trecento\, alla presenza dei Carmelitani in città\, chiamati alla cura delle anime del popoloso quartiere. L’importanza di questa chiesa nel tessuto cittadino è immediatamente percepibile dalle dimensioni (è l’edificio di culto più capiente dopo la Cattedrale) e dalle numerosissime maestranze che hanno lavorato al grande cantiere per oltre quattro secoli. \nVarcato il magnifico portale scolpito\, accanto ai capolavori dei grandi maestri (la cappella Averoldi del Foppa in S. Maria del Carmine è pietra miliare della storia dell’arte lombarda)\, sarà possibile ammirare grazie ai racconti di Guida Artistica le opere di artisti forse meno noti al grande pubblico\, ma di grande qualità\, incluso lo spettacolare coro. \nPer l’occasione sarà possibile visitare anche la Cappella Parva\, ammantata di affreschi. \nContributo di partecipazione euro 10 . Prenotazione obbligatoria. \n  \nGuida Artistica è un gruppo di guide turistiche abilitate specializzate nel territorio di Brescia\, Franciacorta\, Lago di Garda\, Lago d’Iseo.
URL:https://www.guidaartistica.com/evento/la-chiesa-di-s-maria-del-carmine-10/
LOCATION:chiesa del carmine\, contrada del Carmine\, Brescia
CATEGORIES:Visite guidate
ATTACH;FMTTYPE=image/jpeg:https://www.guidaartistica.com/wp-content/uploads/2016/08/tetti-di-SMCarimine-beaTasca.jpg
END:VEVENT
BEGIN:VEVENT
DTSTART;TZID=Europe/Rome:20221031T150000
DTEND;TZID=Europe/Rome:20221031T163000
DTSTAMP:20260426T055321
CREATED:20210222T122813Z
LAST-MODIFIED:20221022T161723Z
UID:5545-1667228400-1667233800@www.guidaartistica.com
SUMMARY:CHIESA DI SAN GIUSEPPE
DESCRIPTION:La chiesa di San Giuseppe si trova in pieno centro storico eppure si fatica quasi a trovarla\, nascosta com’è tra le molte costruzioni ora come allora\, dato che sorse in un popolare quartiere esistente già dall’epoca romana.\nL’interno è maestoso con l’altare sollevato da una scalinata e le pareti costellate da ben ventuno cappelle: nessuna chiesa in città ne ha così tante e ci raccontano di come la società e l’economia siano mutate nei secoli. Infatti inzialmente erano le famiglie nobiliari bresciane a contendersi la possibilità di decorarle e dedicarle al proprio santo protettore (magari quello di cui portava il nome il capostipite della dinastia). Poi però vi fu un progressivo ma radicale cambiamento che vide le diverse corporazioni di arti e mestieri fare a gara per avere un altare di riferimento in questa chiesa. Le dedicazioni quindi cambiarono e spuntarono: Sant’Eligio patrono degli orafi\, San Giuseppe patrono dei falegami\, ma anche Santa Lucia e molti altri. Ad esempio sai chi era il patrono dei formaggiai? Ti aspettiamo domenica per scoprirlo insieme a molte altre storie e ad un “ritratto” della nostra città che ci riporta indietro nei secoli.\nVi sono anche sepolture illustri: su tutte quella di un certo Gasparò da Salò…. si proprio lui\, l’inventore del violino! \nAppuntamento organizzato da Guida Artistica\, guide turistiche specializzate per Brescia\, Franciacorta
URL:https://www.guidaartistica.com/evento/chiesa-di-san-giuseppe-3/
LOCATION:Chiesa di San Giuseppe\, vicolo San Giuseppe\, Brescia\, Italia
CATEGORIES:Visite guidate
ATTACH;FMTTYPE=image/jpeg:https://www.guidaartistica.com/wp-content/uploads/2021/02/6d9bda96-9d9a-44b5-a7af-363c21933e28.jpg
END:VEVENT
END:VCALENDAR