BEGIN:VCALENDAR
VERSION:2.0
PRODID:-//Guida Artistica - ECPv6.15.20//NONSGML v1.0//EN
CALSCALE:GREGORIAN
METHOD:PUBLISH
X-ORIGINAL-URL:https://www.guidaartistica.com
X-WR-CALDESC:Eventi per Guida Artistica
REFRESH-INTERVAL;VALUE=DURATION:PT1H
X-Robots-Tag:noindex
X-PUBLISHED-TTL:PT1H
BEGIN:VTIMEZONE
TZID:Europe/Rome
BEGIN:DAYLIGHT
TZOFFSETFROM:+0100
TZOFFSETTO:+0200
TZNAME:CEST
DTSTART:20210328T010000
END:DAYLIGHT
BEGIN:STANDARD
TZOFFSETFROM:+0200
TZOFFSETTO:+0100
TZNAME:CET
DTSTART:20211031T010000
END:STANDARD
BEGIN:DAYLIGHT
TZOFFSETFROM:+0100
TZOFFSETTO:+0200
TZNAME:CEST
DTSTART:20220327T010000
END:DAYLIGHT
BEGIN:STANDARD
TZOFFSETFROM:+0200
TZOFFSETTO:+0100
TZNAME:CET
DTSTART:20221030T010000
END:STANDARD
BEGIN:DAYLIGHT
TZOFFSETFROM:+0100
TZOFFSETTO:+0200
TZNAME:CEST
DTSTART:20230326T010000
END:DAYLIGHT
BEGIN:STANDARD
TZOFFSETFROM:+0200
TZOFFSETTO:+0100
TZNAME:CET
DTSTART:20231029T010000
END:STANDARD
END:VTIMEZONE
BEGIN:VEVENT
DTSTART;TZID=Europe/Rome:20221101T144500
DTEND;TZID=Europe/Rome:20221101T154500
DTSTAMP:20260426T042228
CREATED:20151026T164723Z
LAST-MODIFIED:20151026T164723Z
UID:5551-1667313900-1667317500@www.guidaartistica.com
SUMMARY:A CACCIA DI MOSTRI: ITINERARIO HORROR PER PICCOLI CORAGGIOSI-livello 1
DESCRIPTION:In questo originale percorso per famiglie andremo insieme a caccia di mostri: noi non ce ne accorgiamo\, ma nascosti in tanti angolini delle strade e delle piazze di Brescia sono rintanati un sacco di mostri che ci guardano dall’alto col loro ghigno feroce… niente paura! Grazie ai giochi di Guida Artistica\, li staneremo\, racconteremo la loro storia e li renderemo inoffensivi! \nIncontro sotto l’orologio di Piazza della Loggia. Prenotazione obbligatoria (pagamento in loco) \nContributo di partecipazione 5 euro a testa. \n  \n  \nNB:  – i mostri sono artistici (dipinti\, statue…) \n– attività consigliata per bambini tra i 4 e gli 8 anni (…e per fanciullino che è dentro ognuno di noi ^_^) \n  \nGuida Artistica Junior! è il progetto di Guida Artistica per le famiglie. Non semplici visite guidate ma itinerari interattivi ludico-didattici per conoscere luoghi inaspettati e le loro storie. Con un linguaggio semplice\, giochi e divertimento\, l’appuntamento è appositamente studiato dalle guide turistiche di Guida Artistica per i più piccoli (ma siamo pronti a scommettere che piacerà anche ai grandi!)
URL:https://www.guidaartistica.com/evento/a-caccia-di-mostri-itinerario-horror-per-piccoli-coraggiosi-livello-1-28/
LOCATION:Orologio Piazza Loggia\, Piazza della Loggia\, Brescia\, Italia
CATEGORIES:Visite guidate
ATTACH;FMTTYPE=image/jpeg:https://www.guidaartistica.com/wp-content/uploads/2015/10/draghi-FUMETTO.jpg
END:VEVENT
BEGIN:VEVENT
DTSTART;TZID=Europe/Rome:20221101T155000
DTEND;TZID=Europe/Rome:20221101T165000
DTSTAMP:20260426T042228
CREATED:20151026T164723Z
LAST-MODIFIED:20151026T164723Z
UID:5550-1667317800-1667321400@www.guidaartistica.com
SUMMARY:A CACCIA DI MOSTRI: ITINERARIO HORROR PER PICCOLI CORAGGIOSI-livello 1
DESCRIPTION:In questo originale percorso per famiglie andremo insieme a caccia di mostri: noi non ce ne accorgiamo\, ma nascosti in tanti angolini delle strade e delle piazze di Brescia sono rintanati un sacco di mostri che ci guardano dall’alto col loro ghigno feroce… niente paura! Grazie ai giochi di Guida Artistica\, li staneremo\, racconteremo la loro storia e li renderemo inoffensivi! \nIncontro sotto l’orologio di Piazza della Loggia. Prenotazione obbligatoria (pagamento in loco) \nContributo di partecipazione 5 euro a testa. \n  \n  \nNB:  – i mostri sono artistici (dipinti\, statue…) \n– attività consigliata per bambini tra i 4 e gli 8 anni (…e per fanciullino che è dentro ognuno di noi ^_^) \n  \nGuida Artistica Junior! è il progetto di Guida Artistica per le famiglie. Non semplici visite guidate ma itinerari interattivi ludico-didattici per conoscere luoghi inaspettati e le loro storie. Con un linguaggio semplice\, giochi e divertimento\, l’appuntamento è appositamente studiato dalle guide turistiche di Guida Artistica per i più piccoli (ma siamo pronti a scommettere che piacerà anche ai grandi!)
URL:https://www.guidaartistica.com/evento/a-caccia-di-mostri-itinerario-horror-per-piccoli-coraggiosi-livello-1-27/
LOCATION:Orologio Piazza Loggia\, Piazza della Loggia\, Brescia\, Italia
CATEGORIES:Visite guidate
ATTACH;FMTTYPE=image/jpeg:https://www.guidaartistica.com/wp-content/uploads/2015/10/draghi-FUMETTO.jpg
END:VEVENT
BEGIN:VEVENT
DTSTART;TZID=Europe/Rome:20221105T100000
DTEND;TZID=Europe/Rome:20221105T113000
DTSTAMP:20260426T042228
CREATED:20150528T155458Z
LAST-MODIFIED:20221108T101203Z
UID:5570-1667642400-1667647800@www.guidaartistica.com
SUMMARY:LA STRADA DEL SOCCORSO E IL FALCONE D'ITALIA - storie nel castello di Brescia
DESCRIPTION:Il Castello di Brescia ha una storia millenaria che si intreccia con quella della città: ha ospitato templi romani\, chiese\, magazzini\, milizie\, prigionieri e nell’ultimo secolo gruppi festanti di famiglie in gita domenicale. Oggi si presenta infatti come un grande spazio verde che domina benevolo la città. Guida Artistica vi racconterà la storie e i segreti che la roccaforte custodisce\, per tornare a vivere l’ incanto che ci suscitava da bambini. \nIl percorso si è arricchito di recente con la riapertura della strada del soccorso\, restaurata e ben illuminata\, che ci porterà dal castello al parco della montagnola offrendoci scorci molto suggestivi. Non dimenticare la macchina fotografica! \nContributo di partecipazione euro 8 a persona.\nDurata della visita circa 1h e 30 min. Prenotazione obbligatoria. \n  \n  \ncredit fotografico: Annalisa Bianchetti \n  \nVisita guidata a Brescia organizzata da Guida Artistica\, gruppo di guide turistiche abilitate specializzate su Brescia\, lago di Garda\, Sebino\, Franciacorta\, Vallecamonica e tutta la provincia di Brescia.
URL:https://www.guidaartistica.com/evento/la-strada-del-soccorso-e-il-falcone-ditalia-storie-nel-castello-di-brescia-2/
LOCATION:Castello di Brescia\, via del Castello\, Brescia\, Italia
CATEGORIES:Visite guidate
ATTACH;FMTTYPE=image/jpeg:https://www.guidaartistica.com/wp-content/uploads/2015/05/Annalisa-Bianchetti.jpg
END:VEVENT
BEGIN:VEVENT
DTSTART;TZID=Europe/Rome:20221105T150000
DTEND;TZID=Europe/Rome:20221105T163000
DTSTAMP:20260426T042228
CREATED:20170627T095714Z
LAST-MODIFIED:20221102T162522Z
UID:5571-1667660400-1667665800@www.guidaartistica.com
SUMMARY:BASILICA E SANTUARIO DI SANTA MARIA DELLE GRAZIE
DESCRIPTION:Il complesso della Madonna delle Grazie è molto caro ai bresciani devoti\, che in particolare si ritrovano qui ogni  8 settembre per la festa della nascita di Maria. Anche Papa Paolo VI inviò diversi messaggi per questa ricorrenza quando non poteva essere a Brescia\, dato che era particolarmente legato a questo luogo (la sua famiglia abitava a fianco della chiesa e in questo  Santuario il 30 maggio 1920 celebrò la sua prima messa). \nOggi il complesso si compone di una suntuosa chiesa\, di un chiostro e del santuario che visiteremo tutti nell’appuntamento di Guida Artistica. \nLa Basilica fu edificata in soli diciassette anni a partire dal 1522 e fu poi arricchita nel secolo successivo da stucchi\, affreschi e dorature di epoca manierista e da numerosi dipinti tra cui spiccano la pala dell’altare maggiore del Moretto e tele del Bagnadore\, di Paolo da Caylina il Giovane e di Antonio Gandino. Il Santuario fu progettato  in stile neogotico  dall’arch.Tagliaferri ed è appena stato restaurato: questa è l’occasione giusta per ammirarlo insieme in tutto il suo splendore. \n  \nVisita guidata a Brescia organizzata da Guida Artistica\, gruppo di guide turistiche abilitate specializzate su Brescia\, lago di Garda\, Sebino\, Franciacorta\, Vallecamonica e tutta la provincia di Brescia.
URL:https://www.guidaartistica.com/evento/basilica-e-santuario-di-santa-maria-delle-grazie-4/
LOCATION:Chiesa e Santuario di Santa Maria delle Grazie\, via delle Grazie\, Brescia\, Italia
CATEGORIES:Visite guidate
ATTACH;FMTTYPE=image/jpeg:https://www.guidaartistica.com/wp-content/uploads/2017/06/interno-stupendo.jpg
END:VEVENT
BEGIN:VEVENT
DTSTART;TZID=Europe/Rome:20221112T100000
DTEND;TZID=Europe/Rome:20221112T113000
DTSTAMP:20260426T042228
CREATED:20161201T073015Z
LAST-MODIFIED:20221108T101109Z
UID:5576-1668247200-1668252600@www.guidaartistica.com
SUMMARY:La chiesa di Sant'Angela Merici a Brescia
DESCRIPTION:La Chiesa di S.Angela Merici è un luogo ricco di storia\, di cui è rimasta traccia oltre che nelle diverse denominazioni che ha assunto l’edificio nel tempo (per molti secoli fu dedicato a S.Afra)\, anche nelle opere d’arte che lo impreziosiscono (tra le quali spicca un bel polittico di Paolo da Caylina il Giovane)\, senza dimenticare che qui è conservato il corpo di S.Angela Merici (fondatrice dell’ordine delle suore Orsoline e co-patrona della città). \n  \nVisita guidata organizzata da Guida Artistica\, gruppo di guide turistiche abilitate specializzate su Brescia\, lago di Garda\, Sebino\, Franciacorta\, Vallecamonica e tutta la provincia di Brescia. Aspettando Bergamo Brescia capitali della cultura 2023. \n 
URL:https://www.guidaartistica.com/evento/la-chiesa-di-santangela-merici-la-via-della-misericordia-3/
LOCATION:chiesa di S.Angela Merici\, via Crispi 21\, Brescia
CATEGORIES:Visite guidate
ATTACH;FMTTYPE=image/jpeg:https://www.guidaartistica.com/wp-content/uploads/2016/12/polittico-PAOLO-DA-CAYLINA-dettaglio.jpg
END:VEVENT
BEGIN:VEVENT
DTSTART;TZID=Europe/Rome:20221113T153000
DTEND;TZID=Europe/Rome:20221113T153000
DTSTAMP:20260426T042228
CREATED:20190912T123757Z
LAST-MODIFIED:20221108T101132Z
UID:5573-1668353400-1668353400@www.guidaartistica.com
SUMMARY:IL PARCO DEL VITTORIALE DEGLI ITALIANI
DESCRIPTION:  \n  \nCon Guida Artistica potrete conoscere il parco del Vittoriale degli Italiani\, splendido complesso ideato da Gabriele d’Annunzio insieme all’architetto Maroni nel suo “esilio dorato” sul lago di Garda. Dalla Piazzetta Dalmata all’incredibile Nave Puglia\, passando per lo Schifamondo (dove D’Annunzio progettava di ritirarsi alla fine della sua vita) e il MAS\, conoscerete l’immaginifico universo artistico e poetico del Vate. Incontro all’ingresso del Vittoriale degli Italiani. Contributo di partecipazione: 10 euro (oltre al biglietto d’ingresso  al Parco). \n  \nVisita guidata organizzata da Guida Artistica\, gruppo di guide turistiche abilitate specializzate su Brescia\, lago di Garda\, Sebino\, Franciacorta\, Vallecamonica e tutta la provincia di Brescia. Aspettando Bergamo Brescia capitali della cultura 2023.
URL:https://www.guidaartistica.com/evento/il-parco-del-vittoriale-degli-italiani-2/
LOCATION:Vittoriale degli Italiani\, Via Al Vittoriale 12\, Gardone Riviera
CATEGORIES:Visite guidate
ATTACH;FMTTYPE=image/jpeg:https://www.guidaartistica.com/wp-content/uploads/2018/09/Vittoriale_il_complesso_monumentale.jpg
END:VEVENT
BEGIN:VEVENT
DTSTART;TZID=Europe/Rome:20221126T100000
DTEND;TZID=Europe/Rome:20221126T113000
DTSTAMP:20260426T042228
CREATED:20180226T070046Z
LAST-MODIFIED:20221108T101048Z
UID:5574-1669456800-1669462200@www.guidaartistica.com
SUMMARY:IL VANTINIANO: IL CIMITERO MONUMENTALE PIU' ANTICO D'ITALIA
DESCRIPTION:Eretto dopo l’editto napoleonico di Saint Cloud (1804)\, il Cimitero Vantiniano è sicuramente l’edificio più imponente della Brescia dell’ottocento e non tutti sanno che è il più antico cimitero monumentale d’Italia. Progettato  da Rodolfo Vantini\, allora ventenne\, il Camposanto si distingue ancora oggi per la purezza delle linee neoclassiche e per l’unitarietà dell’insieme\, secondo un progetto che l’architetto seguirà fino agli ultimi giorni della sua vita. GUIDA ARTISTICA vi farà ripercorrere i passi di questo grande cantiere\, andando a ritroso nella storia degli illustri personaggi di Brescia che qui riposano\, protetti dai cipressi e dalla mole del Faro\, l’altissimo e silenzioso guardiano della città. Appuntamento all’ingresso del Cimitero Vantiniano\nContributo di partecipazione euro 8\nPrenotazione obbligatoria telefonando al   3473028031 o scrivendo info@guidaartistica.com \nVisita guidata organizzata da Guida Artistica\, gruppo di guide turistiche abilitate specializzate su Brescia\, lago di Garda\, Sebino\, Franciacorta\, Vallecamonica e tutta la provincia di Brescia. Aspettando Bergamo Brescia capitali della cultura 2023.
URL:https://www.guidaartistica.com/evento/il-vantiniano-il-cimitero-monumentale-piu-antico-ditalia-6/
LOCATION:Cimitero Vantiniano\, via Milano n.17\, Brescia
CATEGORIES:Visite guidate
ATTACH;FMTTYPE=image/jpeg:https://www.guidaartistica.com/wp-content/uploads/2015/04/bella-con-gruppo.jpg
END:VEVENT
BEGIN:VEVENT
DTSTART;TZID=Europe/Rome:20221127T153000
DTEND;TZID=Europe/Rome:20221127T170000
DTSTAMP:20260426T042228
CREATED:20220302T204654Z
LAST-MODIFIED:20221108T101029Z
UID:5581-1669563000-1669568400@www.guidaartistica.com
SUMMARY:L'ORATORIO DEI DISCIPLINI E LA CHIESA DI SANT'ANTONINO - MOMPIANO
DESCRIPTION:Visita guidata organizzata da Guida Artistica\, gruppo di guide turistiche abilitate specializzate su Brescia\, lago di Garda\, Sebino\, Franciacorta\, Vallecamonica e tutta la provincia di Brescia. Aspettando Bergamo Brescia capitali della cultura 2023.
URL:https://www.guidaartistica.com/evento/loratorio-dei-disciplini-e-la-chiesa-di-santantonino-mompiano-3/
CATEGORIES:Visite guidate
ATTACH;FMTTYPE=image/jpeg:https://www.guidaartistica.com/wp-content/uploads/2022/03/disciplini.jpg
END:VEVENT
END:VCALENDAR