BEGIN:VCALENDAR
VERSION:2.0
PRODID:-//Guida Artistica - ECPv6.15.20//NONSGML v1.0//EN
CALSCALE:GREGORIAN
METHOD:PUBLISH
X-WR-CALNAME:Guida Artistica
X-ORIGINAL-URL:https://www.guidaartistica.com
X-WR-CALDESC:Eventi per Guida Artistica
REFRESH-INTERVAL;VALUE=DURATION:PT1H
X-Robots-Tag:noindex
X-PUBLISHED-TTL:PT1H
BEGIN:VTIMEZONE
TZID:Europe/Rome
BEGIN:DAYLIGHT
TZOFFSETFROM:+0100
TZOFFSETTO:+0200
TZNAME:CEST
DTSTART:20220327T010000
END:DAYLIGHT
BEGIN:STANDARD
TZOFFSETFROM:+0200
TZOFFSETTO:+0100
TZNAME:CET
DTSTART:20221030T010000
END:STANDARD
BEGIN:DAYLIGHT
TZOFFSETFROM:+0100
TZOFFSETTO:+0200
TZNAME:CEST
DTSTART:20230326T010000
END:DAYLIGHT
BEGIN:STANDARD
TZOFFSETFROM:+0200
TZOFFSETTO:+0100
TZNAME:CET
DTSTART:20231029T010000
END:STANDARD
BEGIN:DAYLIGHT
TZOFFSETFROM:+0100
TZOFFSETTO:+0200
TZNAME:CEST
DTSTART:20240331T010000
END:DAYLIGHT
BEGIN:STANDARD
TZOFFSETFROM:+0200
TZOFFSETTO:+0100
TZNAME:CET
DTSTART:20241027T010000
END:STANDARD
END:VTIMEZONE
BEGIN:VEVENT
DTSTART;TZID=Europe/Rome:20230204T150000
DTEND;TZID=Europe/Rome:20230204T163000
DTSTAMP:20260426T002116
CREATED:20230127T164604Z
LAST-MODIFIED:20230131T195054Z
UID:5622-1675522800-1675528200@www.guidaartistica.com
SUMMARY:PINACOTECA TOSIO MARTINENGO
DESCRIPTION:
URL:https://www.guidaartistica.com/evento/pinacoteca-tosio-martinengo-21/
LOCATION:Pinacoteca Tosio Martinengo\, piazza Moretto n.4\, Brescia\, Italia
CATEGORIES:Visite guidate
ATTACH;FMTTYPE=image/jpeg:https://www.guidaartistica.com/wp-content/uploads/2023/01/pinacoteca-1.jpg
END:VEVENT
BEGIN:VEVENT
DTSTART;TZID=Europe/Rome:20230205T173000
DTEND;TZID=Europe/Rome:20230205T183000
DTSTAMP:20260426T002116
CREATED:20230127T164849Z
LAST-MODIFIED:20230127T165250Z
UID:5625-1675618200-1675621800@www.guidaartistica.com
SUMMARY:MOSTRA LOTTO\, ROMANINO\, MORETTO\, CERUTI. I CAMPIONI DELLA PITTURA TRA BRESCIA E BERGAMO
DESCRIPTION:
URL:https://www.guidaartistica.com/evento/mostra-a-palazzo-martinengo/
LOCATION:Palazzo Martinengo Cesaresco – sede della Provincia di Brescia\, via Musei 32\, Brescia
CATEGORIES:Visite guidate
ATTACH;FMTTYPE=image/jpeg:https://www.guidaartistica.com/wp-content/uploads/2023/01/mostra-campioni.jpg
END:VEVENT
BEGIN:VEVENT
DTSTART;TZID=Europe/Rome:20230211T100000
DTEND;TZID=Europe/Rome:20230211T113000
DTSTAMP:20260426T002116
CREATED:20160813T070016Z
LAST-MODIFIED:20230127T170420Z
UID:5633-1676109600-1676115000@www.guidaartistica.com
SUMMARY:LA CHIESA DI S.MARIA DEL CARMINE
DESCRIPTION:L’edificio è legato\, sin dalle sue origini – alla metà del Trecento\, alla presenza dei Carmelitani in città\, chiamati alla cura delle anime del popoloso quartiere. L’importanza di questa chiesa nel tessuto cittadino è immediatamente percepibile dalle dimensioni (è l’edificio di culto più capiente dopo la Cattedrale) e dalle numerosissime maestranze che hanno lavorato al grande cantiere per oltre quattro secoli. \nVarcato il magnifico portale scolpito\, accanto ai capolavori dei grandi maestri (la cappella Averoldi del Foppa in S. Maria del Carmine è pietra miliare della storia dell’arte lombarda)\, sarà possibile ammirare grazie ai racconti di Guida Artistica le opere di artisti forse meno noti al grande pubblico\, ma di grande qualità\, incluso lo spettacolare coro. \nPer l’occasione sarà possibile visitare anche la Cappella Parva\, ammantata di affreschi. \nContributo di partecipazione euro 10 . Prenotazione obbligatoria. \n  \nGuida Artistica è un gruppo di guide turistiche abilitate specializzate nel territorio di Brescia\, Franciacorta\, Lago di Garda\, Lago d’Iseo.
URL:https://www.guidaartistica.com/evento/la-chiesa-di-s-maria-del-carmine-11/
LOCATION:chiesa del carmine\, contrada del Carmine\, Brescia
CATEGORIES:Visite guidate
ATTACH;FMTTYPE=image/jpeg:https://www.guidaartistica.com/wp-content/uploads/2016/08/tetti-di-SMCarimine-beaTasca.jpg
END:VEVENT
BEGIN:VEVENT
DTSTART;TZID=Europe/Rome:20230226T150000
DTEND;TZID=Europe/Rome:20230226T163000
DTSTAMP:20260426T002116
CREATED:20201026T101159Z
LAST-MODIFIED:20230127T170801Z
UID:5635-1677423600-1677429000@www.guidaartistica.com
SUMMARY:LE CATTEDRALI DI BRESCIA: COSI' VICINE\, COSI' DIVERSE
DESCRIPTION:Così vicine e così diverse!\nLe cattedrali di Brescia sono scrigni d’arte ricchissimi: quadri e affreschi\, statue e altari ma conservano anche un vero e proprio tesoro (rigorosamente chiuso in una cassaforte protetta da allarmi).\nQuesto appuntamento vi porterà attraverso i secoli ad apprezzare come il gusto si sia modificato. Tappa d’obbligo\, visto il periodo\, sarà l’altare realizzato come ex voto dalla città per chiedere la salvezza da un’epidemia. Non lo conosci? motivo in più per non perderti questo incontro. \n  \ncredit fotografico: Caterina Scalvenzi \n  \n  \nVisita guidata organizzata da Guida Artistica\, gruppo di guide turistiche abilitate\, specializzate su Brescia\, Lago di Garda\, Franciacorta\, Lago d’Iseo e provincia di Brescia.  Aspettando Bergamo-Brescia capitali della cultura 2023.
URL:https://www.guidaartistica.com/evento/le-cattedrali-di-brescia-cosi-vicine-cosi-diverse-7/
LOCATION:duomo vecchio\, piazza Paolo VI\, Brescia
CATEGORIES:Visite guidate
ATTACH;FMTTYPE=image/jpeg:https://www.guidaartistica.com/wp-content/uploads/2020/10/duomo-riflesso_caterina-scalvenzi.jpg
END:VEVENT
BEGIN:VEVENT
DTSTART;TZID=Europe/Rome:20230226T170000
DTEND;TZID=Europe/Rome:20230226T183000
DTSTAMP:20260426T002116
CREATED:20220110T140832Z
LAST-MODIFIED:20230127T170743Z
UID:5637-1677430800-1677436200@www.guidaartistica.com
SUMMARY:PALAZZO MAGGI GAMBARA AI CAPPUCCINI
DESCRIPTION:Uno splendido palazzo nobiliare nel cuore della città ci accoglie con sale affrescate e uno scenografico scalone progettato dall’architetto Marchetti\, uno dei più apprezzati del XVIII sec. Nella chiesa interna poi ammireremo sull’altar maggiore una grandiosa pala del Moretto\, originariamente commissionata per San Pietro in Oliveto. \n  \nVisita guidata organizzata da Guida Artistica\, gruppo di guide turistiche abilitate\, specializzate su Brescia\, Lago di Garda\, Franciacorta\, Lago d’Iseo e provincia di Brescia. \nAspettando Bergamo-Brescia capitali della cultura 2023
URL:https://www.guidaartistica.com/evento/palazzo-maggi-gambara-ai-cappuccini-5/
LOCATION:centro paolo VI\, via Gezio Calini 30\, Brescia
CATEGORIES:Visite guidate
ATTACH;FMTTYPE=image/jpeg:https://www.guidaartistica.com/wp-content/uploads/2022/01/DSCF1783.jpg
END:VEVENT
END:VCALENDAR