BEGIN:VCALENDAR
VERSION:2.0
PRODID:-//Guida Artistica - ECPv6.15.20//NONSGML v1.0//EN
CALSCALE:GREGORIAN
METHOD:PUBLISH
X-ORIGINAL-URL:https://www.guidaartistica.com
X-WR-CALDESC:Eventi per Guida Artistica
REFRESH-INTERVAL;VALUE=DURATION:PT1H
X-Robots-Tag:noindex
X-PUBLISHED-TTL:PT1H
BEGIN:VTIMEZONE
TZID:Europe/Rome
BEGIN:DAYLIGHT
TZOFFSETFROM:+0100
TZOFFSETTO:+0200
TZNAME:CEST
DTSTART:20220327T010000
END:DAYLIGHT
BEGIN:STANDARD
TZOFFSETFROM:+0200
TZOFFSETTO:+0100
TZNAME:CET
DTSTART:20221030T010000
END:STANDARD
BEGIN:DAYLIGHT
TZOFFSETFROM:+0100
TZOFFSETTO:+0200
TZNAME:CEST
DTSTART:20230326T010000
END:DAYLIGHT
BEGIN:STANDARD
TZOFFSETFROM:+0200
TZOFFSETTO:+0100
TZNAME:CET
DTSTART:20231029T010000
END:STANDARD
BEGIN:DAYLIGHT
TZOFFSETFROM:+0100
TZOFFSETTO:+0200
TZNAME:CEST
DTSTART:20240331T010000
END:DAYLIGHT
BEGIN:STANDARD
TZOFFSETFROM:+0200
TZOFFSETTO:+0100
TZNAME:CET
DTSTART:20241027T010000
END:STANDARD
END:VTIMEZONE
BEGIN:VEVENT
DTSTART;TZID=Europe/Rome:20230802T200000
DTEND;TZID=Europe/Rome:20230802T213000
DTSTAMP:20260425T153926
CREATED:20190701T073220Z
LAST-MODIFIED:20230706T154418Z
UID:5776-1691006400-1691011800@www.guidaartistica.com
SUMMARY:LE CUSTODI DEL TEMPO. PASSEGGIATA SOTTO LE TORRI DI BRESCIA
DESCRIPTION:Fin dalla notte dei tempi\, l’uomo ha cercato di raggiungere il cielo\, costruendo edifici sempre più alti: dagli obelischi e le piramidi ai moderni grattacieli. Nel medioevo Brescia era una città molto verticale\, disseminata di decine di case-torre che svettavano verso l’alto\, simbolo di potere. E oggi? Anche nei tempi moderni possiamo ammirare numerose torri antiche: le andremo a  cercare in questo itinerario e scopriremo che anche quelle sorte come difesa della città\, col tempo si sono arricchite di opere d’arte e di nuove funzioni. Per non parlare di quelle che ospitano preziosi orologi e complicati meccanismi\, metafore dello scorrere infinito del tempo….. che Guida Artistica saprà svelare. \nL’incontro è in Piazza del Foro davanti al Capitolium. \nVisita guidata a Brescia organizzata da Guida Artistica\, gruppo di guide turistiche abilitate specializzate su Brescia\, lago di Garda\, Sebino\, Franciacorta\, Vallecamonica e tutta la provincia di Brescia. Aspettando Bergamo-Brescia Capitali della cultura
URL:https://www.guidaartistica.com/evento/le-custodi-del-tempo-passeggiata-sotto-le-torri-di-brescia-16/
LOCATION:tempio capitolino\, piazza del foro\, Brescia
CATEGORIES:Visite guidate
ATTACH;FMTTYPE=image/jpeg:https://www.guidaartistica.com/wp-content/uploads/2019/07/cupola-e-torre-del-pegol.jpg
END:VEVENT
BEGIN:VEVENT
DTSTART;TZID=Europe/Rome:20230813T163000
DTEND;TZID=Europe/Rome:20230813T190000
DTSTAMP:20260425T153926
CREATED:20191129T105549Z
LAST-MODIFIED:20230723T150848Z
UID:5780-1691944200-1691953200@www.guidaartistica.com
SUMMARY:I TESORI DEL MUSEO DI SANTA GIULIA E APERITIVO
DESCRIPTION:Guida Artistica vi propone un concentrato di capolavori in 120 minuti! Dai resti romani alla chiesa di San Salvatore\, dal Coro delle Monache alla Croce di Desiderio\, conoscerete la storia delle più importanti opere del museo cittadino in un suggestivo viaggio nel passato. \nIn questo periodo poi la chiesa di San Salvatore ospita l’installazione dell’artista Fabrizio Plessi dal titolo Plessi sposa Brixia: un grande anello nuziale che simboleggia il dialogo tra arte antica  e contemporanea…e non solo. \n  \nContributo di partecipazione: euro 12 oltre a euro 8 per il biglietto d’ingresso. Possibilità di apertivo con stuzzichini nel dehor del museo a euro 15 (da prenotare insieme al tour guidato) \n  \nVisita guidata organizzata da Guida Artistica\, gruppo di guide turistiche abilitate\, specializzate su Brescia\, Lago di Garda\, Franciacorta\, Lago d’Iseo e provincia di Brescia. \nAppuntamento organizzato nell’anno di Bergamo-Brescia capitali della cultura 2023
URL:https://www.guidaartistica.com/evento/i-tesori-del-museo-di-santa-giulia-e-aperitivo/
LOCATION:Museo di Santa Giulia\, via dei Musei\, Brescia
CATEGORIES:Visite guidate
ATTACH;FMTTYPE=image/jpeg:https://www.guidaartistica.com/wp-content/uploads/2019/11/s-maria-in-solario-santa-giulia-unesco-brescia.jpg
END:VEVENT
BEGIN:VEVENT
DTSTART;TZID=Europe/Rome:20230820T093000
DTEND;TZID=Europe/Rome:20230820T113000
DTSTAMP:20260425T153926
CREATED:20230710T210006Z
LAST-MODIFIED:20230710T210204Z
UID:5788-1692523800-1692531000@www.guidaartistica.com
SUMMARY:MADDALENA MON AMOUR!
DESCRIPTION:  \nLa domenica mattina vi piace svegliarvi presto per godere del primo refolo d’aria della giornata? Bene! \nGuida Artistica vi aspetta in piazzale Arnaldo per un bel tour. Passeggeremo in viale Venezia per ammirare le ville di primo ‘900 e salire fino alla chiesa di S.Fiorano e alla Tomba del Cane. \nA propostito: siete sicuri di conoscere tutta la storia?
URL:https://www.guidaartistica.com/evento/maddalena-mon-amour/
CATEGORIES:Visite guidate
ATTACH;FMTTYPE=image/jpeg:https://www.guidaartistica.com/wp-content/uploads/2023/07/DSCN4083.jpg
END:VEVENT
BEGIN:VEVENT
DTSTART;TZID=Europe/Rome:20230820T160000
DTEND;TZID=Europe/Rome:20230820T180000
DTSTAMP:20260425T153926
CREATED:20230704T204626Z
LAST-MODIFIED:20230707T190604Z
UID:5783-1692547200-1692554400@www.guidaartistica.com
SUMMARY:LA VITTORIA ALATA E IL PUGILE IN RIPOSO LUNGO IL CORRIDOIO UNESCO
DESCRIPTION:Speciale tour guidato  al Parco Archeologico di Brixia Romana per ammirare il nuovo allestimento dell’archistar Juan Navarro Baldeweg. La Vittoria Alata dialogherà con il capolavoro greco Il pugile in riposo\, in prestito straordinario dal Museo Nazionale Romano- palazzo Massimo di Roma.  \nLa visita si sofferma anche sul dialogo tra antico e moderno della visual art di Fabrizio Plessi\, per proseguire lungo il Corridoio Unesco.\n \n  \nTour guidato organizzato da Guida Artistica nell’anno di Bergamo-Brescia capitale della cultura 2023. Gruppo di guide turistiche specializzato per Brescia\, Franciacorta\, lago d’Iseo e lago di Garda.
URL:https://www.guidaartistica.com/evento/la-vittoria-alata-e-il-pugile-in-riposo-3/
LOCATION:parco archeologico\, piazza del foro\, Brescia
CATEGORIES:Visite guidate
ATTACH;FMTTYPE=image/jpeg:https://www.guidaartistica.com/wp-content/uploads/2023/07/pugile-in-riposo-met.jpg
END:VEVENT
BEGIN:VEVENT
DTSTART;TZID=Europe/Rome:20230823T200000
DTEND;TZID=Europe/Rome:20230823T213000
DTSTAMP:20260425T153926
CREATED:20200622T203952Z
LAST-MODIFIED:20230710T202709Z
UID:5786-1692820800-1692826200@www.guidaartistica.com
SUMMARY:COL NASO ALL'INSU' IN VIA ELIA CAPRIOLO
DESCRIPTION:  \nPasseggiando per questa via\, cuore pulsante della Quadra di San Faustino\, scopriremo come talvolta l’architettura si presenta simile a una tela dipinta. Vi siete mai soffermati a osservare la “pelle” del palazzo sull’angolo con via Marsala? O le monumentali figure acquartierate in palazzo Caprioli? Prossima al Canton dei Bombasari e dei Pignolatari\, tessitori di stoffe in cotone\, le sorprese non mancheranno… parola di Guida Artistica! \nAppuntamento di fronte alla Questura al civico 3. \n\n  \n\nVisita guidata a Brescia organizzata da Guida Artistica\, gruppo di guide turistiche abilitate specializzate su Brescia\, lago di Garda\, Sebino\, Franciacorta\, Vallecamonica e tutta la provincia di Brescia. Aspettando Bergamo-Brescia Capitali della cultura
URL:https://www.guidaartistica.com/evento/col-naso-allinsu-in-via-elia-capriolo-7/
LOCATION:Questura di Brescia\, via Elia Capriolo 3\, Brescia\, Italia
CATEGORIES:Visite guidate
ATTACH;FMTTYPE=image/jpeg:https://www.guidaartistica.com/wp-content/uploads/2020/06/palazzocaprioli.jpg
END:VEVENT
END:VCALENDAR