BEGIN:VCALENDAR
VERSION:2.0
PRODID:-//Guida Artistica - ECPv6.15.20//NONSGML v1.0//EN
CALSCALE:GREGORIAN
METHOD:PUBLISH
X-ORIGINAL-URL:https://www.guidaartistica.com
X-WR-CALDESC:Eventi per Guida Artistica
REFRESH-INTERVAL;VALUE=DURATION:PT1H
X-Robots-Tag:noindex
X-PUBLISHED-TTL:PT1H
BEGIN:VTIMEZONE
TZID:Europe/Rome
BEGIN:DAYLIGHT
TZOFFSETFROM:+0100
TZOFFSETTO:+0200
TZNAME:CEST
DTSTART:20230326T010000
END:DAYLIGHT
BEGIN:STANDARD
TZOFFSETFROM:+0200
TZOFFSETTO:+0100
TZNAME:CET
DTSTART:20231029T010000
END:STANDARD
BEGIN:DAYLIGHT
TZOFFSETFROM:+0100
TZOFFSETTO:+0200
TZNAME:CEST
DTSTART:20240331T010000
END:DAYLIGHT
BEGIN:STANDARD
TZOFFSETFROM:+0200
TZOFFSETTO:+0100
TZNAME:CET
DTSTART:20241027T010000
END:STANDARD
BEGIN:DAYLIGHT
TZOFFSETFROM:+0100
TZOFFSETTO:+0200
TZNAME:CEST
DTSTART:20250330T010000
END:DAYLIGHT
BEGIN:STANDARD
TZOFFSETFROM:+0200
TZOFFSETTO:+0100
TZNAME:CET
DTSTART:20251026T010000
END:STANDARD
END:VTIMEZONE
BEGIN:VEVENT
DTSTART;TZID=Europe/Rome:20240602T170000
DTEND;TZID=Europe/Rome:20240602T182000
DTSTAMP:20260425T005028
CREATED:20240125T190126Z
LAST-MODIFIED:20240530T194131Z
UID:5917-1717347600-1717352400@www.guidaartistica.com
SUMMARY:mostra I MACCHIAIOLI
DESCRIPTION:Straordinaria mostra dedicata ai Macchiaioli\, movimento artistico ottocentesco che innova il modo di dipingere e intreccia le sue sorti con quelle della riunificazione d’Italia. Almeno un decennio prima degli impressionisti infatti\, questi artisti escono dai loro studi per recarsi in mezzo alla natura (Castiglioncello\, la Maremma\, la Liguria) per cogliere le impressioni create dalla luce e trovare un modo nuovo di trasporle sulla tela. \nGrazie all’indefesso lavoro del loro critico d’arte di riferimento Martelli\, si strutturano come un vero e proprio movimento artistico\, sforzandosi di teorizzare questo nuovo modo di fare arte. Il luogo d’eccellenza di questi dibattiti è il caffè Michelangiolo a Firenze\, dove si incontravano pittori provenienti anche da altre città\, accomunati da questo desiderio di creare una nuova arte nazionale per la nuova nazione italiana che stava nascendo. Qualche nome? Giovanni Fattori\, Silvestro Lega\, Telemaco Signorini\, Vincenzo Cabianca e molti altri che imparerete ad amare. \nQuota di partecipazione euro 20 a testa: 12 euro per biglietto d’ingresso e euro 8 per visita guidata \nVisita guidata condotta da Guida Artistica\, gruppo di guide turistiche specializzate su Brescia\, lago di Garda e lago D’Iseo e Franciacorta.
URL:https://www.guidaartistica.com/evento/mostra-i-macchiaioli-16/
LOCATION:Palazzo Martinengo Cesaresco – sede della Provincia di Brescia\, via Musei 32\, Brescia
CATEGORIES:Visite guidate
ATTACH;FMTTYPE=image/jpeg:https://www.guidaartistica.com/wp-content/uploads/2024/01/2-Fattori-Raccolta-del-fieno-in-Maremma-collezione-privata-scaled-1.jpeg
END:VEVENT
BEGIN:VEVENT
DTSTART;TZID=Europe/Rome:20240609T100000
DTEND;TZID=Europe/Rome:20240609T113000
DTSTAMP:20260425T005028
CREATED:20190717T144809Z
LAST-MODIFIED:20240530T194557Z
UID:5923-1717927200-1717932600@www.guidaartistica.com
SUMMARY:DIGHET DEL BU'?  Proverbi bresciani a zonzo per la città
DESCRIPTION:E se luoghi e monumenti in città avessero ispirato alcuni tra i modi di dire più popolari di Brescia? O viceversa se rileggessimo statue\, targhe\, nomi di vie alla luce di proverbi bresciani? Lungo un percorso a piedi ne scopriremo delle belle\, da lè bàle de Arnaldo al mal del marzüc … e ricordate che “la vera poesia l’anima prende\, anche se chi l’ascolta poco intende” \n  \n  \n  \n\nVisita guidata organizzata da Guida Artistica\, gruppo di guide turistiche abilitate\, specializzate su Brescia\, Lago di Garda\, Franciacorta\, Lago d’Iseo e provincia di Brescia
URL:https://www.guidaartistica.com/evento/dighet-del-bu-proverbi-bresciani-a-zonzo-per-la-citta-10/
LOCATION:pasticceria Camera\, via Panoramica n.1\, Brescia
CATEGORIES:Visite guidate
ATTACH;FMTTYPE=image/jpeg:https://www.guidaartistica.com/wp-content/uploads/2019/07/statua-Arnaldo-rid-guidaartistica.jpg
END:VEVENT
BEGIN:VEVENT
DTSTART;TZID=Europe/Rome:20240621T210000
DTEND;TZID=Europe/Rome:20240621T223000
DTSTAMP:20260425T005028
CREATED:20200622T203952Z
LAST-MODIFIED:20240626T162229Z
UID:5928-1719003600-1719009000@www.guidaartistica.com
SUMMARY:COL NASO ALL'INSU' IN VIA ELIA CAPRIOLO
DESCRIPTION:  \nPasseggiando per questa via\, cuore pulsante della Quadra di San Faustino\, scopriremo come talvolta l’architettura si presenta simile a una tela dipinta. Vi siete mai soffermati a osservare la “pelle” del palazzo sull’angolo con via Marsala? O le monumentali figure acquartierate in palazzo Caprioli? Prossima al Canton dei Bombasari e dei Pignolatari\, tessitori di stoffe in cotone\, le sorprese non mancheranno… parola di Guida Artistica! \nAppuntamento di fronte alla Questura al civico 3. \n\n  \n\nVisita guidata a Brescia organizzata da Guida Artistica\, gruppo di guide turistiche abilitate specializzate su Brescia\, lago di Garda\, Sebino\, Franciacorta\, Vallecamonica e tutta la provincia di Brescia. Bergamo-Brescia Capitali della cultura 2023
URL:https://www.guidaartistica.com/evento/col-naso-allinsu-in-via-elia-capriolo-9/
LOCATION:Questura di Brescia\, via Elia Capriolo 3\, Brescia\, Italia
CATEGORIES:Visite guidate
ATTACH;FMTTYPE=image/jpeg:https://www.guidaartistica.com/wp-content/uploads/2020/06/palazzocaprioli.jpg
END:VEVENT
BEGIN:VEVENT
DTSTART;TZID=Europe/Rome:20240622T150000
DTEND;TZID=Europe/Rome:20240622T163000
DTSTAMP:20260425T005028
CREATED:20170627T095714Z
LAST-MODIFIED:20240608T080856Z
UID:5930-1719068400-1719073800@www.guidaartistica.com
SUMMARY:BASILICA E SANTUARIO DI SANTA MARIA DELLE GRAZIE
DESCRIPTION:Il complesso della Madonna delle Grazie è molto caro ai bresciani devoti\, che in particolare si ritrovano qui ogni  8 settembre per la festa della nascita di Maria. Anche Papa Paolo VI inviò diversi messaggi per questa ricorrenza quando non poteva essere a Brescia\, dato che era particolarmente legato a questo luogo (la sua famiglia abitava a fianco della chiesa e in questo  Santuario il 30 maggio 1920 celebrò la sua prima messa). \nOggi il complesso si compone di una suntuosa chiesa\, di un chiostro e del santuario che visiteremo tutti nell’appuntamento di Guida Artistica. \nLa Basilica fu edificata in soli diciassette anni a partire dal 1522 e fu poi arricchita nel secolo successivo da stucchi\, affreschi e dorature di epoca manierista e da numerosi dipinti tra cui spiccano la pala dell’altare maggiore del Moretto e tele del Bagnadore\, di Paolo da Caylina il Giovane e di Antonio Gandino. Il Santuario fu progettato  in stile neogotico  dall’arch.Tagliaferri ed è appena stato restaurato: questa è l’occasione giusta per ammirarlo insieme in tutto il suo splendore. \n  \nVisita guidata a Brescia organizzata da Guida Artistica\, gruppo di guide turistiche abilitate specializzate su Brescia\, lago di Garda\, Sebino\, Franciacorta\, Vallecamonica e tutta la provincia di Brescia.
URL:https://www.guidaartistica.com/evento/basilica-e-santuario-di-santa-maria-delle-grazie-8/
LOCATION:Chiesa e Santuario di Santa Maria delle Grazie\, via delle Grazie\, Brescia\, Italia
CATEGORIES:Visite guidate
ATTACH;FMTTYPE=image/jpeg:https://www.guidaartistica.com/wp-content/uploads/2017/06/interno-stupendo.jpg
END:VEVENT
BEGIN:VEVENT
DTSTART;TZID=Europe/Rome:20240622T160000
DTEND;TZID=Europe/Rome:20240622T173000
DTSTAMP:20260425T005028
CREATED:20230127T164604Z
LAST-MODIFIED:20240614T104146Z
UID:5940-1719072000-1719077400@www.guidaartistica.com
SUMMARY:PINACOTECA TOSIO MARTINENGO
DESCRIPTION:La Pinacoteca Tosio Martinengo\, prezioso scrigno di opere d’arte che testimoniano l’evoluzione dell’arte bresciana fin dal medioevo\, vi verrà svelata come mai prima! 120 dipinti esposti in dialogo con altrettanti oggetti\, preziosi elementi per riscostruire il gusto e lo spirito dell’epoca. Da Foppa a Moretto\, da Raffaello a Pitocchetto\, sono moltissimi i capolavori che vi lasceranno a bocca aperta. Affidatevi alla narrazione intrigante di Guida Artistica per scoprire i dettagli “da esperti”.
URL:https://www.guidaartistica.com/evento/pinacoteca-tosio-martinengo-22/
LOCATION:Pinacoteca Tosio Martinengo\, piazza Moretto n.4\, Brescia\, Italia
CATEGORIES:Visite guidate
ATTACH;FMTTYPE=image/jpeg:https://www.guidaartistica.com/wp-content/uploads/2018/02/collageDONATE2_1.jpg
END:VEVENT
BEGIN:VEVENT
DTSTART;TZID=Europe/Rome:20240623T100000
DTEND;TZID=Europe/Rome:20240623T113000
DTSTAMP:20260425T005028
CREATED:20220606T171004Z
LAST-MODIFIED:20240608T080815Z
UID:5931-1719136800-1719142200@www.guidaartistica.com
SUMMARY:BRESCIA A STILE LIBERTY
DESCRIPTION:Brescia “la Ferrea”\, “La Forte”\, “leonessa d’Italia”. Così Carducci citava la città 140 anni fa. Quasi nessuno cita Brescia “Liberty”\, uno stile che ancora oggi caratterizza alcune case e palazzi affacciati su via Trento\, via Monte Suello e via Leonardo da Vinci\, senza dimenticare cosa fu in grado di progettare Egidio Dabbeni in Castello nel 1904: un mondo vegetale e floreale con molta Libertà di applicazione\, in cui i “colpi di frusta” ingentiliscono la solidità costruttiva e il senso architettonico bresciani. Ma si sa… la vita è fatta di dettagli e sfumature e a Guida Artistica piace scoprirli e raccontarli! \n  \nVisita guidata a Brescia organizzata da Guida Artistica\, gruppo di guide turistiche abilitate specializzate su Brescia\, lago di Garda\, Sebino\, Franciacorta\, Vallecamonica e tutta la provincia di Brescia.  Bergamo-Brescia Capitali della cultura 2023
URL:https://www.guidaartistica.com/evento/brescia-a/
CATEGORIES:Visite guidate
ATTACH;FMTTYPE=image/jpeg:https://www.guidaartistica.com/wp-content/uploads/2021/04/locandina-passeggiate.jpg
END:VEVENT
BEGIN:VEVENT
DTSTART;TZID=Europe/Rome:20240626T200000
DTEND;TZID=Europe/Rome:20240626T213000
DTSTAMP:20260425T005028
CREATED:20170729T075502Z
LAST-MODIFIED:20240608T080736Z
UID:5926-1719432000-1719437400@www.guidaartistica.com
SUMMARY:IL CORSO DEI MIRACOLI
DESCRIPTION:Sfizioso itinerario che ci porta a passeggiare con il naso all’insù lungo il viale che collegava porta San Nazaro con il centro della città\, viale che oggi porta il nome di Corso Martiri della Libertà. Vi racconteremo dello scoppio di una polveriera\, di una regina che veniva in visita da molto lontano\, della devozione ad una immagine miracolosa della Madonna e …. di un putto che fa pipì in pubblico ! \n  \n  \nEvento realizzato da Guida Artistica\, appassionato gruppo di guide turistiche specializzato in tour su misura a Brescia\, in Franciacorta\, sul Lago d’Iseo\, in Valcamonica e  sul Lago di Garda. \nSI RINGRAZIA IL COMUNE DI BRESCIA PER IL SUPPORTO.
URL:https://www.guidaartistica.com/evento/il-corso-dei-miracoli-7/
CATEGORIES:Visite guidate
ATTACH;FMTTYPE=image/jpeg:https://www.guidaartistica.com/wp-content/uploads/2017/07/caterina-cornaro-cipro.jpg
END:VEVENT
BEGIN:VEVENT
DTSTART;TZID=Europe/Rome:20240628T210000
DTEND;TZID=Europe/Rome:20240628T223000
DTSTAMP:20260425T005028
CREATED:20190527T064754Z
LAST-MODIFIED:20240608T080709Z
UID:5932-1719608400-1719613800@www.guidaartistica.com
SUMMARY:LA CENA E' SERVITA
DESCRIPTION:Dove andavano a fare la spesa i bresciani del Cinquecento? Oggi sembra difficile saperlo\, ma in questa piacevole passeggiata serale Guida Artistica vi svelerà dove le prelibatezze che finivano sulle tavole dei bresciani venivano prodotte e vendute. Non solo mercati coperti e botteghe\, ma veri e propri quartieri artigianali\, dotati di architetture funzionali ma belle\, che ancora oggi possiamo ammirare. Grandi spazi monumentali con pitture e sculture allegoriche dal sapore d’altri tempi\, ma anche insegne curiose per nobilitare ed esaltare l’economia. Contributo di partecipazione euro 10 \n 
URL:https://www.guidaartistica.com/evento/la-cena-e-servita-8/
CATEGORIES:Visite guidate
ATTACH;FMTTYPE=image/jpeg:https://www.guidaartistica.com/wp-content/uploads/2014/06/passeggiate-artistiche-logo-colori.jpg
END:VEVENT
END:VCALENDAR