BEGIN:VCALENDAR
VERSION:2.0
PRODID:-//Guida Artistica - ECPv6.15.20//NONSGML v1.0//EN
CALSCALE:GREGORIAN
METHOD:PUBLISH
X-ORIGINAL-URL:https://www.guidaartistica.com
X-WR-CALDESC:Eventi per Guida Artistica
REFRESH-INTERVAL;VALUE=DURATION:PT1H
X-Robots-Tag:noindex
X-PUBLISHED-TTL:PT1H
BEGIN:VTIMEZONE
TZID:Europe/Rome
BEGIN:DAYLIGHT
TZOFFSETFROM:+0100
TZOFFSETTO:+0200
TZNAME:CEST
DTSTART:20230326T010000
END:DAYLIGHT
BEGIN:STANDARD
TZOFFSETFROM:+0200
TZOFFSETTO:+0100
TZNAME:CET
DTSTART:20231029T010000
END:STANDARD
BEGIN:DAYLIGHT
TZOFFSETFROM:+0100
TZOFFSETTO:+0200
TZNAME:CEST
DTSTART:20240331T010000
END:DAYLIGHT
BEGIN:STANDARD
TZOFFSETFROM:+0200
TZOFFSETTO:+0100
TZNAME:CET
DTSTART:20241027T010000
END:STANDARD
BEGIN:DAYLIGHT
TZOFFSETFROM:+0100
TZOFFSETTO:+0200
TZNAME:CEST
DTSTART:20250330T010000
END:DAYLIGHT
BEGIN:STANDARD
TZOFFSETFROM:+0200
TZOFFSETTO:+0100
TZNAME:CET
DTSTART:20251026T010000
END:STANDARD
END:VTIMEZONE
BEGIN:VEVENT
DTSTART;TZID=Europe/Rome:20240802T210000
DTEND;TZID=Europe/Rome:20240802T223000
DTSTAMP:20260424T215129
CREATED:20220110T140832Z
LAST-MODIFIED:20240708T070841Z
UID:5957-1722632400-1722637800@www.guidaartistica.com
SUMMARY:PALAZZO MAGGI GAMBARA AI CAPPUCCINI
DESCRIPTION:Uno splendido palazzo nobiliare nel cuore della città ci accoglie con sale affrescate e uno scenografico scalone progettato dall’architetto Marchetti\, uno dei più apprezzati del XVIII sec. Nella chiesa interna poi ammireremo sull’altar maggiore una grandiosa pala del Moretto\, originariamente commissionata per San Pietro in Oliveto. \n  \nVisita guidata organizzata da Guida Artistica\, gruppo di guide turistiche abilitate\, specializzate su Brescia\, Lago di Garda\, Franciacorta\, Lago d’Iseo e provincia di Brescia. \nBergamo-Brescia capitali della cultura 2023
URL:https://www.guidaartistica.com/evento/palazzo-maggi-gambara-ai-cappuccini-6/
LOCATION:centro paolo VI\, via Gezio Calini 30\, Brescia
CATEGORIES:Visite guidate
ATTACH;FMTTYPE=image/jpeg:https://www.guidaartistica.com/wp-content/uploads/2022/01/DSCF1783.jpg
END:VEVENT
BEGIN:VEVENT
DTSTART;TZID=Europe/Rome:20240803T150000
DTEND;TZID=Europe/Rome:20240803T163000
DTSTAMP:20260424T215129
CREATED:20170627T095714Z
LAST-MODIFIED:20240801T062858Z
UID:5947-1722697200-1722702600@www.guidaartistica.com
SUMMARY:BASILICA E SANTUARIO DI SANTA MARIA DELLE GRAZIE
DESCRIPTION:Il complesso della Madonna delle Grazie è molto caro ai bresciani devoti\, che in particolare si ritrovano qui ogni  8 settembre per la festa della nascita di Maria. Anche Papa Paolo VI inviò diversi messaggi per questa ricorrenza quando non poteva essere a Brescia\, dato che era particolarmente legato a questo luogo (la sua famiglia abitava a fianco della chiesa e in questo  Santuario il 30 maggio 1920 celebrò la sua prima messa). \nOggi il complesso si compone di una suntuosa chiesa\, di un chiostro e del santuario che visiteremo tutti nell’appuntamento di Guida Artistica. \nLa Basilica fu edificata in soli diciassette anni a partire dal 1522 e fu poi arricchita nel secolo successivo da stucchi\, affreschi e dorature di epoca manierista e da numerosi dipinti tra cui spiccano la pala dell’altare maggiore del Moretto e tele del Bagnadore\, di Paolo da Caylina il Giovane e di Antonio Gandino. Il Santuario fu progettato  in stile neogotico  dall’arch.Tagliaferri ed è appena stato restaurato: questa è l’occasione giusta per ammirarlo insieme in tutto il suo splendore. \n  \nVisita guidata a Brescia organizzata da Guida Artistica\, gruppo di guide turistiche abilitate specializzate su Brescia\, lago di Garda\, Sebino\, Franciacorta\, Vallecamonica e tutta la provincia di Brescia.
URL:https://www.guidaartistica.com/evento/basilica-e-santuario-di-santa-maria-delle-grazie-10/
LOCATION:Chiesa e Santuario di Santa Maria delle Grazie\, via delle Grazie\, Brescia\, Italia
CATEGORIES:Visite guidate
ATTACH;FMTTYPE=image/jpeg:https://www.guidaartistica.com/wp-content/uploads/2017/06/interno-stupendo.jpg
END:VEVENT
BEGIN:VEVENT
DTSTART;TZID=Europe/Rome:20240811T163000
DTEND;TZID=Europe/Rome:20240811T193000
DTSTAMP:20260424T215129
CREATED:20200727T172550Z
LAST-MODIFIED:20240807T075806Z
UID:5962-1723393800-1723404600@www.guidaartistica.com
SUMMARY:MONTICHIARI-LA PIEVE DI SAN PANCRAZIO
DESCRIPTION:Intitolata al patrono di Montichiari\, la pieve di San Pancrazio potrebbe essere considerata una metafora “architettonica” dello spirito bresciano: quasi inaccessibile dall’esterno ma altrettanto sorprendente una volta varcata la soglia. Tra le pievi più antiche in Lombardia e documentata dal XII secolo\, questo scrigno immerso in una luce dorata che accarezza la pietra e gli affreschi che la decorano\, si svelerà piano piano attraverso i suoi capitelli paleo-cristiani\, un duplice ritratto di epoca romana e gli innumerevoli volti di San Pancrazio\, ora ritratto alla moda del Trecento\, ora in una rutilante armatura creata dalla maestria di Romanino.\nVi abbiamo convinto? …speriamo proprio di sì. \nAl termine aperitivo in compagnia. \nRitrovo: via G. Matteotti di fronte all’ingresso della pieve \n  \nVisita guidata organizzata da Guida Artistica\, gruppo di guide turistiche abilitate specializzate su Brescia\, lago di Garda\, Sebino\, Franciacorta\, Vallecamonica e tutta la provincia di Brescia.
URL:https://www.guidaartistica.com/evento/montichiari-la-pieve-di-san-pancrazio-3/
CATEGORIES:Visite guidate
ATTACH;FMTTYPE=image/jpeg:https://www.guidaartistica.com/wp-content/uploads/2020/07/pieve-san-pancrazio.jpg
END:VEVENT
BEGIN:VEVENT
DTSTART;TZID=Europe/Rome:20240815T150000
DTEND;TZID=Europe/Rome:20240815T173000
DTSTAMP:20260424T215129
CREATED:20230611T202156Z
LAST-MODIFIED:20240810T091102Z
UID:5967-1723734000-1723743000@www.guidaartistica.com
SUMMARY:BRESCIA UNESCO
DESCRIPTION:
URL:https://www.guidaartistica.com/evento/brescia-unesco-2/
CATEGORIES:Visite guidate
ATTACH;FMTTYPE=image/jpeg:https://www.guidaartistica.com/wp-content/uploads/2023/06/Unesco.jpg
END:VEVENT
BEGIN:VEVENT
DTSTART;TZID=Europe/Rome:20240817T163000
DTEND;TZID=Europe/Rome:20240817T180000
DTSTAMP:20260424T215129
CREATED:20160813T070016Z
LAST-MODIFIED:20240810T090824Z
UID:5965-1723912200-1723917600@www.guidaartistica.com
SUMMARY:LA CHIESA DI S.MARIA DEL CARMINE
DESCRIPTION:L’edificio è legato\, sin dalle sue origini – alla metà del Trecento\, alla presenza dei Carmelitani in città\, chiamati alla cura delle anime del popoloso quartiere. L’importanza di questa chiesa nel tessuto cittadino è immediatamente percepibile dalle dimensioni (è l’edificio di culto più capiente dopo la Cattedrale) e dalle numerosissime maestranze che hanno lavorato al grande cantiere per oltre quattro secoli. \nVarcato il magnifico portale scolpito\, accanto ai capolavori dei grandi maestri (la cappella Averoldi del Foppa in S. Maria del Carmine è pietra miliare della storia dell’arte lombarda)\, sarà possibile ammirare grazie ai racconti di Guida Artistica le opere di artisti forse meno noti al grande pubblico\, ma di grande qualità\, incluso lo spettacolare coro. \nPer l’occasione sarà possibile visitare anche la Cappella Parva\, ammantata di affreschi. \nContributo di partecipazione euro 12 . Prenotazione obbligatoria. \n  \nGuida Artistica è un gruppo di guide turistiche abilitate specializzate nel territorio di Brescia\, Franciacorta\, Lago di Garda\, Lago d’Iseo.
URL:https://www.guidaartistica.com/evento/la-chiesa-di-s-maria-del-carmine-14/
LOCATION:chiesa del carmine\, contrada del Carmine\, Brescia
CATEGORIES:Visite guidate
ATTACH;FMTTYPE=image/jpeg:https://www.guidaartistica.com/wp-content/uploads/2016/08/tetti-di-SMCarimine-beaTasca.jpg
END:VEVENT
END:VCALENDAR