BEGIN:VCALENDAR
VERSION:2.0
PRODID:-//Guida Artistica - ECPv6.15.20//NONSGML v1.0//EN
CALSCALE:GREGORIAN
METHOD:PUBLISH
X-ORIGINAL-URL:https://www.guidaartistica.com
X-WR-CALDESC:Eventi per Guida Artistica
REFRESH-INTERVAL;VALUE=DURATION:PT1H
X-Robots-Tag:noindex
X-PUBLISHED-TTL:PT1H
BEGIN:VTIMEZONE
TZID:Europe/Rome
BEGIN:DAYLIGHT
TZOFFSETFROM:+0100
TZOFFSETTO:+0200
TZNAME:CEST
DTSTART:20230326T010000
END:DAYLIGHT
BEGIN:STANDARD
TZOFFSETFROM:+0200
TZOFFSETTO:+0100
TZNAME:CET
DTSTART:20231029T010000
END:STANDARD
BEGIN:DAYLIGHT
TZOFFSETFROM:+0100
TZOFFSETTO:+0200
TZNAME:CEST
DTSTART:20240331T010000
END:DAYLIGHT
BEGIN:STANDARD
TZOFFSETFROM:+0200
TZOFFSETTO:+0100
TZNAME:CET
DTSTART:20241027T010000
END:STANDARD
BEGIN:DAYLIGHT
TZOFFSETFROM:+0100
TZOFFSETTO:+0200
TZNAME:CEST
DTSTART:20250330T010000
END:DAYLIGHT
BEGIN:STANDARD
TZOFFSETFROM:+0200
TZOFFSETTO:+0100
TZNAME:CET
DTSTART:20251026T010000
END:STANDARD
END:VTIMEZONE
BEGIN:VEVENT
DTSTART;TZID=Europe/Rome:20240910T183000
DTEND;TZID=Europe/Rome:20240910T210000
DTSTAMP:20260424T201531
CREATED:20201005T164931Z
LAST-MODIFIED:20240905T100329Z
UID:5013-1725993000-1726002000@www.guidaartistica.com
SUMMARY:BRESCIA -  CITTA' DI PIETRE (VIVE)
DESCRIPTION:Guida Artistica in collaborazione con Brescia d’estate 2024 del Comune di Brescia propone una passeggiata guidata serale a Brescia per conoscere caratteristiche e curiosità delle statue che ne impreziosiscono il centro storico. Molte di loro sono state realizzate dopo l’Unità d’Italia per presentare la città ai forestieri\, scegliendo almeno per i quattro punti cardinali\, statue di  personaggi illustri che dovevano ben rappresentare la città. La scelta cadde sul bresciano Giuseppe Zanardelli (insegne giurista e primo ministro)\, Arnaldo da Brescia e due personaggi che bresciani non sono: Giuseppe Garibaldi  e Cesare Battisti. \nPoco dopo però si aggiunsero altri monumenti all’interno del centro storico\, come la statua di Moretto davanti alla Pinacoteca Tosio Martinengo e quella ai migranti\, che costò la carriera al suo sculture\, data la delicatezza del tema. Ma vi diremo di più di persona. \nL’appuntamento è gratuito con prenotazione obbligatoria all’infopoint del Comune di Brescia: infobrescia@bresciamobilita.it whatsapp 3426058111 \n  \nGuide turistiche abilitate di Brescia e provincia\, Garda\, Iseo\, Franciacorta.
URL:https://www.guidaartistica.com/evento/brescia-citta-di-pietre-vive-3/
LOCATION:Piazzale Arnaldo\, piazzale Arnaldo\, Brescia\, Italia
CATEGORIES:Visite guidate
ATTACH;FMTTYPE=image/jpeg:https://www.guidaartistica.com/wp-content/uploads/2020/10/statua-Arnaldo-rid-guidaartistica.jpg
END:VEVENT
BEGIN:VEVENT
DTSTART;TZID=Europe/Rome:20240911T200000
DTEND;TZID=Europe/Rome:20240911T213000
DTSTAMP:20260424T201531
CREATED:20190701T072119Z
LAST-MODIFIED:20240905T103655Z
UID:5978-1726084800-1726090200@www.guidaartistica.com
SUMMARY:GOCCE D'ARTE: ITINERARIO TRA LE FONTANE DI BRESCIA
DESCRIPTION:Questa serata è dedicata alle fontane del centro della città: piacevoli oggetti d’arte e di arredo urbano\, molte fontane fanno bella mostra di sé tra le piazze e i crocicchi di Brescia\, e in alcuni casi sono dei veri e propri capolavori dell’ingegneria idraulica! In questa piacevole passeggiata serale conoscete la storia e le curiosità che animano questi veri e propri “monumenti” spesso ingiustamente trascurati. Appuntamento in corso Zanardelli\, davanti al Teatro Grande \nPrenotazione obbligatoria all’infopoint del Comune di Brescia- appuntamento organizzato nell’ambito di Brescia d’Estate 2024 \nPartecipazione gratuita previa prenotazione
URL:https://www.guidaartistica.com/evento/gocce-darte-itinerario-tra-le-fontane-di-brescia-4/
LOCATION:Teatro Grande\, corso Zanardelli\, Brescia
CATEGORIES:Visite guidate
ATTACH;FMTTYPE=image/jpeg:https://www.guidaartistica.com/wp-content/uploads/2014/06/passeggiate-artistiche-logo-colori.jpg
END:VEVENT
BEGIN:VEVENT
DTSTART;TZID=Europe/Rome:20240914T160000
DTEND;TZID=Europe/Rome:20240914T173000
DTSTAMP:20260424T201531
CREATED:20220110T140832Z
LAST-MODIFIED:20240905T142909Z
UID:5982-1726329600-1726335000@www.guidaartistica.com
SUMMARY:PALAZZO MAGGI GAMBARA AI CAPPUCCINI
DESCRIPTION:Uno splendido palazzo nobiliare nel cuore della città ci accoglie con sale affrescate e uno scenografico scalone progettato dall’architetto Marchetti\, uno dei più apprezzati del XVIII sec. Nella chiesa interna poi ammireremo sull’altar maggiore una grandiosa pala del Moretto\, originariamente commissionata per San Pietro in Oliveto. \n  \nVisita guidata organizzata da Guida Artistica\, gruppo di guide turistiche abilitate\, specializzate su Brescia\, Lago di Garda\, Franciacorta\, Lago d’Iseo e provincia di Brescia. \nBergamo-Brescia capitali della cultura 2023
URL:https://www.guidaartistica.com/evento/palazzo-maggi-gambara-ai-cappuccini-7/
LOCATION:centro paolo VI\, via Gezio Calini 30\, Brescia
CATEGORIES:Visite guidate
ATTACH;FMTTYPE=image/jpeg:https://www.guidaartistica.com/wp-content/uploads/2022/01/DSCF1783.jpg
END:VEVENT
BEGIN:VEVENT
DTSTART;TZID=Europe/Rome:20240920T210000
DTEND;TZID=Europe/Rome:20240920T223000
DTSTAMP:20260424T201531
CREATED:20190701T070515Z
LAST-MODIFIED:20240828T073239Z
UID:5973-1726866000-1726871400@www.guidaartistica.com
SUMMARY:NEL CAMPO DELL’AQUILA. I MARTINENGO: UN SOLO COGNOME\, TANTE FAMIGLIE
DESCRIPTION:Guida Artistica propone un itinerario serale sfizioso\, per passeggiare nella nostra bella città ed apprezzarne gli scorci più curiosi e suggestivi. Almeno una volta nella vita\, tutti hanno sentito parlare della famiglia Martinengo! Potente élite di condottieri\, si è distinta non solo per le imprese militari\, ma anche per i lussuosi palazzi che ancora oggi fanno bella mostra di sé tra piazze e vicoli della città. Non tutti sanno che numerosissimi sono i rami di questa stirpe: grazie a Guida Artistica potrete districarvi in questa “foresta” di nomi e ammirarne le sontuose dimore (dall’esterno) in una piacevole passeggiata serale. \nPrenotazione obbligatoria. \n  \nVisita guidata a Brescia organizzata da Guida Artistica\, gruppo di guide turistiche abilitate specializzate su Brescia\, lago di Garda\, Sebino\, Franciacorta\, Vallecamonica e tutta la provincia di Brescia.  Bergamo-Brescia Capitali della cultura 2023
URL:https://www.guidaartistica.com/evento/nel-campo-dellaquila-i-martinengo-un-solo-cognome-tante-famiglie-6/
LOCATION:tempio capitolino\, piazza del foro\, Brescia
CATEGORIES:Visite guidate
ATTACH;FMTTYPE=image/jpeg:https://www.guidaartistica.com/wp-content/uploads/2019/07/Martinengo-GuidaArtistica.jpg
END:VEVENT
BEGIN:VEVENT
DTSTART;TZID=Europe/Rome:20240921T153000
DTEND;TZID=Europe/Rome:20240921T173000
DTSTAMP:20260424T201531
CREATED:20240919T151041Z
LAST-MODIFIED:20241001T134546Z
UID:5984-1726932600-1726939800@www.guidaartistica.com
SUMMARY:IL GIARDINO DELLE MUSE
DESCRIPTION:Straordinaria possibilità di visitare la tenuta di una prestigiosa dimora nobiliare  a Collebeato (Bs). \nGuidati dalla narrazione di Guida Artistica passeggeremo nel parco all’inglese di Villa Martinengo Mazzola Panciera di Zoppola Bona\, nel vigneto\, nell’esedra e sul colle tra echi poetici\, mitologici e la storia secolare di una famiglia che continua a prendersi cura di un luogo di grande fascino. \nAl termine della passeggiata\, adatta a tutti\, ci attenderà un brindisi con un calice di Col Beato\, tenuta la Sinta\, vincitore della medaglia d’oro 2022 “emozioni dal mondo”.
URL:https://www.guidaartistica.com/evento/il-giardino-delle-muse/
CATEGORIES:Visite guidate
ATTACH;FMTTYPE=image/jpeg:https://www.guidaartistica.com/wp-content/uploads/2024/09/giardinoMuseconbrindisi.jpg
END:VEVENT
BEGIN:VEVENT
DTSTART;TZID=Europe/Rome:20240929T160000
DTEND;TZID=Europe/Rome:20240929T173000
DTSTAMP:20260424T201531
CREATED:20220606T171004Z
LAST-MODIFIED:20240828T071915Z
UID:5950-1727625600-1727631000@www.guidaartistica.com
SUMMARY:FIORI E CEMENTO: UN NUOVO ITINERARIO DI ART NOUVEU A BRESCIA
DESCRIPTION:Nuovo itinerario con lo sguardo in alto ad ammirare le facciate dei palazzi di primo novecento nella zona di via Venti Settembre a Brescia\, dove le famiglie borghesi emergenti commissionarono palazzi alla moda liberty o art nouveu (che dir si voglia) che imperversava in tutta Europa. \n  \nVisita guidata a Brescia organizzata da Guida Artistica\, gruppo di guide turistiche abilitate specializzate su Brescia\, lago di Garda\, Sebino\, Franciacorta\, Vallecamonica e tutta la provincia di Brescia.  Bergamo-Brescia Capitali della cultura 2023
URL:https://www.guidaartistica.com/evento/fiori-e-cemento-un-nuovo-itinerario-di-art-nouveu-a-brescia/
CATEGORIES:Visite guidate
ATTACH;FMTTYPE=image/jpeg:https://www.guidaartistica.com/wp-content/uploads/2022/06/fiori-cemento-GuidaArtistica.jpg
END:VEVENT
END:VCALENDAR