BEGIN:VCALENDAR
VERSION:2.0
PRODID:-//Guida Artistica - ECPv6.15.20//NONSGML v1.0//EN
CALSCALE:GREGORIAN
METHOD:PUBLISH
X-ORIGINAL-URL:https://www.guidaartistica.com
X-WR-CALDESC:Eventi per Guida Artistica
REFRESH-INTERVAL;VALUE=DURATION:PT1H
X-Robots-Tag:noindex
X-PUBLISHED-TTL:PT1H
BEGIN:VTIMEZONE
TZID:Europe/Rome
BEGIN:DAYLIGHT
TZOFFSETFROM:+0100
TZOFFSETTO:+0200
TZNAME:CEST
DTSTART:20230326T010000
END:DAYLIGHT
BEGIN:STANDARD
TZOFFSETFROM:+0200
TZOFFSETTO:+0100
TZNAME:CET
DTSTART:20231029T010000
END:STANDARD
BEGIN:DAYLIGHT
TZOFFSETFROM:+0100
TZOFFSETTO:+0200
TZNAME:CEST
DTSTART:20240331T010000
END:DAYLIGHT
BEGIN:STANDARD
TZOFFSETFROM:+0200
TZOFFSETTO:+0100
TZNAME:CET
DTSTART:20241027T010000
END:STANDARD
BEGIN:DAYLIGHT
TZOFFSETFROM:+0100
TZOFFSETTO:+0200
TZNAME:CEST
DTSTART:20250330T010000
END:DAYLIGHT
BEGIN:STANDARD
TZOFFSETFROM:+0200
TZOFFSETTO:+0100
TZNAME:CET
DTSTART:20251026T010000
END:STANDARD
END:VTIMEZONE
BEGIN:VEVENT
DTSTART;TZID=Europe/Rome:20241217T153000
DTEND;TZID=Europe/Rome:20241217T170000
DTSTAMP:20260424T154151
CREATED:20241028T115428Z
LAST-MODIFIED:20241125T094931Z
UID:6030-1734449400-1734454800@www.guidaartistica.com
SUMMARY:RINASCIMENTO A BRESCIA. MORETTO\, ROMANINO\, SAVOLDO 1512-1552
DESCRIPTION:Importante mostra al museo di Santa Giulia dedicata al rinascimento bresciano\, il periodo d’oro dell’arte pittorica a Brescia. \nA partire dal celeberrimo ritratto che Moretto fece a Fortunato Martinengo\, attraverso una quarantina di preziose opere (molte delle quali in prestito dall’estero)\, verrà indagato e ricotruito lo spirito del tempo.
URL:https://www.guidaartistica.com/evento/rinascimento-a-brescia-moretto-romanino-savoldo-1512-1552-5/
LOCATION:Museo di Santa Giulia\, via dei Musei\, Brescia
CATEGORIES:Visite guidate
ATTACH;FMTTYPE=image/jpeg:https://www.guidaartistica.com/wp-content/uploads/2024/10/Moretto_da_brescia_cesaresco.jpg
END:VEVENT
END:VCALENDAR