BEGIN:VCALENDAR
VERSION:2.0
PRODID:-//Guida Artistica - ECPv6.15.20//NONSGML v1.0//EN
CALSCALE:GREGORIAN
METHOD:PUBLISH
X-WR-CALNAME:Guida Artistica
X-ORIGINAL-URL:https://www.guidaartistica.com
X-WR-CALDESC:Eventi per Guida Artistica
REFRESH-INTERVAL;VALUE=DURATION:PT1H
X-Robots-Tag:noindex
X-PUBLISHED-TTL:PT1H
BEGIN:VTIMEZONE
TZID:Europe/Rome
BEGIN:DAYLIGHT
TZOFFSETFROM:+0100
TZOFFSETTO:+0200
TZNAME:CEST
DTSTART:20240331T010000
END:DAYLIGHT
BEGIN:STANDARD
TZOFFSETFROM:+0200
TZOFFSETTO:+0100
TZNAME:CET
DTSTART:20241027T010000
END:STANDARD
BEGIN:DAYLIGHT
TZOFFSETFROM:+0100
TZOFFSETTO:+0200
TZNAME:CEST
DTSTART:20250330T010000
END:DAYLIGHT
BEGIN:STANDARD
TZOFFSETFROM:+0200
TZOFFSETTO:+0100
TZNAME:CET
DTSTART:20251026T010000
END:STANDARD
BEGIN:DAYLIGHT
TZOFFSETFROM:+0100
TZOFFSETTO:+0200
TZNAME:CEST
DTSTART:20260329T010000
END:DAYLIGHT
BEGIN:STANDARD
TZOFFSETFROM:+0200
TZOFFSETTO:+0100
TZNAME:CET
DTSTART:20261025T010000
END:STANDARD
END:VTIMEZONE
BEGIN:VEVENT
DTSTART;TZID=Europe/Rome:20250104T150000
DTEND;TZID=Europe/Rome:20250104T163000
DTSTAMP:20260424T141944
CREATED:20241028T115428Z
LAST-MODIFIED:20241125T093116Z
UID:6027-1736002800-1736008200@www.guidaartistica.com
SUMMARY:RINASCIMENTO A BRESCIA. MORETTO\, ROMANINO\, SAVOLDO 1512-1552
DESCRIPTION:Importante mostra al museo di Santa Giulia dedicata al rinascimento bresciano\, il periodo d’oro dell’arte pittorica a Brescia. \nA partire dal celeberrimo ritratto che Moretto fece a Fortunato Martinengo\, attraverso una quarantina di preziose opere (molte delle quali in prestito dall’estero)\, verrà indagato e ricotruito lo spirito del tempo.
URL:https://www.guidaartistica.com/evento/rinascimento-a-brescia-moretto-romanino-savoldo-1512-1552-3/
LOCATION:Museo di Santa Giulia\, via dei Musei\, Brescia
CATEGORIES:Visite guidate
ATTACH;FMTTYPE=image/jpeg:https://www.guidaartistica.com/wp-content/uploads/2024/10/Moretto_da_brescia_cesaresco.jpg
END:VEVENT
BEGIN:VEVENT
DTSTART;TZID=Europe/Rome:20250111T100000
DTEND;TZID=Europe/Rome:20250111T113000
DTSTAMP:20260424T141944
CREATED:20150528T160436Z
LAST-MODIFIED:20241212T133906Z
UID:6032-1736589600-1736595000@www.guidaartistica.com
SUMMARY:Chiesa e chiostri di San Pietro in Oliveto in Castello
DESCRIPTION:  \n  \nIncastonato sulle pendici del Cidneo\, il convento di San Pietro in Oliveto ha tutto ciò che si potrebbe desiderare: una chiesa rinascimentale ricca di tesori artistici\, due chiostri ariosi\, un ampio giardino affacciato in posizione panoramica sulla città\, una biblioteca ricca e una comunità di frati vivace ed accogliente. \nGuida Artistica in questo appuntamento vi guiderà all’interno della Chiesa per scoprire l’interessante progetto che l’ha interessata fin dall’origine: le opere d’arte sono state concepite infatti sia per “decorare” l’edificio che per trasmettere ai fedeli (spesso analfabeti) un importante messaggio religioso. Paolo Da Caylina  e Andrea Celesti sono i nomi che spiccano\, ma notevoli sono anche le 6 lunette dipinte alla fine del XVII che gli studiosi considerano il più bel ciclo pittorico bresciano dell’epoca. \nAmmireremo anche i chiostri con il bel pozzo\, la misteriosa cappella di San Barnaba collocata nelle adiacenze della chiesa e le due sagrestie (si avete letto bene\, sono due!) che normalmente non sono aperte al pubblico. \nTermineremo nel vasto giardino\, abbracciando con lo sguardo tutta la città. \n  \n  \n 
URL:https://www.guidaartistica.com/evento/chiesa-e-chiostri-di-san-pietro-in-oliveto-in-castello-5/
LOCATION:chiesa di San Pietro in Oliveto in Castello\, via Brigida Avogadro\, Brescia
CATEGORIES:Visite guidate
ATTACH;FMTTYPE=image/jpeg:https://www.guidaartistica.com/wp-content/uploads/2014/06/Vista-aerea-San-Pietro.jpg
END:VEVENT
BEGIN:VEVENT
DTSTART;TZID=Europe/Rome:20250118T100000
DTEND;TZID=Europe/Rome:20250118T113000
DTSTAMP:20260424T141944
CREATED:20161201T073015Z
LAST-MODIFIED:20241231T045406Z
UID:6048-1737194400-1737199800@www.guidaartistica.com
SUMMARY:La chiesa di Sant'Angela Merici a Brescia
DESCRIPTION:La Chiesa di S.Angela Merici è un luogo ricco di storia\, di cui è rimasta traccia oltre che nelle diverse denominazioni che ha assunto l’edificio nel tempo (per molti secoli fu dedicato a S.Afra)\, anche nelle opere d’arte che lo impreziosiscono (tra le quali spicca un bel polittico di Paolo da Caylina il Giovane)\, senza dimenticare che qui è conservato il corpo di S.Angela Merici (fondatrice dell’ordine delle suore Orsoline e co-patrona della città). \n  \nVisita guidata organizzata da Guida Artistica\, gruppo di guide turistiche abilitate specializzate su Brescia\, lago di Garda\, Sebino\, Franciacorta\, Vallecamonica e tutta la provincia di Brescia.  Brescia capitale della cultura 2023. \n 
URL:https://www.guidaartistica.com/evento/la-chiesa-di-santangela-merici-a-brescia/
LOCATION:chiesa di S.Angela Merici\, via Crispi 21\, Brescia
CATEGORIES:Visite guidate
ATTACH;FMTTYPE=image/jpeg:https://www.guidaartistica.com/wp-content/uploads/2016/12/polittico-PAOLO-DA-CAYLINA-dettaglio.jpg
END:VEVENT
BEGIN:VEVENT
DTSTART;TZID=Europe/Rome:20250118T153000
DTEND;TZID=Europe/Rome:20250118T170000
DTSTAMP:20260424T141944
CREATED:20220302T204654Z
LAST-MODIFIED:20241126T104800Z
UID:6033-1737214200-1737219600@www.guidaartistica.com
SUMMARY:L'ORATORIO DEI DISCIPLINI E LA CHIESA DI SANT'ANTONINO - MOMPIANO
DESCRIPTION:Apertura straordinaria di un luogo normalmente chiuso al pubblico. \nIngredienti di un pomeriggio speciale: l’antico monte Denno\, il colle San Giuseppe\, un santo appartenente alla vera elite del Paradiso e abbondanti corsi d’acqua. Shakerare qualche minuto ed ecco il risultato: la bella disciplina di San Cristoforo a Mompiano\, il cui recente restauro ha restituito preziosi affreschi del XV-XVI sec. \nLa visita sarà l’occasione per conoscere anche la chiesa di Sant’Antonino e la storia di Mompiano\, comune autonomo fino al 1880. \n  \n  \nVisita guidata organizzata da Guida Artistica\, gruppo di guide turistiche abilitate specializzate su Brescia\, lago di Garda\, Sebino\, Franciacorta\, Vallecamonica e tutta la provincia di Brescia. Arte e storia  oltre Bergamo Brescia capitali della cultura 2023.
URL:https://www.guidaartistica.com/evento/loratorio-dei-disciplini-e-la-chiesa-di-santantonino-mompiano-6/
CATEGORIES:Visite guidate
ATTACH;FMTTYPE=image/jpeg:https://www.guidaartistica.com/wp-content/uploads/2022/03/Mompiano-disciplini.jpg
END:VEVENT
BEGIN:VEVENT
DTSTART;TZID=Europe/Rome:20250119T153000
DTEND;TZID=Europe/Rome:20250119T170000
DTSTAMP:20260424T141944
CREATED:20160404T065438Z
LAST-MODIFIED:20241217T110651Z
UID:6038-1737300600-1737306000@www.guidaartistica.com
SUMMARY:La Chiesa di Santa Maria della Pace
DESCRIPTION:Costruita all’inizio del Settecento per la Congregazione dei Filippini su progetto del veneziano Giorgio Massari\, la chiesa di Santa Maria della Pace\, con la sua facciata incompiuta\, a semplici mattoni\, svela al visitatore il suo interno maestoso e severo. Con Guida Artistica rimarrete abbagliati dai grandiosi altari in marmo e dalle smaglianti pale d’altare\, tra cui spicca la luminosa “Presentazione al Tempio” di Pompeo Batoni.
URL:https://www.guidaartistica.com/evento/la-chiesa-di-santa-maria-della-pace-7/
LOCATION:Chiesa di Santa Maria della Pace\, via Pace\, Brescia\, Italia
CATEGORIES:Visite guidate
ATTACH;FMTTYPE=image/jpeg:https://www.guidaartistica.com/wp-content/uploads/2016/04/chiesapace.jpg
END:VEVENT
BEGIN:VEVENT
DTSTART;TZID=Europe/Rome:20250125T100000
DTEND;TZID=Europe/Rome:20250125T113000
DTSTAMP:20260424T141944
CREATED:20211025T152718Z
LAST-MODIFIED:20241230T144836Z
UID:6041-1737799200-1737804600@www.guidaartistica.com
SUMMARY:PALAZZO DELLA LOGGIA A BRESCIA
DESCRIPTION: Palazzo della Loggia è forse il più emblematico edificio della città: iniziato nel 1492\, ebbe una storia edificativa travagliata che gli fece assumere l’aspetto attuale solo il secolo scorso.\nSimbolo del potere veneziano in città\, fu realizzato da artisti di fama in squisito stile rinascimentale.\nAvremo l’opportunità di ammirarne gli interni scoprendone gli ambienti decorati\, lo scalone principale\, le particolarità del salone Vanvitelliano\, la sala della Giunta e quella del Consiglio Comunale. Visiteremo inoltre la straordinaria sala dei Giudici\, tornata alla luce una decina di anni fa durante lavori di sistemazione interni al palazzo. In questo ambiente i fratelli Campi realizzarono un ciclo di affreschi sul tema della giustizia e della lealtà della legge\, che unisce i valori civili ad una straordinaria capacità artistica.\n\n\n\nEvento organizzato da Guida Artistica\, guite turistiche di Brescia\, capitale della Cultura 2023.
URL:https://www.guidaartistica.com/evento/palazzo-della-loggia-10/
LOCATION:PIAZZA DELLA LOGGIA
CATEGORIES:Visite guidate
ATTACH;FMTTYPE=image/jpeg:https://www.guidaartistica.com/wp-content/uploads/2021/10/831.jpg
END:VEVENT
BEGIN:VEVENT
DTSTART;TZID=Europe/Rome:20250125T150000
DTEND;TZID=Europe/Rome:20250125T163000
DTSTAMP:20260424T141944
CREATED:20170627T095714Z
LAST-MODIFIED:20250109T113003Z
UID:6050-1737817200-1737822600@www.guidaartistica.com
SUMMARY:BASILICA E SANTUARIO DI SANTA MARIA DELLE GRAZIE
DESCRIPTION:Il complesso della Madonna delle Grazie è molto caro ai bresciani devoti\, che in particolare si ritrovano qui ogni  8 settembre per la festa della nascita di Maria. Anche Papa Paolo VI inviò diversi messaggi per questa ricorrenza quando non poteva essere a Brescia\, dato che era particolarmente legato a questo luogo (la sua famiglia abitava a fianco della chiesa e in questo  Santuario il 30 maggio 1920 celebrò la sua prima messa). \nOggi il complesso si compone di una suntuosa chiesa\, di un chiostro e del santuario che visiteremo tutti nell’appuntamento di Guida Artistica. \nLa Basilica fu edificata in soli diciassette anni a partire dal 1522 e fu poi arricchita nel secolo successivo da stucchi\, affreschi e dorature di epoca manierista e da numerosi dipinti tra cui spiccano la pala dell’altare maggiore del Moretto e tele del Bagnadore\, di Paolo da Caylina il Giovane e di Antonio Gandino. Il Santuario fu progettato  in stile neogotico  dall’arch.Tagliaferri ed è appena stato restaurato: questa è l’occasione giusta per ammirarlo insieme in tutto il suo splendore. \n  \nVisita guidata a Brescia organizzata da Guida Artistica\, gruppo di guide turistiche abilitate specializzate su Brescia\, lago di Garda\, Sebino\, Franciacorta\, Vallecamonica e tutta la provincia di Brescia.
URL:https://www.guidaartistica.com/evento/basilica-e-santuario-di-santa-maria-delle-grazie-11/
LOCATION:Chiesa e Santuario di Santa Maria delle Grazie\, via delle Grazie\, Brescia\, Italia
CATEGORIES:Visite guidate
ATTACH;FMTTYPE=image/jpeg:https://www.guidaartistica.com/wp-content/uploads/2017/06/interno-stupendo.jpg
END:VEVENT
BEGIN:VEVENT
DTSTART;TZID=Europe/Rome:20250126T153000
DTEND;TZID=Europe/Rome:20250126T164500
DTSTAMP:20260424T141944
CREATED:20140922T111529Z
LAST-MODIFIED:20241231T045207Z
UID:6046-1737905400-1737909900@www.guidaartistica.com
SUMMARY:Il Santuario di Santa Maria dei Miracoli
DESCRIPTION:Costruito dalla Municipalità cittadina per dare adeguata collocazione ad un’immagine miracolosa della Madonna\, il Santuario di Santa Maria dei Miracoli accoglie il fedele con una facciata dalla forma curiosa e decorata da ricchissimi altorilievi: animali fantastici\, simboli cristiani\, misteriosi cartigli si sviluppano in un intreccio complicato\, che solo gli uomini colti del Rinascimento sapevano decodificare. Guida Artistica ve lo saprà svelare con linguaggio semplice e una narrativa coinvolgente e vi accompagnerà anche tra le preziose opere d’arte dell’interno\, tra cui spiccano le grandi tele del presbiterio dedicate alla vita della Vergine (vero compendio della migliore pittura bresciana della fine del XVI secolo).\nContributo di partecipazione euro 10\, gratis under 18 accompagnati.\nPrenotazione obbligatoria.
URL:https://www.guidaartistica.com/evento/il-santuario-di-santa-maria-dei-miracoli-8/
LOCATION:Santuario di Santa Maria dei Miracoli\, corso Martiri della Libertà\, Brescia\, Italia
CATEGORIES:Visite guidate
ATTACH;FMTTYPE=image/jpeg:https://www.guidaartistica.com/wp-content/uploads/2014/07/miracoli.jpg
END:VEVENT
END:VCALENDAR