BEGIN:VCALENDAR
VERSION:2.0
PRODID:-//Guida Artistica - ECPv6.15.20//NONSGML v1.0//EN
CALSCALE:GREGORIAN
METHOD:PUBLISH
X-WR-CALNAME:Guida Artistica
X-ORIGINAL-URL:https://www.guidaartistica.com
X-WR-CALDESC:Eventi per Guida Artistica
REFRESH-INTERVAL;VALUE=DURATION:PT1H
X-Robots-Tag:noindex
X-PUBLISHED-TTL:PT1H
BEGIN:VTIMEZONE
TZID:Europe/Rome
BEGIN:DAYLIGHT
TZOFFSETFROM:+0100
TZOFFSETTO:+0200
TZNAME:CEST
DTSTART:20240331T010000
END:DAYLIGHT
BEGIN:STANDARD
TZOFFSETFROM:+0200
TZOFFSETTO:+0100
TZNAME:CET
DTSTART:20241027T010000
END:STANDARD
BEGIN:DAYLIGHT
TZOFFSETFROM:+0100
TZOFFSETTO:+0200
TZNAME:CEST
DTSTART:20250330T010000
END:DAYLIGHT
BEGIN:STANDARD
TZOFFSETFROM:+0200
TZOFFSETTO:+0100
TZNAME:CET
DTSTART:20251026T010000
END:STANDARD
BEGIN:DAYLIGHT
TZOFFSETFROM:+0100
TZOFFSETTO:+0200
TZNAME:CEST
DTSTART:20260329T010000
END:DAYLIGHT
BEGIN:STANDARD
TZOFFSETFROM:+0200
TZOFFSETTO:+0100
TZNAME:CET
DTSTART:20261025T010000
END:STANDARD
END:VTIMEZONE
BEGIN:VEVENT
DTSTART;TZID=Europe/Rome:20250301T100000
DTEND;TZID=Europe/Rome:20250301T110000
DTSTAMP:20260424T111954
CREATED:20160227T103921Z
LAST-MODIFIED:20250127T222518Z
UID:6071-1740823200-1740826800@www.guidaartistica.com
SUMMARY:La sala delle Dame a Palazzo Salvadego
DESCRIPTION:Guida Artistica organizza una visita esclusiva alla “Sala delle Dame”\, preziosissimo ambiente affrescato dal Moretto e dalla sua bottega per il palazzo patrizio della famiglia Martinengo da Padernello. Un tuffo nel passato per conoscere la storia di questa illustre famiglia ed apprezzarne l’elegante gusto\, grazie ai meravigliosi affreschi conservati. \n 
URL:https://www.guidaartistica.com/evento/la-sala-delle-dame-a-palazzo-salvadego-5/
CATEGORIES:Visite guidate
ATTACH;FMTTYPE=image/jpeg:https://www.guidaartistica.com/wp-content/uploads/2016/02/saladelleDame.jpg
ORGANIZER;CN="Guida Artistica":MAILTO:info@guidaartistica.com
END:VEVENT
BEGIN:VEVENT
DTSTART;TZID=Europe/Rome:20250301T150000
DTEND;TZID=Europe/Rome:20250301T163000
DTSTAMP:20260424T111954
CREATED:20241115T071741Z
LAST-MODIFIED:20260120T090347Z
UID:6074-1740841200-1740846600@www.guidaartistica.com
SUMMARY:LA MODA NEL RINASCIMENTO BRESCIANO ALLA PINACOTECA TOSIO MARTINENGO
DESCRIPTION:Visita guidata speciale alla collezione rinascimentale della Pinacoteca Tosio Martinengo di Brescia con focus sulla moda dell’epoca tra dettagli raffinati e status symbol…perchè “la moda non è qualcosa che esiste solo sotto forma di abiti. La moda è nel cielo\, nelle strade\, la moda ha a che fare con le idee\, il modo in cui viviamo\, ciò che accade” Cocò Chanel.
URL:https://www.guidaartistica.com/evento/la-moda-nel-rinascimento-bresciano-alla-pinacoteca-tosio-martinengo-2/
LOCATION:Pinacoteca Tosio Martinengo\, piazza Moretto n.4\, Brescia\, Italia
CATEGORIES:Visite guidate
ATTACH;FMTTYPE=image/jpeg:https://www.guidaartistica.com/wp-content/uploads/2024/11/modainPinacoteca.jpg
END:VEVENT
BEGIN:VEVENT
DTSTART;TZID=Europe/Rome:20250307T100000
DTEND;TZID=Europe/Rome:20250307T113000
DTSTAMP:20260424T111954
CREATED:20250227T090414Z
LAST-MODIFIED:20250227T090414Z
UID:6080-1741341600-1741347000@www.guidaartistica.com
SUMMARY:PALAZZO CALINI AI FIUMI-BRESCIA
DESCRIPTION:Apertura straordinaria di Palazzo Calini ai Fiumi\, oggi sede della facoltà di Giurisprudenza di UNIBS. \nSituato nel cuore del quartiere del Carmine\, mostra l’evoluzione di gusto delle dimore cittadine dal tardo medioevo all’epoca barocca. Ammireremo soffitti a tavelle in legno dipinto\, sale ammantate d’affreschi\, lo scalone d’onore con l’allegoria delle virtù famigliari e l’aula magna ipogea con un pezzo delle anche mura urbiche…. \nVi aspettiamo!
URL:https://www.guidaartistica.com/evento/palazzo-calini-ai-fiumi-brescia/
LOCATION:Palazzo Calini ai Fiumi
CATEGORIES:Visite guidate
ATTACH;FMTTYPE=image/jpeg:https://www.guidaartistica.com/wp-content/uploads/2025/02/P_20160429_142555.jpg
END:VEVENT
BEGIN:VEVENT
DTSTART;TZID=Europe/Rome:20250315T153000
DTEND;TZID=Europe/Rome:20250315T170000
DTSTAMP:20260424T111954
CREATED:20220606T171004Z
LAST-MODIFIED:20250310T105112Z
UID:6084-1742052600-1742058000@www.guidaartistica.com
SUMMARY:FIORI E CEMENTO: UN NUOVO ITINERARIO DI ART NOUVEAU A BRESCIA
DESCRIPTION:Nuovo itinerario con lo sguardo in alto ad ammirare le facciate dei palazzi di primo novecento nella zona di via Venti Settembre a Brescia\, dove le famiglie borghesi emergenti commissionarono palazzi alla moda liberty o art nouveu (che dir si voglia) che imperversava in tutta Europa. \n  \nVisita guidata a Brescia organizzata da Guida Artistica\, gruppo di guide turistiche abilitate specializzate su Brescia\, lago di Garda\, Sebino\, Franciacorta\, Vallecamonica e tutta la provincia di Brescia.  Bergamo-Brescia Capitali della cultura 2023
URL:https://www.guidaartistica.com/evento/fiori-e-cemento-un-nuovo-itinerario-di-art-nouveu-a-brescia-3/
CATEGORIES:Visite guidate
ATTACH;FMTTYPE=image/jpeg:https://www.guidaartistica.com/wp-content/uploads/2022/06/fioricemento.jpg
END:VEVENT
BEGIN:VEVENT
DTSTART;TZID=Europe/Rome:20250315T174000
DTEND;TZID=Europe/Rome:20250315T191000
DTSTAMP:20260424T111954
CREATED:20250123T080833Z
LAST-MODIFIED:20250310T105138Z
UID:6076-1742060400-1742065800@www.guidaartistica.com
SUMMARY:LA BELLE EPOQUE. L'ARTE  NELLA PARIGI DI BOLDINI E DE NITTIS
DESCRIPTION:Brulicanti caffè\, affollate piazze parigine\, serate a teatro\, signore seducenti\, momenti di vita quotidiana di inizio 900 sono ciò che immortalarono i pittori italiani a Parigi\, capitale della modernità e della cultura. In mostra ammireremo oltre 100 opere di Boldini e De Nittis ma anche Mancini\, Zandomeneci e Corcos\, provenienti da collezioni private ma anche da prestigiosi musei (come gli Uffizi e palazzo Te). Grazie alla visita guidata di Guida Artistica ci immergeremo nell’atmosfera elegante e vitale dell’età dell’oro parigina. \n  \nContributo di partecipazione euro 25 comprensivo di biglietto d’ingresso\, visita guidata e auricolari. \nVisita guidata a Brescia organizzata da Guida Artistica\, gruppo di guide turistiche abilitate specializzate su Brescia\, lago di Garda\, Sebino\, Franciacorta\, Vallecamonica e tutta la provincia di Brescia. \n 
URL:https://www.guidaartistica.com/evento/la-belle-epoque-larte-nella-parigi-di-boldini-e-de-nittis-7/
LOCATION:Palazzo Martinengo Cesaresco – sede della Provincia di Brescia\, via Musei 32\, Brescia
CATEGORIES:Visite guidate
ATTACH;FMTTYPE=image/jpeg:https://www.guidaartistica.com/wp-content/uploads/2025/01/1-Corcos-Due-ragazze-con-uccellino.-Collezione-privata-2-scaled-1.jpg
END:VEVENT
BEGIN:VEVENT
DTSTART;TZID=Europe/Rome:20250316T170000
DTEND;TZID=Europe/Rome:20250316T183000
DTSTAMP:20260424T111954
CREATED:20250123T080833Z
LAST-MODIFIED:20250310T105026Z
UID:6077-1742144400-1742149800@www.guidaartistica.com
SUMMARY:LA BELLE EPOQUE. L'ARTE  NELLA PARIGI DI BOLDINI E DE NITTIS
DESCRIPTION:Brulicanti caffè\, affollate piazze parigine\, serate a teatro\, signore seducenti\, momenti di vita quotidiana di inizio 900 sono ciò che immortalarono i pittori italiani a Parigi\, capitale della modernità e della cultura. In mostra ammireremo oltre 100 opere di Boldini e De Nittis ma anche Mancini\, Zandomeneci e Corcos\, provenienti da collezioni private ma anche da prestigiosi musei (come gli Uffizi e palazzo Te). Grazie alla visita guidata di Guida Artistica ci immergeremo nell’atmosfera elegante e vitale dell’età dell’oro parigina. \n  \nContributo di partecipazione euro 25 comprensivo di biglietto d’ingresso\, visita guidata e auricolari. \nVisita guidata a Brescia organizzata da Guida Artistica\, gruppo di guide turistiche abilitate specializzate su Brescia\, lago di Garda\, Sebino\, Franciacorta\, Vallecamonica e tutta la provincia di Brescia. \n 
URL:https://www.guidaartistica.com/evento/la-belle-epoque-larte-nella-parigi-di-boldini-e-de-nittis-8/
LOCATION:Palazzo Martinengo Cesaresco – sede della Provincia di Brescia\, via Musei 32\, Brescia
CATEGORIES:Visite guidate
ATTACH;FMTTYPE=image/jpeg:https://www.guidaartistica.com/wp-content/uploads/2025/01/1-Corcos-Due-ragazze-con-uccellino.-Collezione-privata-2-scaled-1.jpg
END:VEVENT
BEGIN:VEVENT
DTSTART;TZID=Europe/Rome:20250320T152000
DTEND;TZID=Europe/Rome:20250320T165000
DTSTAMP:20260424T111954
CREATED:20250123T080833Z
LAST-MODIFIED:20250310T104919Z
UID:6078-1742484000-1742489400@www.guidaartistica.com
SUMMARY:LA BELLE EPOQUE. L'ARTE  NELLA PARIGI DI BOLDINI E DE NITTIS
DESCRIPTION:Brulicanti caffè\, affollate piazze parigine\, serate a teatro\, signore seducenti\, momenti di vita quotidiana di inizio 900 sono ciò che immortalarono i pittori italiani a Parigi\, capitale della modernità e della cultura. In mostra ammireremo oltre 100 opere di Boldini e De Nittis ma anche Mancini\, Zandomeneci e Corcos\, provenienti da collezioni private ma anche da prestigiosi musei (come gli Uffizi e palazzo Te). Grazie alla visita guidata di Guida Artistica ci immergeremo nell’atmosfera elegante e vitale dell’età dell’oro parigina. \n  \nContributo di partecipazione euro 25 comprensivo di biglietto d’ingresso\, visita guidata e auricolari. \nVisita guidata a Brescia organizzata da Guida Artistica\, gruppo di guide turistiche abilitate specializzate su Brescia\, lago di Garda\, Sebino\, Franciacorta\, Vallecamonica e tutta la provincia di Brescia. \n 
URL:https://www.guidaartistica.com/evento/la-belle-epoque-larte-nella-parigi-di-boldini-e-de-nittis-9/
LOCATION:Palazzo Martinengo Cesaresco – sede della Provincia di Brescia\, via Musei 32\, Brescia
CATEGORIES:Visite guidate
ATTACH;FMTTYPE=image/jpeg:https://www.guidaartistica.com/wp-content/uploads/2025/01/1-Corcos-Due-ragazze-con-uccellino.-Collezione-privata-2-scaled-1.jpg
END:VEVENT
BEGIN:VEVENT
DTSTART;TZID=Europe/Rome:20250323T150000
DTEND;TZID=Europe/Rome:20250323T163000
DTSTAMP:20260424T111954
CREATED:20170627T095714Z
LAST-MODIFIED:20250310T163329Z
UID:6102-1742742000-1742747400@www.guidaartistica.com
SUMMARY:BASILICA E SANTUARIO DI SANTA MARIA DELLE GRAZIE
DESCRIPTION:Il complesso della Madonna delle Grazie è molto caro ai bresciani devoti\, che in particolare si ritrovano qui ogni  8 settembre per la festa della nascita di Maria. Anche Papa Paolo VI inviò diversi messaggi per questa ricorrenza quando non poteva essere a Brescia\, dato che era particolarmente legato a questo luogo (la sua famiglia abitava a fianco della chiesa e in questo  Santuario il 30 maggio 1920 celebrò la sua prima messa). \nOggi il complesso si compone di una suntuosa chiesa\, di un chiostro e del santuario che visiteremo tutti nell’appuntamento di Guida Artistica. \nLa Basilica fu edificata in soli diciassette anni a partire dal 1522 e fu poi arricchita nel secolo successivo da stucchi\, affreschi e dorature di epoca manierista e da numerosi dipinti tra cui spiccano la pala dell’altare maggiore del Moretto e tele del Bagnadore\, di Paolo da Caylina il Giovane e di Antonio Gandino. Il Santuario fu progettato  in stile neogotico  dall’arch.Tagliaferri ed è appena stato restaurato: questa è l’occasione giusta per ammirarlo insieme in tutto il suo splendore. \n  \nVisita guidata a Brescia organizzata da Guida Artistica\, gruppo di guide turistiche abilitate specializzate su Brescia\, lago di Garda\, Sebino\, Franciacorta\, Vallecamonica e tutta la provincia di Brescia.
URL:https://www.guidaartistica.com/evento/basilica-e-santuario-di-santa-maria-delle-grazie-13/
LOCATION:Chiesa e Santuario di Santa Maria delle Grazie\, via delle Grazie\, Brescia\, Italia
CATEGORIES:Visite guidate
ATTACH;FMTTYPE=image/jpeg:https://www.guidaartistica.com/wp-content/uploads/2017/06/interno-stupendo.jpg
END:VEVENT
BEGIN:VEVENT
DTSTART;TZID=Europe/Rome:20250329T100000
DTEND;TZID=Europe/Rome:20250329T113000
DTSTAMP:20260424T111954
CREATED:20211025T152718Z
LAST-MODIFIED:20250127T221656Z
UID:6066-1743242400-1743247800@www.guidaartistica.com
SUMMARY:PALAZZO DELLA LOGGIA A BRESCIA
DESCRIPTION: Palazzo della Loggia è forse il più emblematico edificio della città: iniziato nel 1492\, ebbe una storia edificativa travagliata che gli fece assumere l’aspetto attuale solo il secolo scorso.\nSimbolo del potere veneziano in città\, fu realizzato da artisti di fama in squisito stile rinascimentale.\nAvremo l’opportunità di ammirarne gli interni scoprendone gli ambienti decorati\, lo scalone principale\, le particolarità del salone Vanvitelliano\, la sala della Giunta e quella del Consiglio Comunale. Visiteremo inoltre la straordinaria sala dei Giudici\, tornata alla luce una decina di anni fa durante lavori di sistemazione interni al palazzo. In questo ambiente i fratelli Campi realizzarono un ciclo di affreschi sul tema della giustizia e della lealtà della legge\, che unisce i valori civili ad una straordinaria capacità artistica.\n\n\n\nEvento organizzato da Guida Artistica\, guite turistiche di Brescia\, capitale della Cultura 2023.
URL:https://www.guidaartistica.com/evento/palazzo-della-loggia-a-brescia/
LOCATION:PIAZZA DELLA LOGGIA
CATEGORIES:Visite guidate
ATTACH;FMTTYPE=image/jpeg:https://www.guidaartistica.com/wp-content/uploads/2021/10/831.jpg
END:VEVENT
BEGIN:VEVENT
DTSTART;TZID=Europe/Rome:20250330T170000
DTEND;TZID=Europe/Rome:20250330T183000
DTSTAMP:20260424T111954
CREATED:20250123T080833Z
LAST-MODIFIED:20250310T105008Z
UID:6079-1743354000-1743359400@www.guidaartistica.com
SUMMARY:LA BELLE EPOQUE. L'ARTE  NELLA PARIGI DI BOLDINI E DE NITTIS
DESCRIPTION:Brulicanti caffè\, affollate piazze parigine\, serate a teatro\, signore seducenti\, momenti di vita quotidiana di inizio 900 sono ciò che immortalarono i pittori italiani a Parigi\, capitale della modernità e della cultura. In mostra ammireremo oltre 100 opere di Boldini e De Nittis ma anche Mancini\, Zandomeneci e Corcos\, provenienti da collezioni private ma anche da prestigiosi musei (come gli Uffizi e palazzo Te). Grazie alla visita guidata di Guida Artistica ci immergeremo nell’atmosfera elegante e vitale dell’età dell’oro parigina. \n  \nContributo di partecipazione euro 25 comprensivo di biglietto d’ingresso\, visita guidata e auricolari. \nVisita guidata a Brescia organizzata da Guida Artistica\, gruppo di guide turistiche abilitate specializzate su Brescia\, lago di Garda\, Sebino\, Franciacorta\, Vallecamonica e tutta la provincia di Brescia. \n 
URL:https://www.guidaartistica.com/evento/la-belle-epoque-larte-nella-parigi-di-boldini-e-de-nittis-10/
LOCATION:Palazzo Martinengo Cesaresco – sede della Provincia di Brescia\, via Musei 32\, Brescia
CATEGORIES:Visite guidate
ATTACH;FMTTYPE=image/jpeg:https://www.guidaartistica.com/wp-content/uploads/2025/01/1-Corcos-Due-ragazze-con-uccellino.-Collezione-privata-2-scaled-1.jpg
END:VEVENT
END:VCALENDAR