BEGIN:VCALENDAR
VERSION:2.0
PRODID:-//Guida Artistica - ECPv6.15.20//NONSGML v1.0//EN
CALSCALE:GREGORIAN
METHOD:PUBLISH
X-ORIGINAL-URL:https://www.guidaartistica.com
X-WR-CALDESC:Eventi per Guida Artistica
REFRESH-INTERVAL;VALUE=DURATION:PT1H
X-Robots-Tag:noindex
X-PUBLISHED-TTL:PT1H
BEGIN:VTIMEZONE
TZID:Europe/Rome
BEGIN:DAYLIGHT
TZOFFSETFROM:+0100
TZOFFSETTO:+0200
TZNAME:CEST
DTSTART:20240331T010000
END:DAYLIGHT
BEGIN:STANDARD
TZOFFSETFROM:+0200
TZOFFSETTO:+0100
TZNAME:CET
DTSTART:20241027T010000
END:STANDARD
BEGIN:DAYLIGHT
TZOFFSETFROM:+0100
TZOFFSETTO:+0200
TZNAME:CEST
DTSTART:20250330T010000
END:DAYLIGHT
BEGIN:STANDARD
TZOFFSETFROM:+0200
TZOFFSETTO:+0100
TZNAME:CET
DTSTART:20251026T010000
END:STANDARD
BEGIN:DAYLIGHT
TZOFFSETFROM:+0100
TZOFFSETTO:+0200
TZNAME:CEST
DTSTART:20260329T010000
END:DAYLIGHT
BEGIN:STANDARD
TZOFFSETFROM:+0200
TZOFFSETTO:+0100
TZNAME:CET
DTSTART:20261025T010000
END:STANDARD
END:VTIMEZONE
BEGIN:VEVENT
DTSTART;TZID=Europe/Rome:20250403T152000
DTEND;TZID=Europe/Rome:20250403T170000
DTSTAMP:20260424T094552
CREATED:20250123T080833Z
LAST-MODIFIED:20250310T105357Z
UID:6091-1743693600-1743699600@www.guidaartistica.com
SUMMARY:LA BELLE EPOQUE. L'ARTE  NELLA PARIGI DI BOLDINI E DE NITTIS
DESCRIPTION:Brulicanti caffè\, affollate piazze parigine\, serate a teatro\, signore seducenti\, momenti di vita quotidiana di inizio 900 sono ciò che immortalarono i pittori italiani a Parigi\, capitale della modernità e della cultura. In mostra ammireremo oltre 100 opere di Boldini e De Nittis ma anche Mancini\, Zandomeneci e Corcos\, provenienti da collezioni private ma anche da prestigiosi musei (come gli Uffizi e palazzo Te). Grazie alla visita guidata di Guida Artistica ci immergeremo nell’atmosfera elegante e vitale dell’età dell’oro parigina. \n  \nContributo di partecipazione euro 25 comprensivo di biglietto d’ingresso\, visita guidata e auricolari. \nVisita guidata a Brescia organizzata da Guida Artistica\, gruppo di guide turistiche abilitate specializzate su Brescia\, lago di Garda\, Sebino\, Franciacorta\, Vallecamonica e tutta la provincia di Brescia. \n 
URL:https://www.guidaartistica.com/evento/la-belle-epoque-larte-nella-parigi-di-boldini-e-de-nittis-11/
LOCATION:Palazzo Martinengo Cesaresco – sede della Provincia di Brescia\, via Musei 32\, Brescia
CATEGORIES:Visite guidate
ATTACH;FMTTYPE=image/jpeg:https://www.guidaartistica.com/wp-content/uploads/2025/01/1-Corcos-Due-ragazze-con-uccellino.-Collezione-privata-2-scaled-1.jpg
END:VEVENT
BEGIN:VEVENT
DTSTART;TZID=Europe/Rome:20250412T172000
DTEND;TZID=Europe/Rome:20250412T185000
DTSTAMP:20260424T094552
CREATED:20250123T080833Z
LAST-MODIFIED:20250310T105716Z
UID:6094-1744478400-1744483800@www.guidaartistica.com
SUMMARY:LA BELLE EPOQUE. L'ARTE  NELLA PARIGI DI BOLDINI E DE NITTIS
DESCRIPTION:Brulicanti caffè\, affollate piazze parigine\, serate a teatro\, signore seducenti\, momenti di vita quotidiana di inizio 900 sono ciò che immortalarono i pittori italiani a Parigi\, capitale della modernità e della cultura. In mostra ammireremo oltre 100 opere di Boldini e De Nittis ma anche Mancini\, Zandomeneci e Corcos\, provenienti da collezioni private ma anche da prestigiosi musei (come gli Uffizi e palazzo Te). Grazie alla visita guidata di Guida Artistica ci immergeremo nell’atmosfera elegante e vitale dell’età dell’oro parigina. \n  \nContributo di partecipazione euro 25 comprensivo di biglietto d’ingresso\, visita guidata e auricolari. \nVisita guidata a Brescia organizzata da Guida Artistica\, gruppo di guide turistiche abilitate specializzate su Brescia\, lago di Garda\, Sebino\, Franciacorta\, Vallecamonica e tutta la provincia di Brescia. \n 
URL:https://www.guidaartistica.com/evento/la-belle-epoque-larte-nella-parigi-di-boldini-e-de-nittis-13/
LOCATION:Palazzo Martinengo Cesaresco – sede della Provincia di Brescia\, via Musei 32\, Brescia
CATEGORIES:Visite guidate
ATTACH;FMTTYPE=image/jpeg:https://www.guidaartistica.com/wp-content/uploads/2025/01/1-Corcos-Due-ragazze-con-uccellino.-Collezione-privata-2-scaled-1.jpg
END:VEVENT
BEGIN:VEVENT
DTSTART;TZID=Europe/Rome:20250413T102000
DTEND;TZID=Europe/Rome:20250413T120000
DTSTAMP:20260424T094552
CREATED:20250123T080833Z
LAST-MODIFIED:20250310T105549Z
UID:6095-1744539600-1744545600@www.guidaartistica.com
SUMMARY:LA BELLE EPOQUE. L'ARTE  NELLA PARIGI DI BOLDINI E DE NITTIS
DESCRIPTION:Brulicanti caffè\, affollate piazze parigine\, serate a teatro\, signore seducenti\, momenti di vita quotidiana di inizio 900 sono ciò che immortalarono i pittori italiani a Parigi\, capitale della modernità e della cultura. In mostra ammireremo oltre 100 opere di Boldini e De Nittis ma anche Mancini\, Zandomeneci e Corcos\, provenienti da collezioni private ma anche da prestigiosi musei (come gli Uffizi e palazzo Te). Grazie alla visita guidata di Guida Artistica ci immergeremo nell’atmosfera elegante e vitale dell’età dell’oro parigina. \n  \nContributo di partecipazione euro 25 comprensivo di biglietto d’ingresso\, visita guidata e auricolari. \nVisita guidata a Brescia organizzata da Guida Artistica\, gruppo di guide turistiche abilitate specializzate su Brescia\, lago di Garda\, Sebino\, Franciacorta\, Vallecamonica e tutta la provincia di Brescia. \n 
URL:https://www.guidaartistica.com/evento/la-belle-epoque-larte-nella-parigi-di-boldini-e-de-nittis-14/
LOCATION:Palazzo Martinengo Cesaresco – sede della Provincia di Brescia\, via Musei 32\, Brescia
CATEGORIES:Visite guidate
ATTACH;FMTTYPE=image/jpeg:https://www.guidaartistica.com/wp-content/uploads/2025/01/1-Corcos-Due-ragazze-con-uccellino.-Collezione-privata-2-scaled-1.jpg
END:VEVENT
BEGIN:VEVENT
DTSTART;TZID=Europe/Rome:20250419T102000
DTEND;TZID=Europe/Rome:20250419T115000
DTSTAMP:20260424T094552
CREATED:20250123T080833Z
LAST-MODIFIED:20250310T105729Z
UID:6096-1745058000-1745063400@www.guidaartistica.com
SUMMARY:LA BELLE EPOQUE. L'ARTE  NELLA PARIGI DI BOLDINI E DE NITTIS
DESCRIPTION:Brulicanti caffè\, affollate piazze parigine\, serate a teatro\, signore seducenti\, momenti di vita quotidiana di inizio 900 sono ciò che immortalarono i pittori italiani a Parigi\, capitale della modernità e della cultura. In mostra ammireremo oltre 100 opere di Boldini e De Nittis ma anche Mancini\, Zandomeneci e Corcos\, provenienti da collezioni private ma anche da prestigiosi musei (come gli Uffizi e palazzo Te). Grazie alla visita guidata di Guida Artistica ci immergeremo nell’atmosfera elegante e vitale dell’età dell’oro parigina. \n  \nContributo di partecipazione euro 25 comprensivo di biglietto d’ingresso\, visita guidata e auricolari. \nVisita guidata a Brescia organizzata da Guida Artistica\, gruppo di guide turistiche abilitate specializzate su Brescia\, lago di Garda\, Sebino\, Franciacorta\, Vallecamonica e tutta la provincia di Brescia. \n 
URL:https://www.guidaartistica.com/evento/la-belle-epoque-larte-nella-parigi-di-boldini-e-de-nittis-15/
LOCATION:Palazzo Martinengo Cesaresco – sede della Provincia di Brescia\, via Musei 32\, Brescia
CATEGORIES:Visite guidate
ATTACH;FMTTYPE=image/jpeg:https://www.guidaartistica.com/wp-content/uploads/2025/01/1-Corcos-Due-ragazze-con-uccellino.-Collezione-privata-2-scaled-1.jpg
END:VEVENT
BEGIN:VEVENT
DTSTART;TZID=Europe/Rome:20250425T150000
DTEND;TZID=Europe/Rome:20250425T170000
DTSTAMP:20260424T094552
CREATED:20240919T151041Z
LAST-MODIFIED:20240919T151041Z
UID:6113-1745593200-1745600400@www.guidaartistica.com
SUMMARY:IL GIARDINO DELLE MUSE
DESCRIPTION:Straordinaria possibilità di visitare la tenuta di una prestigiosa dimora nobiliare  a Collebeato (Bs). \nGuidati dalla narrazione di Guida Artistica passeggeremo nel parco all’inglese di Villa Martinengo Mazzola Panciera di Zoppola Bona\, nel vigneto\, nell’esedra e sul colle tra echi poetici\, mitologici e la storia secolare di una famiglia che continua a prendersi cura di un luogo di grande fascino. \nAl termine della passeggiata\, adatta a tutti\, ci attenderà un brindisi con un calice di Col Beato\, tenuta la Sinta\, vincitore della medaglia d’oro 2022 “emozioni dal mondo”
URL:https://www.guidaartistica.com/evento/il-giardino-delle-muse-4/
CATEGORIES:Visite guidate
ATTACH;FMTTYPE=image/jpeg:https://www.guidaartistica.com/wp-content/uploads/2024/09/GiardinoDelleMuse.jpg
END:VEVENT
BEGIN:VEVENT
DTSTART;TZID=Europe/Rome:20250427T173000
DTEND;TZID=Europe/Rome:20250427T173000
DTSTAMP:20260424T094552
CREATED:20220606T171004Z
LAST-MODIFIED:20250412T212508Z
UID:6109-1745775000-1745775000@www.guidaartistica.com
SUMMARY:FIORI E CEMENTO: UN NUOVO ITINERARIO DI ART NOUVEAU A BRESCIA
DESCRIPTION:Nuovo itinerario con lo sguardo in alto ad ammirare le facciate dei palazzi di primo novecento nella zona di via Venti Settembre a Brescia\, dove le famiglie borghesi emergenti commissionarono palazzi alla moda liberty o art nouveu (che dir si voglia) che imperversava in tutta Europa. \n  \nVisita guidata a Brescia organizzata da Guida Artistica\, gruppo di guide turistiche abilitate specializzate su Brescia\, lago di Garda\, Sebino\, Franciacorta\, Vallecamonica e tutta la provincia di Brescia.  Bergamo-Brescia Capitali della cultura 2023
URL:https://www.guidaartistica.com/evento/fiori-e-cemento-un-nuovo-itinerario-di-art-nouveau-a-brescia/
CATEGORIES:Visite guidate
ATTACH;FMTTYPE=image/jpeg:https://www.guidaartistica.com/wp-content/uploads/2022/06/FioriECemento.jpg
END:VEVENT
END:VCALENDAR