BEGIN:VCALENDAR
VERSION:2.0
PRODID:-//Guida Artistica - ECPv6.15.20//NONSGML v1.0//EN
CALSCALE:GREGORIAN
METHOD:PUBLISH
X-ORIGINAL-URL:https://www.guidaartistica.com
X-WR-CALDESC:Eventi per Guida Artistica
REFRESH-INTERVAL;VALUE=DURATION:PT1H
X-Robots-Tag:noindex
X-PUBLISHED-TTL:PT1H
BEGIN:VTIMEZONE
TZID:Europe/Rome
BEGIN:DAYLIGHT
TZOFFSETFROM:+0100
TZOFFSETTO:+0200
TZNAME:CEST
DTSTART:20240331T010000
END:DAYLIGHT
BEGIN:STANDARD
TZOFFSETFROM:+0200
TZOFFSETTO:+0100
TZNAME:CET
DTSTART:20241027T010000
END:STANDARD
BEGIN:DAYLIGHT
TZOFFSETFROM:+0100
TZOFFSETTO:+0200
TZNAME:CEST
DTSTART:20250330T010000
END:DAYLIGHT
BEGIN:STANDARD
TZOFFSETFROM:+0200
TZOFFSETTO:+0100
TZNAME:CET
DTSTART:20251026T010000
END:STANDARD
BEGIN:DAYLIGHT
TZOFFSETFROM:+0100
TZOFFSETTO:+0200
TZNAME:CEST
DTSTART:20260329T010000
END:DAYLIGHT
BEGIN:STANDARD
TZOFFSETFROM:+0200
TZOFFSETTO:+0100
TZNAME:CET
DTSTART:20261025T010000
END:STANDARD
END:VTIMEZONE
BEGIN:VEVENT
DTSTART;TZID=Europe/Rome:20250504T100000
DTEND;TZID=Europe/Rome:20250504T113000
DTSTAMP:20260424T080430
CREATED:20250428T212053Z
LAST-MODIFIED:20250428T212053Z
UID:6119-1746352800-1746358200@www.guidaartistica.com
SUMMARY:ALL'OMBRA DI ARNALDO: MITI E STORIE DELLA ZONA DI PORTA TORLONGA
DESCRIPTION:Appuntamento dedicato alle storie della zona di porta Torlonga per conoscere la genesi e il significato della statua di Arnaldo\, della sua piazza\, di un grande cancello in mezzo all’aiuola.\nMa vi aspettiamo anche per ammirare il Terzo Paradiso di Michelangelo Pistoletto accanto alle poderose mura medioevali\, che si piegano “ad orecchione” a Canton Mombello (sotto il quale non c’è più il fossato ma un bel parco). E se vi dicessimo che in antico qui c’era un porto?\nVi spiegheremo tutto all’ombra di Arnaldo. Vi aspettiamo.
URL:https://www.guidaartistica.com/evento/allombra-di-arnaldo-miti-e-storie-della-zona-di-porta-torlonga/
LOCATION:piazza Arnaldo
CATEGORIES:Visite guidate
ATTACH;FMTTYPE=image/jpeg:https://www.guidaartistica.com/wp-content/uploads/2025/04/AllombraArnaldo.jpg
END:VEVENT
BEGIN:VEVENT
DTSTART;TZID=Europe/Rome:20250511T170000
DTEND;TZID=Europe/Rome:20250511T183000
DTSTAMP:20260424T080430
CREATED:20250123T080833Z
LAST-MODIFIED:20250410T153146Z
UID:6092-1746982800-1746988200@www.guidaartistica.com
SUMMARY:LA BELLE EPOQUE. L'ARTE  NELLA PARIGI DI BOLDINI E DE NITTIS
DESCRIPTION:Brulicanti caffè\, affollate piazze parigine\, serate a teatro\, signore seducenti\, momenti di vita quotidiana di inizio 900 sono ciò che immortalarono i pittori italiani a Parigi\, capitale della modernità e della cultura. In mostra ammireremo oltre 100 opere di Boldini e De Nittis ma anche Mancini\, Zandomeneci e Corcos\, provenienti da collezioni private ma anche da prestigiosi musei (come gli Uffizi e palazzo Te). Grazie alla visita guidata di Guida Artistica ci immergeremo nell’atmosfera elegante e vitale dell’età dell’oro parigina. \n  \nContributo di partecipazione euro 25 comprensivo di biglietto d’ingresso\, visita guidata e auricolari. \nVisita guidata a Brescia organizzata da Guida Artistica\, gruppo di guide turistiche abilitate specializzate su Brescia\, lago di Garda\, Sebino\, Franciacorta\, Vallecamonica e tutta la provincia di Brescia. \n 
URL:https://www.guidaartistica.com/evento/la-belle-epoque-larte-nella-parigi-di-boldini-e-de-nittis-12/
LOCATION:Palazzo Martinengo Cesaresco – sede della Provincia di Brescia\, via Musei 32\, Brescia
CATEGORIES:Visite guidate
ATTACH;FMTTYPE=image/jpeg:https://www.guidaartistica.com/wp-content/uploads/2025/01/1-Corcos-Due-ragazze-con-uccellino.-Collezione-privata-2-scaled-1.jpg
END:VEVENT
BEGIN:VEVENT
DTSTART;TZID=Europe/Rome:20250525T150000
DTEND;TZID=Europe/Rome:20250525T170000
DTSTAMP:20260424T080430
CREATED:20240919T151041Z
LAST-MODIFIED:20250412T213529Z
UID:6104-1748185200-1748192400@www.guidaartistica.com
SUMMARY:IL GIARDINO DELLE MUSE
DESCRIPTION:Straordinaria possibilità di visitare la tenuta di una prestigiosa dimora nobiliare  a Collebeato (Bs). \nGuidati dalla narrazione di Guida Artistica passeggeremo nel parco all’inglese di Villa Martinengo Mazzola Panciera di Zoppola Bona\, nel vigneto\, nell’esedra e sul colle tra echi poetici\, mitologici e la storia secolare di una famiglia che continua a prendersi cura di un luogo di grande fascino. \nAl termine della passeggiata\, adatta a tutti\, ci attenderà un brindisi con un calice di Col Beato\, tenuta la Sinta\, vincitore della medaglia d’oro 2022 “emozioni dal mondo”
URL:https://www.guidaartistica.com/evento/il-giardino-delle-muse-3/
CATEGORIES:Visite guidate
ATTACH;FMTTYPE=image/jpeg:https://www.guidaartistica.com/wp-content/uploads/2024/09/GiardinoDelleMuse.jpg
END:VEVENT
END:VCALENDAR