BEGIN:VCALENDAR
VERSION:2.0
PRODID:-//Guida Artistica - ECPv6.15.20//NONSGML v1.0//EN
CALSCALE:GREGORIAN
METHOD:PUBLISH
X-ORIGINAL-URL:https://www.guidaartistica.com
X-WR-CALDESC:Eventi per Guida Artistica
REFRESH-INTERVAL;VALUE=DURATION:PT1H
X-Robots-Tag:noindex
X-PUBLISHED-TTL:PT1H
BEGIN:VTIMEZONE
TZID:Europe/Rome
BEGIN:DAYLIGHT
TZOFFSETFROM:+0100
TZOFFSETTO:+0200
TZNAME:CEST
DTSTART:20240331T010000
END:DAYLIGHT
BEGIN:STANDARD
TZOFFSETFROM:+0200
TZOFFSETTO:+0100
TZNAME:CET
DTSTART:20241027T010000
END:STANDARD
BEGIN:DAYLIGHT
TZOFFSETFROM:+0100
TZOFFSETTO:+0200
TZNAME:CEST
DTSTART:20250330T010000
END:DAYLIGHT
BEGIN:STANDARD
TZOFFSETFROM:+0200
TZOFFSETTO:+0100
TZNAME:CET
DTSTART:20251026T010000
END:STANDARD
BEGIN:DAYLIGHT
TZOFFSETFROM:+0100
TZOFFSETTO:+0200
TZNAME:CEST
DTSTART:20260329T010000
END:DAYLIGHT
BEGIN:STANDARD
TZOFFSETFROM:+0200
TZOFFSETTO:+0100
TZNAME:CET
DTSTART:20261025T010000
END:STANDARD
END:VTIMEZONE
BEGIN:VEVENT
DTSTART;TZID=Europe/Rome:20250624T200000
DTEND;TZID=Europe/Rome:20250624T213000
DTSTAMP:20260424T062752
CREATED:20250616T093349Z
LAST-MODIFIED:20250616T093433Z
UID:6137-1750795200-1750800600@www.guidaartistica.com
SUMMARY:ALL'OMBRA DI ARNALDO: MITI E STORIE DELLA ZONA DI PORTA TORLONGA
DESCRIPTION:Appuntamento dedicato alle storie della zona di porta Torlonga per conoscere la genesi e il significato della statua di Arnaldo e della sua piazza.\nMa vi aspettiamo anche per ammirare il Terzo Paradiso di Michelangelo Pistoletto accanto alle poderose mura medievali\, che si piegano “ad orecchione” a Canton Mombello. \n  \nIl punto d’incontro sarà comunicato al momento della prenotazione. \nDurata 90 min circa \nQuota di partecipazione euro 12 \n  \nEvento inserito nella rassegna ARNALDO MARTIRE E RIBELLE
URL:https://www.guidaartistica.com/evento/allombra-di-arnaldo-miti-e-storie-della-zona-di-porta-torlonga-2/
LOCATION:piazza Arnaldo
CATEGORIES:Visite guidate
ATTACH;FMTTYPE=application/pdf:https://www.guidaartistica.com/wp-content/uploads/2025/06/allombradiArnaldo.pdf
END:VEVENT
BEGIN:VEVENT
DTSTART;TZID=Europe/Rome:20250627T180000
DTEND;TZID=Europe/Rome:20250627T193000
DTSTAMP:20260424T062752
CREATED:20250623T071427Z
LAST-MODIFIED:20250623T072116Z
UID:6148-1751047200-1751052600@www.guidaartistica.com
SUMMARY:PASSEGGIATA GUIDATA NEL QUARTIERE CROCEFISSA DI ROSA
DESCRIPTION:Passeggiata storico-artistica del quartiere CROCEFISSA DI ROSA a Brescia con partenza da via C.Lombroso n.2\nPasseggeremo attorno a quella che era via Nuovo Canale: dal serbatoio alla galleria\, dalla chiesa a forma di tenda ai ronchi e alle vie del liberty per un tuffo nel passato di un quartiere nato per proiettare la città nel futuro post bellico.\n\nPartecipazione gratuita con iscrizione al 347 3028031 o info@guidaartistica.com\n\nEvento gratuito grazie al bando del Comune di Brescia in collaborazione con Fondazione della Comunità bresciana.
URL:https://www.guidaartistica.com/evento/passeggiata-guidata-nel-quartiere-crocefissa-di-rosa/
CATEGORIES:Visite guidate
ATTACH;FMTTYPE=image/jpeg:https://www.guidaartistica.com/wp-content/uploads/2025/06/tourCrocefissa-di-Rosa.jpg
END:VEVENT
END:VCALENDAR