BEGIN:VCALENDAR
VERSION:2.0
PRODID:-//Guida Artistica - ECPv6.15.20//NONSGML v1.0//EN
CALSCALE:GREGORIAN
METHOD:PUBLISH
X-ORIGINAL-URL:https://www.guidaartistica.com
X-WR-CALDESC:Eventi per Guida Artistica
REFRESH-INTERVAL;VALUE=DURATION:PT1H
X-Robots-Tag:noindex
X-PUBLISHED-TTL:PT1H
BEGIN:VTIMEZONE
TZID:Europe/Rome
BEGIN:DAYLIGHT
TZOFFSETFROM:+0100
TZOFFSETTO:+0200
TZNAME:CEST
DTSTART:20240331T010000
END:DAYLIGHT
BEGIN:STANDARD
TZOFFSETFROM:+0200
TZOFFSETTO:+0100
TZNAME:CET
DTSTART:20241027T010000
END:STANDARD
BEGIN:DAYLIGHT
TZOFFSETFROM:+0100
TZOFFSETTO:+0200
TZNAME:CEST
DTSTART:20250330T010000
END:DAYLIGHT
BEGIN:STANDARD
TZOFFSETFROM:+0200
TZOFFSETTO:+0100
TZNAME:CET
DTSTART:20251026T010000
END:STANDARD
BEGIN:DAYLIGHT
TZOFFSETFROM:+0100
TZOFFSETTO:+0200
TZNAME:CEST
DTSTART:20260329T010000
END:DAYLIGHT
BEGIN:STANDARD
TZOFFSETFROM:+0200
TZOFFSETTO:+0100
TZNAME:CET
DTSTART:20261025T010000
END:STANDARD
END:VTIMEZONE
BEGIN:VEVENT
DTSTART;TZID=Europe/Rome:20250801T203000
DTEND;TZID=Europe/Rome:20250801T220000
DTSTAMP:20260424T033558
CREATED:20190527T064754Z
LAST-MODIFIED:20250731T100717Z
UID:6174-1754080200-1754085600@www.guidaartistica.com
SUMMARY:LA CENA E' SERVITA
DESCRIPTION:Dove andavano a fare la spesa i bresciani del Cinquecento? Oggi sembra difficile saperlo\, ma in questa piacevole passeggiata serale Guida Artistica vi svelerà dove le prelibatezze che finivano sulle tavole dei bresciani venivano prodotte e vendute. Non solo mercati coperti e botteghe\, ma veri e propri quartieri artigianali\, dotati di architetture funzionali ma belle\, che ancora oggi possiamo ammirare. Grandi spazi monumentali con pitture e sculture allegoriche dal sapore d’altri tempi\, ma anche insegne curiose per nobilitare ed esaltare l’economia. Contributo di partecipazione euro 10 \n 
URL:https://www.guidaartistica.com/evento/la-cena-e-servita-9/
CATEGORIES:Visite guidate
ATTACH;FMTTYPE=image/jpeg:https://www.guidaartistica.com/wp-content/uploads/2014/06/passeggiate-artistiche-logo-colori.jpg
END:VEVENT
BEGIN:VEVENT
DTSTART;TZID=Europe/Rome:20250807T203000
DTEND;TZID=Europe/Rome:20250807T220000
DTSTAMP:20260424T033558
CREATED:20200622T203952Z
LAST-MODIFIED:20250717T212406Z
UID:6175-1754598600-1754604000@www.guidaartistica.com
SUMMARY:COL NASO ALL'INSU' IN VIA ELIA CAPRIOLO
DESCRIPTION:  \nPasseggiando per questa via\, cuore pulsante della Quadra di San Faustino\, scopriremo come talvolta l’architettura si presenta simile a una tela dipinta. Vi siete mai soffermati a osservare la “pelle” del palazzo sull’angolo con via Marsala? O le monumentali figure acquartierate in palazzo Caprioli? Prossima al Canton dei Bombasari e dei Pignolatari\, tessitori di stoffe in cotone\, le sorprese non mancheranno… parola di Guida Artistica! \nAppuntamento di fronte alla Questura al civico 3. \n\n  \n\nVisita guidata a Brescia organizzata da Guida Artistica\, gruppo di guide turistiche abilitate specializzate su Brescia\, lago di Garda\, Sebino\, Franciacorta\, Vallecamonica e tutta la provincia di Brescia. Bergamo-Brescia Capitali della cultura 2023
URL:https://www.guidaartistica.com/evento/col-naso-allinsu-in-via-elia-capriolo-10/
LOCATION:Questura di Brescia\, via Elia Capriolo 3\, Brescia\, Italia
CATEGORIES:Visite guidate
ATTACH;FMTTYPE=image/jpeg:https://www.guidaartistica.com/wp-content/uploads/2020/06/palazzocaprioli.jpg
END:VEVENT
BEGIN:VEVENT
DTSTART;TZID=Europe/Rome:20250813T204500
DTEND;TZID=Europe/Rome:20250813T221500
DTSTAMP:20260424T033558
CREATED:20220729T110418Z
LAST-MODIFIED:20250802T065357Z
UID:6181-1755117900-1755123300@www.guidaartistica.com
SUMMARY:LA CROCERA DI SAN LUCA E I SUOI SEGRETI
DESCRIPTION:Dove si curavano i bresciani prima che fosse costruito l’Ospedale Civile? E perché l’antico Hospitale Magnum fu chiamato “Crociera” se è a forma di “T”? Durante una piacevole camminata scopriremo le storie e le tracce di quelli che furono l’Ospedale degli Incurabili\, poi delle Donne\, l’Infermeria maschile e quella femminile e l’Orfanatrofio femminile di Pietà. A proposito: sapevate che spesso agli esposti veniva affidato come cognome un anagramma? Per esempio “Aberlacusi” che sciolto diventa “se baci urla”. \n  \nVisita guidata in provincia di Brescia organizzata da Guida Artistica\, gruppo di guide turistiche abilitate specializzate su Brescia\, lago di Garda\, Sebino\, Franciacorta\, Vallecamonica e tutta la provincia di Brescia. Aspettando Bergamo-Brescia Capitali della cultura
URL:https://www.guidaartistica.com/evento/la-crocera-di-san-luca-e-i-suoi-segreti-2/
CATEGORIES:Visite guidate
ATTACH;FMTTYPE=image/jpeg:https://www.guidaartistica.com/wp-content/uploads/2021/04/locandina-passeggiate.jpg
END:VEVENT
BEGIN:VEVENT
DTSTART;TZID=Europe/Rome:20250815T080000
DTEND;TZID=Europe/Rome:20250815T180000
DTSTAMP:20260424T033558
CREATED:20250708T074711Z
LAST-MODIFIED:20250708T074937Z
UID:6167-1755244800-1755280800@www.guidaartistica.com
SUMMARY:FERRAGOSTO INSIEME IMMERSI NEL VERDE TRA SANTUARI MEDIOEVALI\, LEGGENDE E SAPORI GENUINI
DESCRIPTION:Ferragosto in compagnia immersi nel verde e lontano dal caos con Guida Artistica. Tracorreremo la giornata tra panorami rasserenanti\, santuari medioevali\, leggende\, passeggiate nella natura e un buon pranzo tradizionale bergamasco (tagliere di salumi e formaggi di mucca e capra\, casoncelli alla bergamasca\, panna cotta\, vino della casa\, acqua\, caffè). Visiteremo la Cappella Sistina Bergamasca ossia il Santuario della Ss. Trinità di Casnigo affrescato dai Baschenis\, passeggeremo poi verso il santuario della Madonna d’Erbia e nel ristoro accanto pranzeremo con menù tradizionale.Ci sposteremo poi al santuario di San Patrizio di Colzate. \nOrganizzazione tecnica BRESCIA TURISTICA UNITOUR SRL. Contattateci per conoscere il programma preciso e per riservare il vostro posto. Iscrizioni entro il 19 luglio (salvo esaurimento posti). Partenza in bus da Brescia e Rovato. \n 
URL:https://www.guidaartistica.com/evento/ferragosto-insieme-immersi-nel-verde-tra-santuari-medioevali-leggende-e-sapori-genuini/
CATEGORIES:Visite guidate
ATTACH;FMTTYPE=image/jpeg:https://www.guidaartistica.com/wp-content/uploads/2025/07/Casnigobis.jpg
END:VEVENT
BEGIN:VEVENT
DTSTART;TZID=Europe/Rome:20250817T210000
DTEND;TZID=Europe/Rome:20250817T223000
DTSTAMP:20260424T033558
CREATED:20250423T131046Z
LAST-MODIFIED:20250717T212433Z
UID:6116-1755464400-1755469800@www.guidaartistica.com
SUMMARY:TREKKING URBANO. A PASSEGGIO CON ARNALDO...FORSE DA BRESCIA
DESCRIPTION:Da piazzale Arnaldo alla chiesa di san Francesco d’Assisi ripercorreremo la storia di Brescia con un compagno d’eccezione. Arnaldo da Brescia\, bruciato vivo sul Lungo Tevere a Roma nel 1155\, ci affiancherà nel ripercorrere il Medioevo in città tra antiche torri\, fosse\, corti nascoste\, racconti di pesti\, terremoti\, dame e cavalieri. \n  \nEvento organizzato da Guida Artistica nell’ambito delle celebrazioni per gli 870 dalla morte di Arnaldo da Brescia.
URL:https://www.guidaartistica.com/evento/trekking-urbano-a-passeggio-con-arnaldo-forse-da-brescia-2/
CATEGORIES:Visite guidate
ATTACH;FMTTYPE=application/pdf:https://www.guidaartistica.com/wp-content/uploads/2025/04/Trekkingarnaldo-1.pdf
END:VEVENT
BEGIN:VEVENT
DTSTART;TZID=Europe/Rome:20250820T203000
DTEND;TZID=Europe/Rome:20250820T220000
DTSTAMP:20260424T033558
CREATED:20190328T153442Z
LAST-MODIFIED:20250717T213728Z
UID:6178-1755721800-1755727200@www.guidaartistica.com
SUMMARY:IL KILOMETRO DELLA BELLEZZA
DESCRIPTION:C’è una strada nel cuore di Brescia\, che ci conduce in un viaggio nel tempo offrendoci più di un KM di bellezze artistiche: parola di Unesco! Ammireremo il Capitolium dopo avere varcato l’antica Porta Mediolanense\, oggi per noi Porta Bruciata\, fino alla porta scomparsa dedicata a Sant’Andrea\, che segnava il confine più orientale del decumano romano. Nel mezzo fanno capolino molti palazzi nobiliari legati alle famiglie che hanno fatto la storia di Brescia: non solo la più antica ( i Maggi\, i Martinengo) ma anche quella del ‘900 (la nascita della Mille Miglia e quella del grande statista Giuseppe Zanardelli).\n\nIncontro: statua della Bella Italia in piazza Loggia.\n\nVisita guidata organizzata da Guida Artistica\, gruppo di guide turistiche abilitate\, specializzate su Brescia\, Lago di Garda\, Franciacorta\, Lago d’Iseo e provincia di Brescia. Aspettando Bergamo-Brescia capitali della cultura 2023.\n  \n  \n 
URL:https://www.guidaartistica.com/evento/il-kilometro-della-bellezza-6/
LOCATION:STATUA BELLA ITALIA\, piazza della Loggia\, Brescia
CATEGORIES:Visite guidate
ATTACH;FMTTYPE=image/jpeg:https://www.guidaartistica.com/wp-content/uploads/2021/04/locandina-passeggiate.jpg
END:VEVENT
BEGIN:VEVENT
DTSTART;TZID=Europe/Rome:20250829T204500
DTEND;TZID=Europe/Rome:20250829T221500
DTSTAMP:20260424T033558
CREATED:20190701T073220Z
LAST-MODIFIED:20250817T191204Z
UID:6188-1756500300-1756505700@www.guidaartistica.com
SUMMARY:LE CUSTODI DEL TEMPO. PASSEGGIATA SOTTO LE TORRI DI BRESCIA
DESCRIPTION:Fin dalla notte dei tempi\, l’uomo ha cercato di raggiungere il cielo\, costruendo edifici sempre più alti: dagli obelischi e le piramidi ai moderni grattacieli. Nel medioevo Brescia era una città molto verticale\, disseminata di decine di case-torre che svettavano verso l’alto\, simbolo di potere. E oggi? Anche nei tempi moderni possiamo ammirare numerose torri antiche: le andremo a  cercare in questo itinerario e scopriremo che anche quelle sorte come difesa della città\, col tempo si sono arricchite di opere d’arte e di nuove funzioni. Per non parlare di quelle che ospitano preziosi orologi e complicati meccanismi\, metafore dello scorrere infinito del tempo….. che Guida Artistica saprà svelare. \nL’incontro è in Piazza del Foro davanti al Capitolium. \nVisita guidata a Brescia organizzata da Guida Artistica\, gruppo di guide turistiche abilitate specializzate su Brescia\, lago di Garda\, Sebino\, Franciacorta\, Vallecamonica e tutta la provincia di Brescia. Aspettando Bergamo-Brescia Capitali della cultura
URL:https://www.guidaartistica.com/evento/le-custodi-del-tempo-passeggiata-sotto-le-torri-di-brescia-17/
LOCATION:tempio capitolino\, piazza del foro\, Brescia
CATEGORIES:Visite guidate
ATTACH;FMTTYPE=image/jpeg:https://www.guidaartistica.com/wp-content/uploads/2019/07/cupola-e-torre-del-pegol.jpg
END:VEVENT
END:VCALENDAR