BEGIN:VCALENDAR
VERSION:2.0
PRODID:-//Guida Artistica - ECPv6.15.20//NONSGML v1.0//EN
CALSCALE:GREGORIAN
METHOD:PUBLISH
X-ORIGINAL-URL:https://www.guidaartistica.com
X-WR-CALDESC:Eventi per Guida Artistica
REFRESH-INTERVAL;VALUE=DURATION:PT1H
X-Robots-Tag:noindex
X-PUBLISHED-TTL:PT1H
BEGIN:VTIMEZONE
TZID:Europe/Rome
BEGIN:DAYLIGHT
TZOFFSETFROM:+0100
TZOFFSETTO:+0200
TZNAME:CEST
DTSTART:20240331T010000
END:DAYLIGHT
BEGIN:STANDARD
TZOFFSETFROM:+0200
TZOFFSETTO:+0100
TZNAME:CET
DTSTART:20241027T010000
END:STANDARD
BEGIN:DAYLIGHT
TZOFFSETFROM:+0100
TZOFFSETTO:+0200
TZNAME:CEST
DTSTART:20250330T010000
END:DAYLIGHT
BEGIN:STANDARD
TZOFFSETFROM:+0200
TZOFFSETTO:+0100
TZNAME:CET
DTSTART:20251026T010000
END:STANDARD
BEGIN:DAYLIGHT
TZOFFSETFROM:+0100
TZOFFSETTO:+0200
TZNAME:CEST
DTSTART:20260329T010000
END:DAYLIGHT
BEGIN:STANDARD
TZOFFSETFROM:+0200
TZOFFSETTO:+0100
TZNAME:CET
DTSTART:20261025T010000
END:STANDARD
END:VTIMEZONE
BEGIN:VEVENT
DTSTART;TZID=Europe/Rome:20251012T153000
DTEND;TZID=Europe/Rome:20251012T173000
DTSTAMP:20260424T003950
CREATED:20190912T123757Z
LAST-MODIFIED:20250918T074640Z
UID:6200-1760283000-1760290200@www.guidaartistica.com
SUMMARY:IL PARCO DEL VITTORIALE DEGLI ITALIANI
DESCRIPTION:  \n  \nCon Guida Artistica potrete conoscere il parco del Vittoriale degli Italiani\, splendido complesso ideato da Gabriele d’Annunzio insieme all’architetto Maroni nel suo “esilio dorato” sul lago di Garda. Dalla Piazzetta Dalmata all’incredibile Nave Puglia\, passando per lo Schifamondo (dove D’Annunzio progettava di ritirarsi alla fine della sua vita) e il MAS\, conoscerete l’immaginifico universo artistico e poetico del Vate. Incontro all’ingresso del Vittoriale degli Italiani. Contributo di partecipazione: 23 euro (compreso il biglietto d’ingresso  al Parco). \n  \nVisita guidata organizzata da Guida Artistica\, gruppo di guide turistiche abilitate specializzate su Brescia\, lago di Garda\, Sebino\, Franciacorta\, Vallecamonica e tutta la provincia di Brescia. Aspettando Bergamo Brescia capitali della cultura 2023.
URL:https://www.guidaartistica.com/evento/il-parco-del-vittoriale-degli-italiani-5/
LOCATION:Vittoriale degli Italiani\, Via Al Vittoriale 12\, Gardone Riviera
CATEGORIES:Visite guidate
ATTACH;FMTTYPE=image/jpeg:https://www.guidaartistica.com/wp-content/uploads/2018/09/Vittoriale_il_complesso_monumentale.jpg
END:VEVENT
BEGIN:VEVENT
DTSTART;TZID=Europe/Rome:20251026T153000
DTEND;TZID=Europe/Rome:20251026T170000
DTSTAMP:20260424T003950
CREATED:20140529T131804Z
LAST-MODIFIED:20251013T191322Z
UID:6203-1761492600-1761498000@www.guidaartistica.com
SUMMARY:La chiesa di San Gaetano
DESCRIPTION:In centro storico a Brescia si distingue la chiesa in cui trovò sede alla fine del Seicento l’ordine dei Teatini\, dopo avere acquistato il complesso voluto dai Padri della Pace alla fine del secolo precedente. \nAll’interno la ricca decorazione barocca\, pittorica e scultorea\, la rendono un libro scritto a più mani in tempi diversi ma ingrado di raccontare una storia coerente e forse non così nota.\nContributo di partecipazione euro 10\, gratis under 18 accompagnati. Durata 1h e 30 min. Prenotazione obbligatoria.
URL:https://www.guidaartistica.com/evento/la-chiesa-di-san-gaetano-2/
CATEGORIES:Visite guidate
ATTACH;FMTTYPE=image/jpeg:https://www.guidaartistica.com/wp-content/uploads/2014/05/San-Gaetano-a-Brescia-1.jpg
ORGANIZER;CN="Guida Artistica":MAILTO:info@guidaartistica.com
END:VEVENT
END:VCALENDAR