BEGIN:VCALENDAR
VERSION:2.0
PRODID:-//Guida Artistica - ECPv6.15.20//NONSGML v1.0//EN
CALSCALE:GREGORIAN
METHOD:PUBLISH
X-ORIGINAL-URL:https://www.guidaartistica.com
X-WR-CALDESC:Eventi per Guida Artistica
REFRESH-INTERVAL;VALUE=DURATION:PT1H
X-Robots-Tag:noindex
X-PUBLISHED-TTL:PT1H
BEGIN:VTIMEZONE
TZID:Europe/Rome
BEGIN:DAYLIGHT
TZOFFSETFROM:+0100
TZOFFSETTO:+0200
TZNAME:CEST
DTSTART:20250330T010000
END:DAYLIGHT
BEGIN:STANDARD
TZOFFSETFROM:+0200
TZOFFSETTO:+0100
TZNAME:CET
DTSTART:20251026T010000
END:STANDARD
BEGIN:DAYLIGHT
TZOFFSETFROM:+0100
TZOFFSETTO:+0200
TZNAME:CEST
DTSTART:20260329T010000
END:DAYLIGHT
BEGIN:STANDARD
TZOFFSETFROM:+0200
TZOFFSETTO:+0100
TZNAME:CET
DTSTART:20261025T010000
END:STANDARD
BEGIN:DAYLIGHT
TZOFFSETFROM:+0100
TZOFFSETTO:+0200
TZNAME:CEST
DTSTART:20270328T010000
END:DAYLIGHT
BEGIN:STANDARD
TZOFFSETFROM:+0200
TZOFFSETTO:+0100
TZNAME:CET
DTSTART:20271031T010000
END:STANDARD
END:VTIMEZONE
BEGIN:VEVENT
DTSTART;TZID=Europe/Rome:20260111T150000
DTEND;TZID=Europe/Rome:20260111T163000
DTSTAMP:20260423T200545
CREATED:20230118T083617Z
LAST-MODIFIED:20251221T175339Z
UID:6223-1768143600-1768149000@www.guidaartistica.com
SUMMARY:LA CHIESA DI SANT'AFRA IN SANT'EUFEMIA CON IL NASO ALL'INSU' -  BRESCIA
DESCRIPTION:Situata allo sbocco di corso Magenta verso piazzale Arnaldo svetta la chiesa di Sant’Afra in Sant’Eufemia. L’edificio accoglie il visitatore sotto l’imponente e ariosa volta affrescata da Carlo Innocenzo Carloni nel Settecento a cui fanno da contraltare tele databili dal XVI al XVIII secolo (tra cui il Martirio di Sant’Afra attribuito al Veronese)\, oltre alla preziosa cripta quattrocentesca. \n  \n  \n  \n  \n  \n  \n  \n  \nVisita guidata organizzata da Guida Artistica\, gruppo di guide turistiche abilitate\, specializzate su Brescia\, Lago di Garda\, Franciacorta\, Lago d’Iseo e provincia di Brescia \n 
URL:https://www.guidaartistica.com/evento/la-chiesa-di-santagata-6/
LOCATION:Sant’afra\, corso Magenta\, Brescia
CATEGORIES:Visite guidate
ATTACH;FMTTYPE=image/jpeg:https://www.guidaartistica.com/wp-content/uploads/2023/01/SantAfra-11gennaio.jpg
END:VEVENT
BEGIN:VEVENT
DTSTART;TZID=Europe/Rome:20260117T163000
DTEND;TZID=Europe/Rome:20260117T180000
DTSTAMP:20260423T200545
CREATED:20251221T180431Z
LAST-MODIFIED:20251222T063003Z
UID:6230-1768667400-1768672800@www.guidaartistica.com
SUMMARY:LA MOSTRA SU MATHIAS STOM-RITRATTO DI RUBENS E IL 600-700 IN PIANCOTECA TOSIO MARTINENGO
DESCRIPTION:Visita guidata alla prima mostra organizzata in Italia sul pittore Mathias Stom\, che nel XVII secolo soggiornò per vari anni in Italia facendosi affascinare dalla grande pittura di Caravaggio. Ammireremo splendidi dipinti a lume di candela e opere provenienti da collezioni private (oltre che dall’Accademia Carrara di Bergamo). \nSarà questa l’occasione per ammirare anche uno dei capolavori del suo celebre maestro Rubens\, in prestito temporaneo dai musei di Genova e di riscoprire la sezione sei-settecentesca della Pinacoteca Tosio Martinengo (in cui sono esposte opere del Pitocchetto\, di Cifrondi e altri artisti su cui vale la pena soffermarsi).
URL:https://www.guidaartistica.com/evento/la-mostra-su-mathias-stom-ritratto-di-rubens-e-il-600-700-in-piancoteca-tosio-martinengo/
CATEGORIES:Visite guidate
ATTACH;FMTTYPE=image/jpeg:https://www.guidaartistica.com/wp-content/uploads/2025/12/Pinacoteca.jpg
END:VEVENT
BEGIN:VEVENT
DTSTART;TZID=Europe/Rome:20260124T150000
DTEND;TZID=Europe/Rome:20260124T163000
DTSTAMP:20260423T200545
CREATED:20230118T083617Z
LAST-MODIFIED:20260120T082656Z
UID:6235-1769266800-1769272200@www.guidaartistica.com
SUMMARY:LA CHIESA DI SANT'AFRA IN SANT'EUFEMIA CON IL NASO ALL'INSU' -  BRESCIA
DESCRIPTION: Situata allo sbocco di corso Magenta verso piazzale Arnaldo svetta la chiesa di Sant’Afra in Sant’Eufemia. L’edificio accoglie il visitatore sotto l’imponente e ariosa volta affrescata da Carlo Innocenzo Carloni nel Settecento a cui fanno da contraltare tele databili dal XVI al XVIII secolo (tra cui il Martirio di Sant’Afra attribuito al Veronese)\, oltre alla preziosa cripta quattrocentesca. \n  \n  \n  \n  \n  \n  \n  \n  \nVisita guidata organizzata da Guida Artistica\, gruppo di guide turistiche abilitate\, specializzate su Brescia\, Lago di Garda\, Franciacorta\, Lago d’Iseo e provincia di Brescia \n 
URL:https://www.guidaartistica.com/evento/la-chiesa-di-santafra-in-santeufemia-con-il-naso-allinsu-brescia/
LOCATION:Sant’afra\, corso Magenta\, Brescia
CATEGORIES:Visite guidate
ATTACH;FMTTYPE=image/jpeg:https://www.guidaartistica.com/wp-content/uploads/2023/01/SAfra-24gennaio.jpg
END:VEVENT
BEGIN:VEVENT
DTSTART;TZID=Europe/Rome:20260125T100000
DTEND;TZID=Europe/Rome:20260125T113000
DTSTAMP:20260423T200545
CREATED:20251221T180431Z
LAST-MODIFIED:20260120T083244Z
UID:6239-1769335200-1769340600@www.guidaartistica.com
SUMMARY:LA MOSTRA SU MATHIAS STOM-RITRATTO DI RUBENS E IL 600-700 IN PIANCOTECA TOSIO MARTINENGO
DESCRIPTION:tourpicchettVisita guidata alla prima mostra organizzata in Italia sul pittore Mathias Stom\, che nel XVII secolo soggiornò per vari anni in Italia facendosi affascinare dalla grande pittura di Caravaggio. Ammireremo splendidi dipinti a lume di candela e opere provenienti da collezioni private (oltre che dall’Accademia Carrara di Bergamo). \nSarà questa l’occasione per ammirare anche uno dei capolavori del suo celebre maestro Rubens\, in prestito temporaneo dai musei di Genova e di riscoprire la sezione sei-settecentesca della Pinacoteca Tosio Martinengo (in cui sono esposte opere del Pitocchetto\, di Cifrondi e altri artisti su cui vale la pena soffermarsi).
URL:https://www.guidaartistica.com/evento/la-mostra-su-mathias-stom-ritratto-di-rubens-e-il-600-700-in-piancoteca-tosio-martinengo-2/
LOCATION:Pinacoteca Tosio Martinengo\, piazza Moretto n.4\, Brescia\, Italia
CATEGORIES:Visite guidate
ATTACH;FMTTYPE=image/jpeg:https://www.guidaartistica.com/wp-content/uploads/2025/12/Pinacoteca-25genn2026.jpg
END:VEVENT
END:VCALENDAR