BEGIN:VCALENDAR
VERSION:2.0
PRODID:-//Guida Artistica - ECPv6.15.20//NONSGML v1.0//EN
CALSCALE:GREGORIAN
METHOD:PUBLISH
X-WR-CALNAME:Guida Artistica
X-ORIGINAL-URL:https://www.guidaartistica.com
X-WR-CALDESC:Eventi per Guida Artistica
REFRESH-INTERVAL;VALUE=DURATION:PT1H
X-Robots-Tag:noindex
X-PUBLISHED-TTL:PT1H
BEGIN:VTIMEZONE
TZID:Europe/Rome
BEGIN:DAYLIGHT
TZOFFSETFROM:+0100
TZOFFSETTO:+0200
TZNAME:CEST
DTSTART:20250330T010000
END:DAYLIGHT
BEGIN:STANDARD
TZOFFSETFROM:+0200
TZOFFSETTO:+0100
TZNAME:CET
DTSTART:20251026T010000
END:STANDARD
BEGIN:DAYLIGHT
TZOFFSETFROM:+0100
TZOFFSETTO:+0200
TZNAME:CEST
DTSTART:20260329T010000
END:DAYLIGHT
BEGIN:STANDARD
TZOFFSETFROM:+0200
TZOFFSETTO:+0100
TZNAME:CET
DTSTART:20261025T010000
END:STANDARD
BEGIN:DAYLIGHT
TZOFFSETFROM:+0100
TZOFFSETTO:+0200
TZNAME:CEST
DTSTART:20270328T010000
END:DAYLIGHT
BEGIN:STANDARD
TZOFFSETFROM:+0200
TZOFFSETTO:+0100
TZNAME:CET
DTSTART:20271031T010000
END:STANDARD
END:VTIMEZONE
BEGIN:VEVENT
DTSTART;TZID=Europe/Rome:20260111T150000
DTEND;TZID=Europe/Rome:20260111T163000
DTSTAMP:20260423T214000
CREATED:20230118T083617Z
LAST-MODIFIED:20251221T175339Z
UID:6223-1768143600-1768149000@www.guidaartistica.com
SUMMARY:LA CHIESA DI SANT'AFRA IN SANT'EUFEMIA CON IL NASO ALL'INSU' -  BRESCIA
DESCRIPTION:Situata allo sbocco di corso Magenta verso piazzale Arnaldo svetta la chiesa di Sant’Afra in Sant’Eufemia. L’edificio accoglie il visitatore sotto l’imponente e ariosa volta affrescata da Carlo Innocenzo Carloni nel Settecento a cui fanno da contraltare tele databili dal XVI al XVIII secolo (tra cui il Martirio di Sant’Afra attribuito al Veronese)\, oltre alla preziosa cripta quattrocentesca. \n  \n  \n  \n  \n  \n  \n  \n  \nVisita guidata organizzata da Guida Artistica\, gruppo di guide turistiche abilitate\, specializzate su Brescia\, Lago di Garda\, Franciacorta\, Lago d’Iseo e provincia di Brescia \n 
URL:https://www.guidaartistica.com/evento/la-chiesa-di-santagata-6/
LOCATION:Sant’afra\, corso Magenta\, Brescia
CATEGORIES:Visite guidate
ATTACH;FMTTYPE=image/jpeg:https://www.guidaartistica.com/wp-content/uploads/2023/01/SantAfra-11gennaio.jpg
END:VEVENT
BEGIN:VEVENT
DTSTART;TZID=Europe/Rome:20260117T163000
DTEND;TZID=Europe/Rome:20260117T180000
DTSTAMP:20260423T214000
CREATED:20251221T180431Z
LAST-MODIFIED:20251222T063003Z
UID:6230-1768667400-1768672800@www.guidaartistica.com
SUMMARY:LA MOSTRA SU MATHIAS STOM-RITRATTO DI RUBENS E IL 600-700 IN PIANCOTECA TOSIO MARTINENGO
DESCRIPTION:Visita guidata alla prima mostra organizzata in Italia sul pittore Mathias Stom\, che nel XVII secolo soggiornò per vari anni in Italia facendosi affascinare dalla grande pittura di Caravaggio. Ammireremo splendidi dipinti a lume di candela e opere provenienti da collezioni private (oltre che dall’Accademia Carrara di Bergamo). \nSarà questa l’occasione per ammirare anche uno dei capolavori del suo celebre maestro Rubens\, in prestito temporaneo dai musei di Genova e di riscoprire la sezione sei-settecentesca della Pinacoteca Tosio Martinengo (in cui sono esposte opere del Pitocchetto\, di Cifrondi e altri artisti su cui vale la pena soffermarsi).
URL:https://www.guidaartistica.com/evento/la-mostra-su-mathias-stom-ritratto-di-rubens-e-il-600-700-in-piancoteca-tosio-martinengo/
CATEGORIES:Visite guidate
ATTACH;FMTTYPE=image/jpeg:https://www.guidaartistica.com/wp-content/uploads/2025/12/Pinacoteca.jpg
END:VEVENT
BEGIN:VEVENT
DTSTART;TZID=Europe/Rome:20260124T150000
DTEND;TZID=Europe/Rome:20260124T163000
DTSTAMP:20260423T214000
CREATED:20230118T083617Z
LAST-MODIFIED:20260120T082656Z
UID:6235-1769266800-1769272200@www.guidaartistica.com
SUMMARY:LA CHIESA DI SANT'AFRA IN SANT'EUFEMIA CON IL NASO ALL'INSU' -  BRESCIA
DESCRIPTION: Situata allo sbocco di corso Magenta verso piazzale Arnaldo svetta la chiesa di Sant’Afra in Sant’Eufemia. L’edificio accoglie il visitatore sotto l’imponente e ariosa volta affrescata da Carlo Innocenzo Carloni nel Settecento a cui fanno da contraltare tele databili dal XVI al XVIII secolo (tra cui il Martirio di Sant’Afra attribuito al Veronese)\, oltre alla preziosa cripta quattrocentesca. \n  \n  \n  \n  \n  \n  \n  \n  \nVisita guidata organizzata da Guida Artistica\, gruppo di guide turistiche abilitate\, specializzate su Brescia\, Lago di Garda\, Franciacorta\, Lago d’Iseo e provincia di Brescia \n 
URL:https://www.guidaartistica.com/evento/la-chiesa-di-santafra-in-santeufemia-con-il-naso-allinsu-brescia/
LOCATION:Sant’afra\, corso Magenta\, Brescia
CATEGORIES:Visite guidate
ATTACH;FMTTYPE=image/jpeg:https://www.guidaartistica.com/wp-content/uploads/2023/01/SAfra-24gennaio.jpg
END:VEVENT
BEGIN:VEVENT
DTSTART;TZID=Europe/Rome:20260125T100000
DTEND;TZID=Europe/Rome:20260125T113000
DTSTAMP:20260423T214000
CREATED:20251221T180431Z
LAST-MODIFIED:20260120T083244Z
UID:6239-1769335200-1769340600@www.guidaartistica.com
SUMMARY:LA MOSTRA SU MATHIAS STOM-RITRATTO DI RUBENS E IL 600-700 IN PIANCOTECA TOSIO MARTINENGO
DESCRIPTION:tourpicchettVisita guidata alla prima mostra organizzata in Italia sul pittore Mathias Stom\, che nel XVII secolo soggiornò per vari anni in Italia facendosi affascinare dalla grande pittura di Caravaggio. Ammireremo splendidi dipinti a lume di candela e opere provenienti da collezioni private (oltre che dall’Accademia Carrara di Bergamo). \nSarà questa l’occasione per ammirare anche uno dei capolavori del suo celebre maestro Rubens\, in prestito temporaneo dai musei di Genova e di riscoprire la sezione sei-settecentesca della Pinacoteca Tosio Martinengo (in cui sono esposte opere del Pitocchetto\, di Cifrondi e altri artisti su cui vale la pena soffermarsi).
URL:https://www.guidaartistica.com/evento/la-mostra-su-mathias-stom-ritratto-di-rubens-e-il-600-700-in-piancoteca-tosio-martinengo-2/
LOCATION:Pinacoteca Tosio Martinengo\, piazza Moretto n.4\, Brescia\, Italia
CATEGORIES:Visite guidate
ATTACH;FMTTYPE=image/jpeg:https://www.guidaartistica.com/wp-content/uploads/2025/12/Pinacoteca-25genn2026.jpg
END:VEVENT
BEGIN:VEVENT
DTSTART;TZID=Europe/Rome:20260221T153000
DTEND;TZID=Europe/Rome:20260221T170000
DTSTAMP:20260423T214000
CREATED:20260122T211530Z
LAST-MODIFIED:20260122T211530Z
UID:6265-1771687800-1771693200@www.guidaartistica.com
SUMMARY:COSI' VESTIVANO. UNA SFILATA DIPINTA IN PINACOTECA TOSIO MARTINENGO
DESCRIPTION:Saper leggere un abito\, la sua foggia e i suoi colori svela un punto di vista inedito iper interpretarne il contesto storico e artistico. Foppa\, Romanino\, Ceruti e tanti altri pittori ci accompagneranno in un viaggio lungo la storia di Brescia in cui la produzione serica venne ufficialmente ammessa dalla Serenissima nel 1562.
URL:https://www.guidaartistica.com/evento/cosi-vestivano-una-sfilata-dipinta-in-pinacoteca-tosio-martinengo-2/
LOCATION:Pinacoteca Tosio Martinengo\, piazza Moretto n.4\, Brescia\, Italia
CATEGORIES:Visite guidate
ATTACH;FMTTYPE=image/jpeg:https://www.guidaartistica.com/wp-content/uploads/2026/01/modaPinacoteca.jpg
END:VEVENT
BEGIN:VEVENT
DTSTART;TZID=Europe/Rome:20260221T160000
DTEND;TZID=Europe/Rome:20260221T173000
DTSTAMP:20260423T214000
CREATED:20260120T090211Z
LAST-MODIFIED:20260205T172442Z
UID:6272-1771689600-1771695000@www.guidaartistica.com
SUMMARY:LIBERTY. L'ARTE DELL'ITALIA MODERNA
DESCRIPTION:Interessante esposizione tematica a Palazzo Martinengo a Brescia dove la stagione del liberty italiano è narrata attraverso un centinaio di opere tra dipinti\, sculture\, manifesti pubblicitari\, abiti\, fotografie\, e frammenti cinematografici. Emblematiche opere come L’attesa di Gian Emilio Malerba\, il Ritratto della contessa Lia Goldman di Corcos e il trittico L’enigma umano di G.Kienerk\, uno dei vertici del Liberty italiano.
URL:https://www.guidaartistica.com/evento/liberty-larte-dellitalia-moderna-10/
LOCATION:Palazzo Martinengo Cesaresco – sede della Provincia di Brescia\, via Musei 32\, Brescia
CATEGORIES:Visite guidate
ATTACH;FMTTYPE=image/jpeg:https://www.guidaartistica.com/wp-content/uploads/2026/01/mostra-liberty-febbraio.jpg
END:VEVENT
BEGIN:VEVENT
DTSTART;TZID=Europe/Rome:20260222T103000
DTEND;TZID=Europe/Rome:20260223T120000
DTSTAMP:20260423T214000
CREATED:20260120T090211Z
LAST-MODIFIED:20260205T172558Z
UID:6275-1771756200-1771848000@www.guidaartistica.com
SUMMARY:LIBERTY. L'ARTE DELL'ITALIA MODERNA
DESCRIPTION:Interessante esposizione tematica a Palazzo Martinengo a Brescia dove la stagione del liberty italiano è narrata attraverso un centinaio di opere tra dipinti\, sculture\, manifesti pubblicitari\, abiti\, fotografie\, e frammenti cinematografici. Emblematiche opere come L’attesa di Gian Emilio Malerba\, il Ritratto della contessa Lia Goldman di Corcos e il trittico L’enigma umano di G.Kienerk\, uno dei vertici del Liberty italiano.
URL:https://www.guidaartistica.com/evento/liberty-larte-dellitalia-moderna-12/
LOCATION:Palazzo Martinengo Cesaresco – sede della Provincia di Brescia\, via Musei 32\, Brescia
CATEGORIES:Visite guidate
ATTACH;FMTTYPE=image/jpeg:https://www.guidaartistica.com/wp-content/uploads/2026/01/mostra-liberty-febbraio.jpg
END:VEVENT
BEGIN:VEVENT
DTSTART;TZID=Europe/Rome:20260314T172000
DTEND;TZID=Europe/Rome:20260314T185000
DTSTAMP:20260423T214000
CREATED:20260120T090211Z
LAST-MODIFIED:20260310T092734Z
UID:6277-1773508800-1773514200@www.guidaartistica.com
SUMMARY:LIBERTY. L'ARTE DELL'ITALIA MODERNA
DESCRIPTION:Interessante esposizione tematica a Palazzo Martinengo a Brescia dove la stagione del liberty italiano è narrata attraverso un centinaio di opere tra dipinti\, sculture\, manifesti pubblicitari\, abiti\, fotografie\, e frammenti cinematografici. Emblematiche opere come L’attesa di Gian Emilio Malerba\, il Ritratto della contessa Lia Goldman di Corcos e il trittico L’enigma umano di G.Kienerk\, uno dei vertici del Liberty italiano.
URL:https://www.guidaartistica.com/evento/liberty-larte-dellitalia-moderna-13/
LOCATION:Palazzo Martinengo Cesaresco – sede della Provincia di Brescia\, via Musei 32\, Brescia
CATEGORIES:Visite guidate
ATTACH;FMTTYPE=image/jpeg:https://www.guidaartistica.com/wp-content/uploads/2026/01/libertyjpg.jpg
END:VEVENT
BEGIN:VEVENT
DTSTART;TZID=Europe/Rome:20260321T110000
DTEND;TZID=Europe/Rome:20260321T123000
DTSTAMP:20260423T214000
CREATED:20180226T070046Z
LAST-MODIFIED:20260310T161815Z
UID:6289-1774090800-1774096200@www.guidaartistica.com
SUMMARY:IL VANTINIANO: IL CIMITERO MONUMENTALE PIU' ANTICO D'ITALIA
DESCRIPTION:Eretto dopo l’editto napoleonico di Saint Cloud (1804)\, il Cimitero Vantiniano è sicuramente l’edificio più imponente della Brescia dell’ottocento e non tutti sanno che è il più antico cimitero monumentale d’Italia. Progettato  da Rodolfo Vantini\, allora ventenne\, il Camposanto si distingue ancora oggi per la purezza delle linee neoclassiche e per l’unitarietà dell’insieme\, secondo un progetto che l’architetto seguirà fino agli ultimi giorni della sua vita. GUIDA ARTISTICA vi farà ripercorrere i passi di questo grande cantiere\, andando a ritroso nella storia degli illustri personaggi di Brescia che qui riposano\, protetti dai cipressi e dalla mole del Faro\, l’altissimo e silenzioso guardiano della città. Appuntamento all’ingresso del Cimitero Vantiniano \nPrenotazione obbligatoria telefonando al   3473028031 o scrivendo info@guidaartistica.com \nVisita guidata organizzata da Guida Artistica\, gruppo di guide turistiche abilitate specializzate su Brescia\, lago di Garda\, Sebino\, Franciacorta\, Vallecamonica e tutta la provincia di Brescia. Bergamo Brescia capitali della cultura 2023.
URL:https://www.guidaartistica.com/evento/il-vantiniano-il-cimitero-monumentale-piu-antico-ditalia-9/
LOCATION:Cimitero Vantiniano\, via Milano n.17\, Brescia
CATEGORIES:Visite guidate
ATTACH;FMTTYPE=image/jpeg:https://www.guidaartistica.com/wp-content/uploads/2015/04/bella-con-gruppo.jpg
END:VEVENT
BEGIN:VEVENT
DTSTART;TZID=Europe/Rome:20260322T153000
DTEND;TZID=Europe/Rome:20260322T170000
DTSTAMP:20260423T214000
CREATED:20220110T140832Z
LAST-MODIFIED:20260312T105226Z
UID:6291-1774193400-1774198800@www.guidaartistica.com
SUMMARY:PALAZZO MAGGI GAMBARA AI CAPPUCCINI
DESCRIPTION:Uno splendido palazzo nobiliare nel cuore della città ci accoglie con sale affrescate e uno scenografico scalone progettato dall’architetto Marchetti\, uno dei più apprezzati del XVIII sec. Nella chiesa interna poi ammireremo sull’altar maggiore una grandiosa pala del Moretto\, originariamente commissionata per San Pietro in Oliveto. \n  \nVisita guidata organizzata da Guida Artistica\, gruppo di guide turistiche abilitate\, specializzate su Brescia\, Lago di Garda\, Franciacorta\, Lago d’Iseo e provincia di Brescia. \nBergamo-Brescia capitali della cultura 2023
URL:https://www.guidaartistica.com/evento/palazzo-maggi-gambara-ai-cappuccini-9/
LOCATION:centro paolo VI\, via Gezio Calini 30\, Brescia
CATEGORIES:Visite guidate
ATTACH;FMTTYPE=image/jpeg:https://www.guidaartistica.com/wp-content/uploads/2022/01/DSCF1783.jpg
END:VEVENT
BEGIN:VEVENT
DTSTART;TZID=Europe/Rome:20260328T100000
DTEND;TZID=Europe/Rome:20260328T113000
DTSTAMP:20260423T214000
CREATED:20160131T170356Z
LAST-MODIFIED:20260310T094117Z
UID:6285-1774692000-1774697400@www.guidaartistica.com
SUMMARY:La chiesa di San Francesco
DESCRIPTION:Chi non si è mai fermato ad ammirare la sua semplice facciata  impreziosita dal bel rosone? \nLa promessa di un’ atmosfera soffusa e intrisa di spiritualità non è tradita dagli interni della chiesa di San Francesco\, che è considerata una tra le più belle di Brescia. Dopo aver varcato il bel portale marmoreo\, è la luce fioca che ci prende per mano dolcemente\, facendoci percorrere la navata fino al solenne presbiterio. Sull’altar maggiore l’oro della cornice scintilla e attira l’attenzione a buona ragione sulla tela del Romanino\, capolavoro di età giovanile del pittore rinascimentale\, che non fa rimpiangere la mancata esecuzione del quadro da parte di Leonardo da Vinci che non accetto’ l’incarico.\nPiù in basso\, la mensa è costituita da un sarcofago classico le cui scene a bassorilievo sorprendono per la ricchezza di dettagli e l’accuratezza dell’esecuzione.\nSulle pareti della chiesa affreschi medioevali e cappelle rinascimentali raccontano per immagini la storia di devozione che ha caratterizzato questo luogo sin dal XIII secolo\, fino ad arrivare ai bagliori barocchi della cappella dell’Immacolata Concezione.\nLa visita terminerà nel chiostro grande\, con un tuffo nella vita del convento all’epoca della sua costruzione. Non sarà difficile immaginare i monaci d’allora mentre passeggiano sotto il bel portico con il libro delle Ore in mano\, alzando di tanto in tanto lo sguardo ad ammirare i fiori e il cielo.\n\n\n\nContributo di partecipazione euro 12. Prenotazione obbligatoria. \n  \nVisita guidata organizzata da Guida Artistica\, gruppo di guide turistiche abilitate\, specializzate su Brescia\, Lago di Garda\, Franciacorta\, Lago d’Iseo e provincia di Brescia. \n  \n 
URL:https://www.guidaartistica.com/evento/la-chiesa-di-san-francesco-15/
LOCATION:Chiesa di san Francesco\, via san francesco d'assisi\, Brescia
CATEGORIES:Visite guidate
ATTACH;FMTTYPE=image/jpeg:https://www.guidaartistica.com/wp-content/uploads/2014/10/SAN-FRANCESCO.jpg
END:VEVENT
BEGIN:VEVENT
DTSTART;TZID=Europe/Rome:20260328T172000
DTEND;TZID=Europe/Rome:20260328T190000
DTSTAMP:20260423T214000
CREATED:20260120T090211Z
LAST-MODIFIED:20260319T072936Z
UID:6282-1774718400-1774724400@www.guidaartistica.com
SUMMARY:LIBERTY. L'ARTE DELL'ITALIA MODERNA
DESCRIPTION:Interessante esposizione tematica a Palazzo Martinengo a Brescia dove la stagione del liberty italiano è narrata attraverso un centinaio di opere tra dipinti\, sculture\, manifesti pubblicitari\, abiti\, fotografie\, e frammenti cinematografici. Emblematiche opere come L’attesa di Gian Emilio Malerba\, il Ritratto della contessa Lia Goldman di Corcos e il trittico L’enigma umano di G.Kienerk\, uno dei vertici del Liberty italiano.
URL:https://www.guidaartistica.com/evento/liberty-larte-dellitalia-moderna-15/
LOCATION:Palazzo Martinengo Cesaresco – sede della Provincia di Brescia\, via Musei 32\, Brescia
CATEGORIES:Visite guidate
ATTACH;FMTTYPE=image/jpeg:https://www.guidaartistica.com/wp-content/uploads/2026/01/libertyjpg.jpg
END:VEVENT
BEGIN:VEVENT
DTSTART;TZID=Europe/Rome:20260329T150000
DTEND;TZID=Europe/Rome:20260329T170000
DTSTAMP:20260423T214000
CREATED:20240919T151041Z
LAST-MODIFIED:20260327T210737Z
UID:6295-1774796400-1774803600@www.guidaartistica.com
SUMMARY:IL GIARDINO DELLE MUSE
DESCRIPTION:Straordinaria possibilità di visitare la tenuta di una prestigiosa dimora nobiliare  a Collebeato (Bs). \nGuidati dalla narrazione di Guida Artistica passeggeremo nel parco all’inglese di Villa Martinengo Mazzola Panciera di Zoppola Bona\, nel vigneto\, nell’esedra e sul colle tra echi poetici\, mitologici e la storia secolare di una famiglia che continua a prendersi cura di un luogo di grande fascino. \nAl termine della passeggiata\, adatta a tutti\, ci attenderà un brindisi con un calice di Col Beato\, tenuta la Sinta\, vincitore della medaglia d’oro 2022 “emozioni dal mondo”
URL:https://www.guidaartistica.com/evento/il-giardino-delle-muse-6/
CATEGORIES:Visite guidate
ATTACH;FMTTYPE=image/jpeg:https://www.guidaartistica.com/wp-content/uploads/2024/09/GiardinodelleMuse-1.jpg
END:VEVENT
BEGIN:VEVENT
DTSTART;TZID=Europe/Rome:20260411T172000
DTEND;TZID=Europe/Rome:20260411T185000
DTSTAMP:20260423T214000
CREATED:20260120T090211Z
LAST-MODIFIED:20260327T211148Z
UID:6296-1775928000-1775933400@www.guidaartistica.com
SUMMARY:LIBERTY. L'ARTE DELL'ITALIA MODERNA
DESCRIPTION:Interessante esposizione tematica a Palazzo Martinengo a Brescia dove la stagione del liberty italiano è narrata attraverso un centinaio di opere tra dipinti\, sculture\, manifesti pubblicitari\, abiti\, fotografie\, e frammenti cinematografici. Emblematiche opere come L’attesa di Gian Emilio Malerba\, il Ritratto della contessa Lia Goldman di Corcos e il trittico L’enigma umano di G.Kienerk\, uno dei vertici del Liberty italiano.
URL:https://www.guidaartistica.com/evento/liberty-larte-dellitalia-moderna-17/
LOCATION:Palazzo Martinengo Cesaresco – sede della Provincia di Brescia\, via Musei 32\, Brescia
CATEGORIES:Visite guidate
ATTACH;FMTTYPE=image/jpeg:https://www.guidaartistica.com/wp-content/uploads/2026/01/libertyjpg.jpg
END:VEVENT
BEGIN:VEVENT
DTSTART;TZID=Europe/Rome:20260412T150000
DTEND;TZID=Europe/Rome:20260412T170000
DTSTAMP:20260423T214000
CREATED:20210513T135224Z
LAST-MODIFIED:20260404T152028Z
UID:4960-1776006000-1776013200@www.guidaartistica.com
SUMMARY:BRESCIA: LA FERREA CITTA' DEL TONDINO
DESCRIPTION:All’esterno delle “chiusure” della città di Brescia\, si trova un quartiere in cui il tempo sembra essersi fermato: l’acqua ha dato vita ad un microcosmo molto particolare in cui convivevano campi coltivati\, fucine e dimore signorili. Fulcro della nostra passeggiata guidata è il Museo del Ferro\, recentemente riallestito\, da cui partiremo alla scoperta del quartiere di San Bartolomeo: ancor oggi un pezzo di campagna in città. \n  \nGuida Artistica è un gruppo di guide turistiche abilitate specializzate nel territorio di Brescia\, Franciacorta\, Lago di Garda\, Lago d’Iseo.
URL:https://www.guidaartistica.com/evento/brescia-la-ferrea-citta-del-tondino/
LOCATION:museo del ferro\, Brescia
CATEGORIES:Visite guidate
ATTACH;FMTTYPE=image/jpeg:https://www.guidaartistica.com/wp-content/uploads/2021/05/musil.jpg
END:VEVENT
BEGIN:VEVENT
DTSTART;TZID=Europe/Rome:20260412T170000
DTEND;TZID=Europe/Rome:20260412T183000
DTSTAMP:20260423T214000
CREATED:20260120T090211Z
LAST-MODIFIED:20260401T085127Z
UID:6305-1776013200-1776018600@www.guidaartistica.com
SUMMARY:LIBERTY. L'ARTE DELL'ITALIA MODERNA
DESCRIPTION:Interessante esposizione tematica a Palazzo Martinengo a Brescia dove la stagione del liberty italiano è narrata attraverso un centinaio di opere tra dipinti\, sculture\, manifesti pubblicitari\, abiti\, fotografie\, e frammenti cinematografici. Emblematiche opere come L’attesa di Gian Emilio Malerba\, il Ritratto della contessa Lia Goldman di Corcos e il trittico L’enigma umano di G.Kienerk\, uno dei vertici del Liberty italiano.
URL:https://www.guidaartistica.com/evento/liberty-larte-dellitalia-moderna-18/
LOCATION:Palazzo Martinengo Cesaresco – sede della Provincia di Brescia\, via Musei 32\, Brescia
CATEGORIES:Visite guidate
ATTACH;FMTTYPE=image/jpeg:https://www.guidaartistica.com/wp-content/uploads/2026/01/libertyjpg.jpg
END:VEVENT
BEGIN:VEVENT
DTSTART;TZID=Europe/Rome:20260418T100000
DTEND;TZID=Europe/Rome:20260418T113000
DTSTAMP:20260423T214000
CREATED:20160227T103921Z
LAST-MODIFIED:20260327T211023Z
UID:6297-1776506400-1776511800@www.guidaartistica.com
SUMMARY:La sala delle Dame a Palazzo Salvadego
DESCRIPTION:Guida Artistica organizza una visita esclusiva alla “Sala delle Dame”\, preziosissimo ambiente affrescato dal Moretto e dalla sua bottega per il palazzo patrizio della famiglia Martinengo da Padernello. Un tuffo nel passato per conoscere la storia di questa illustre famiglia ed apprezzarne l’elegante gusto\, grazie ai meravigliosi affreschi conservati. \n 
URL:https://www.guidaartistica.com/evento/la-sala-delle-dame-a-palazzo-salvadego-6/
CATEGORIES:Visite guidate
ATTACH;FMTTYPE=image/jpeg:https://www.guidaartistica.com/wp-content/uploads/2016/02/sala-dame.jpg
END:VEVENT
BEGIN:VEVENT
DTSTART;TZID=Europe/Rome:20260418T173000
DTEND;TZID=Europe/Rome:20260418T190000
DTSTAMP:20260423T214000
CREATED:20260120T090211Z
LAST-MODIFIED:20260321T162556Z
UID:6283-1776533400-1776538800@www.guidaartistica.com
SUMMARY:LIBERTY. L'ARTE DELL'ITALIA MODERNA
DESCRIPTION:Interessante esposizione tematica a Palazzo Martinengo a Brescia dove la stagione del liberty italiano è narrata attraverso un centinaio di opere tra dipinti\, sculture\, manifesti pubblicitari\, abiti\, fotografie\, e frammenti cinematografici. Emblematiche opere come L’attesa di Gian Emilio Malerba\, il Ritratto della contessa Lia Goldman di Corcos e il trittico L’enigma umano di G.Kienerk\, uno dei vertici del Liberty italiano.
URL:https://www.guidaartistica.com/evento/liberty-larte-dellitalia-moderna-16/
LOCATION:Palazzo Martinengo Cesaresco – sede della Provincia di Brescia\, via Musei 32\, Brescia
CATEGORIES:Visite guidate
ATTACH;FMTTYPE=image/jpeg:https://www.guidaartistica.com/wp-content/uploads/2026/01/libertyjpg.jpg
END:VEVENT
BEGIN:VEVENT
DTSTART;TZID=Europe/Rome:20260419T150000
DTEND;TZID=Europe/Rome:20260419T163000
DTSTAMP:20260423T214000
CREATED:20180226T070046Z
LAST-MODIFIED:20260404T161025Z
UID:6308-1776610800-1776616200@www.guidaartistica.com
SUMMARY:IL VANTINIANO: IL CIMITERO MONUMENTALE PIU' ANTICO D'ITALIA
DESCRIPTION:Eretto dopo l’editto napoleonico di Saint Cloud (1804)\, il Cimitero Vantiniano è sicuramente l’edificio più imponente della Brescia dell’ottocento e non tutti sanno che è il più antico cimitero monumentale d’Italia. Progettato  da Rodolfo Vantini\, allora ventenne\, il Camposanto si distingue ancora oggi per la purezza delle linee neoclassiche e per l’unitarietà dell’insieme\, secondo un progetto che l’architetto seguirà fino agli ultimi giorni della sua vita. GUIDA ARTISTICA vi farà ripercorrere i passi di questo grande cantiere\, andando a ritroso nella storia degli illustri personaggi di Brescia che qui riposano\, protetti dai cipressi e dalla mole del Faro\, l’altissimo e silenzioso guardiano della città. Appuntamento all’ingresso del Cimitero Vantiniano \nPrenotazione obbligatoria telefonando al   3473028031 o scrivendo info@guidaartistica.com \nVisita guidata organizzata da Guida Artistica\, gruppo di guide turistiche abilitate specializzate su Brescia\, lago di Garda\, Sebino\, Franciacorta\, Vallecamonica e tutta la provincia di Brescia. Bergamo Brescia capitali della cultura 2023.
URL:https://www.guidaartistica.com/evento/il-vantiniano-il-cimitero-monumentale-piu-antico-ditalia-10/
LOCATION:Cimitero Vantiniano\, via Milano n.17\, Brescia
CATEGORIES:Visite guidate
ATTACH;FMTTYPE=image/jpeg:https://www.guidaartistica.com/wp-content/uploads/2015/04/bella-con-gruppo.jpg
END:VEVENT
END:VCALENDAR