BEGIN:VCALENDAR
VERSION:2.0
PRODID:-//Guida Artistica - ECPv6.15.20//NONSGML v1.0//EN
CALSCALE:GREGORIAN
METHOD:PUBLISH
X-WR-CALNAME:Guida Artistica
X-ORIGINAL-URL:https://www.guidaartistica.com
X-WR-CALDESC:Eventi per Guida Artistica
REFRESH-INTERVAL;VALUE=DURATION:PT1H
X-Robots-Tag:noindex
X-PUBLISHED-TTL:PT1H
BEGIN:VTIMEZONE
TZID:Europe/Rome
BEGIN:DAYLIGHT
TZOFFSETFROM:+0100
TZOFFSETTO:+0200
TZNAME:CEST
DTSTART:20220327T010000
END:DAYLIGHT
BEGIN:STANDARD
TZOFFSETFROM:+0200
TZOFFSETTO:+0100
TZNAME:CET
DTSTART:20221030T010000
END:STANDARD
BEGIN:DAYLIGHT
TZOFFSETFROM:+0100
TZOFFSETTO:+0200
TZNAME:CEST
DTSTART:20230326T010000
END:DAYLIGHT
BEGIN:STANDARD
TZOFFSETFROM:+0200
TZOFFSETTO:+0100
TZNAME:CET
DTSTART:20231029T010000
END:STANDARD
BEGIN:DAYLIGHT
TZOFFSETFROM:+0100
TZOFFSETTO:+0200
TZNAME:CEST
DTSTART:20240331T010000
END:DAYLIGHT
BEGIN:STANDARD
TZOFFSETFROM:+0200
TZOFFSETTO:+0100
TZNAME:CET
DTSTART:20241027T010000
END:STANDARD
END:VTIMEZONE
BEGIN:VEVENT
DTSTART;TZID=Europe/Rome:20230311T160000
DTEND;TZID=Europe/Rome:20230311T173000
DTSTAMP:20260426T042409
CREATED:20230301T221552Z
LAST-MODIFIED:20230301T221552Z
UID:5651-1678550400-1678555800@www.guidaartistica.com
SUMMARY:LA CHIESA DI SAN CLEMENTE A BRESCIA
DESCRIPTION:
URL:https://www.guidaartistica.com/evento/la-chiesa-di-san-clemente-a-brescia/
LOCATION:Chiesa di San Clemente\, vicolo San Clemente\, Brescia\, Italia
CATEGORIES:Visite guidate
ATTACH;FMTTYPE=image/jpeg:https://www.guidaartistica.com/wp-content/uploads/2023/03/chiesaSan-Clemente.jpg
END:VEVENT
BEGIN:VEVENT
DTSTART;TZID=Europe/Rome:20230311T160000
DTEND;TZID=Europe/Rome:20230311T173000
DTSTAMP:20260426T042409
CREATED:20230301T221552Z
LAST-MODIFIED:20230301T221552Z
UID:5664-1678550400-1678555800@www.guidaartistica.com
SUMMARY:Copy of LA CHIESA DI SAN CLEMENTE A BRESCIA
DESCRIPTION:
URL:https://www.guidaartistica.com/evento/copy-of-la-chiesa-di-san-clemente-a-brescia/
LOCATION:Chiesa di San Clemente\, vicolo San Clemente\, Brescia\, Italia
CATEGORIES:Visite guidate
ATTACH;FMTTYPE=image/jpeg:https://www.guidaartistica.com/wp-content/uploads/2023/03/chiesaSan-Clemente.jpg
END:VEVENT
BEGIN:VEVENT
DTSTART;TZID=Europe/Rome:20230311T182000
DTEND;TZID=Europe/Rome:20230311T192000
DTSTAMP:20260426T042409
CREATED:20230127T164849Z
LAST-MODIFIED:20230301T222138Z
UID:5661-1678558800-1678562400@www.guidaartistica.com
SUMMARY:MOSTRA LOTTO\, ROMANINO\, MORETTO\, CERUTI. I CAMPIONI DELLA PITTURA TRA BRESCIA E BERGAMO
DESCRIPTION:
URL:https://www.guidaartistica.com/evento/mostra-lotto-romanino-moretto-ceruti-i-campioni-della-pittura-tra-brescia-e-bergamo-4/
LOCATION:Palazzo Martinengo Cesaresco – sede della Provincia di Brescia\, via Musei 32\, Brescia
CATEGORIES:Visite guidate
ATTACH;FMTTYPE=image/jpeg:https://www.guidaartistica.com/wp-content/uploads/2023/01/mostraLotto.jpg
END:VEVENT
BEGIN:VEVENT
DTSTART;TZID=Europe/Rome:20230312T100000
DTEND;TZID=Europe/Rome:20230312T113000
DTSTAMP:20260426T042409
CREATED:20230301T221914Z
LAST-MODIFIED:20230301T221914Z
UID:5656-1678615200-1678620600@www.guidaartistica.com
SUMMARY:MISERIA E NOBILTA'- GIACOMO CERUTI NELL'EUROPA DEL 700
DESCRIPTION:
URL:https://www.guidaartistica.com/evento/miseria-e-nobilta-giacomo-ceruti-nelleuropa-del-700/
LOCATION:Museo di Santa Giulia\, via dei Musei\, Brescia
CATEGORIES:Visite guidate
ATTACH;FMTTYPE=image/jpeg:https://www.guidaartistica.com/wp-content/uploads/2023/03/mostraCeruti.jpg
END:VEVENT
BEGIN:VEVENT
DTSTART;TZID=Europe/Rome:20230320T160000
DTEND;TZID=Europe/Rome:20230320T173000
DTSTAMP:20260426T042409
CREATED:20230307T212903Z
LAST-MODIFIED:20230307T212903Z
UID:5666-1679328000-1679333400@www.guidaartistica.com
SUMMARY:A TU PER TU CON TIEPOLO-VEROLANUOVA (BS)
DESCRIPTION:
URL:https://www.guidaartistica.com/evento/a-tu-per-tu-con-tiepolo-verolanuova-bs/
LOCATION:Basilica di San Lorenzo\, Verolanuova
CATEGORIES:Visite guidate
ATTACH;FMTTYPE=image/jpeg:https://www.guidaartistica.com/wp-content/uploads/2023/03/Tiepolo-marzo.jpg
END:VEVENT
BEGIN:VEVENT
DTSTART;TZID=Europe/Rome:20230326T100000
DTEND;TZID=Europe/Rome:20230326T113000
DTSTAMP:20260426T042409
CREATED:20230301T221914Z
LAST-MODIFIED:20230322T053942Z
UID:5660-1679824800-1679830200@www.guidaartistica.com
SUMMARY:MISERIA E NOBILTA'- GIACOMO CERUTI NELL'EUROPA DEL 700
DESCRIPTION:
URL:https://www.guidaartistica.com/evento/miseria-e-nobilta-giacomo-ceruti-nelleuropa-del-700-3/
LOCATION:Museo di Santa Giulia\, via dei Musei\, Brescia
CATEGORIES:Visite guidate
ATTACH;FMTTYPE=image/jpeg:https://www.guidaartistica.com/wp-content/uploads/2023/03/ceruti-1.jpg
END:VEVENT
BEGIN:VEVENT
DTSTART;TZID=Europe/Rome:20230402T102000
DTEND;TZID=Europe/Rome:20230402T112000
DTSTAMP:20260426T042409
CREATED:20230127T164849Z
LAST-MODIFIED:20230322T053444Z
UID:5665-1680430800-1680434400@www.guidaartistica.com
SUMMARY:MOSTRA LOTTO\, ROMANINO\, MORETTO\, CERUTI. I CAMPIONI DELLA PITTURA TRA BRESCIA E BERGAMO
DESCRIPTION:
URL:https://www.guidaartistica.com/evento/mostra-lotto-romanino-moretto-ceruti-i-campioni-della-pittura-tra-brescia-e-bergamo-5/
LOCATION:Palazzo Martinengo Cesaresco – sede della Provincia di Brescia\, via Musei 32\, Brescia
CATEGORIES:Visite guidate
ATTACH;FMTTYPE=image/jpeg:https://www.guidaartistica.com/wp-content/uploads/2023/01/mostraCampioni.jpg
END:VEVENT
BEGIN:VEVENT
DTSTART;TZID=Europe/Rome:20230402T160000
DTEND;TZID=Europe/Rome:20230402T173000
DTSTAMP:20260426T042409
CREATED:20230301T221914Z
LAST-MODIFIED:20230322T053400Z
UID:5673-1680451200-1680456600@www.guidaartistica.com
SUMMARY:MISERIA E NOBILTA'- GIACOMO CERUTI NELL'EUROPA DEL 700
DESCRIPTION:
URL:https://www.guidaartistica.com/evento/miseria-e-nobilta-giacomo-ceruti-nelleuropa-del-700-4/
LOCATION:Museo di Santa Giulia\, via dei Musei\, Brescia
CATEGORIES:Visite guidate
ATTACH;FMTTYPE=image/jpeg:https://www.guidaartistica.com/wp-content/uploads/2023/03/ceruti.jpg
END:VEVENT
BEGIN:VEVENT
DTSTART;TZID=Europe/Rome:20230413T153000
DTEND;TZID=Europe/Rome:20230413T170000
DTSTAMP:20260426T042409
CREATED:20230301T221914Z
LAST-MODIFIED:20230411T110936Z
UID:5680-1681399800-1681405200@www.guidaartistica.com
SUMMARY:MISERIA E NOBILTA'- GIACOMO CERUTI NELL'EUROPA DEL 700
DESCRIPTION:
URL:https://www.guidaartistica.com/evento/miseria-e-nobilta-giacomo-ceruti-nelleuropa-del-700-5/
LOCATION:Museo di Santa Giulia\, via dei Musei\, Brescia
CATEGORIES:Visite guidate
ATTACH;FMTTYPE=image/jpeg:https://www.guidaartistica.com/wp-content/uploads/2023/03/locandinaCeruti.jpg
END:VEVENT
BEGIN:VEVENT
DTSTART;TZID=Europe/Rome:20230415T193000
DTEND;TZID=Europe/Rome:20230415T203000
DTSTAMP:20260426T042409
CREATED:20230411T111604Z
LAST-MODIFIED:20230411T111646Z
UID:5686-1681587000-1681590600@www.guidaartistica.com
SUMMARY:NOTTE BLU -  BICI  BRESCIA
DESCRIPTION:
URL:https://www.guidaartistica.com/evento/notte-blu-brescia-bici/
LOCATION:palazzo loggia\, piazza loggia\, brescia
CATEGORIES:Visite guidate
ATTACH;FMTTYPE=image/jpeg:https://www.guidaartistica.com/wp-content/uploads/2023/04/post-ig_bicibrescia-15-aprile.jpg
END:VEVENT
BEGIN:VEVENT
DTSTART;TZID=Europe/Rome:20230418T160000
DTEND;TZID=Europe/Rome:20230418T173000
DTSTAMP:20260426T042409
CREATED:20230418T213620Z
LAST-MODIFIED:20230418T213630Z
UID:5710-1681833600-1681839000@www.guidaartistica.com
SUMMARY:A TU PER TU CON TIEPOLO
DESCRIPTION:
URL:https://www.guidaartistica.com/evento/a-tu-per-tu-con-tiepolo/
CATEGORIES:Visite guidate
ATTACH;FMTTYPE=image/jpeg:https://www.guidaartistica.com/wp-content/uploads/2023/04/Verolanuova.jpg
END:VEVENT
BEGIN:VEVENT
DTSTART;TZID=Europe/Rome:20230422T100000
DTEND;TZID=Europe/Rome:20230422T113000
DTSTAMP:20260426T042409
CREATED:20230418T213851Z
LAST-MODIFIED:20230421T211127Z
UID:5713-1682157600-1682163000@www.guidaartistica.com
SUMMARY:MUSEO DEL RISORGIMENTO-LEONESSA D'ITALIA
DESCRIPTION:
URL:https://www.guidaartistica.com/evento/museo-del-risorgimento-leonessa-ditalia/
LOCATION:Castello di Brescia\, via del Castello\, Brescia\, Italia
CATEGORIES:Visite guidate
ATTACH;FMTTYPE=image/jpeg:https://www.guidaartistica.com/wp-content/uploads/2023/04/museoRisorgimento-guidaArtistica.jpg
END:VEVENT
BEGIN:VEVENT
DTSTART;TZID=Europe/Rome:20230422T100000
DTEND;TZID=Europe/Rome:20230422T120000
DTSTAMP:20260426T042409
CREATED:20230413T121045Z
LAST-MODIFIED:20230413T201453Z
UID:5691-1682157600-1682164800@www.guidaartistica.com
SUMMARY:BRESCIA BICI: DAL CUORE DELLE PIAZZE AL CUORE DEL LIBERTY A BRESCIA
DESCRIPTION:Brescia “la Ferrea”\, “La Forte”\, “leonessa d’Italia”. Così Carducci citava la città 140 anni fa. \nQuasi nessuno cita Brescia “Liberty”\, uno stile che ancora oggi caratterizza diverse case e palazzi: un mondo vegetale e floreale con molta libertà di applicazione\, in cui i “colpi di frusta” ingentiliscono la solidità costruttiva e il senso architettonico bresciani. Ma si sa… la vita è fatta di dettagli e sfumature e a Guida Artistica piace scoprirli e raccontarli! \nIl nostro tour attraverserà anche alcune delle principali piazze della città\, che ne raccontano la storia e le bellezze: piazza del mercato con la sede del Rettorato dell’Università di Brescia\,  piazza Paolo VI con le due cattedrali e piazza della Repubblica con la grande fontana
URL:https://www.guidaartistica.com/evento/brescia-bici-dal-cuore-delle-piazze-al-cuore-del-liberty-a-brescia/
LOCATION:STAZIONE FS
CATEGORIES:Visite guidate
ATTACH;FMTTYPE=image/jpeg:https://www.guidaartistica.com/wp-content/uploads/2023/04/immagine-per-22-aprile.jpg
END:VEVENT
BEGIN:VEVENT
DTSTART;TZID=Europe/Rome:20230422T163000
DTEND;TZID=Europe/Rome:20230422T180000
DTSTAMP:20260426T042409
CREATED:20230301T221914Z
LAST-MODIFIED:20230411T111010Z
UID:5681-1682181000-1682186400@www.guidaartistica.com
SUMMARY:MISERIA E NOBILTA'- GIACOMO CERUTI NELL'EUROPA DEL 700
DESCRIPTION:
URL:https://www.guidaartistica.com/evento/miseria-e-nobilta-giacomo-ceruti-nelleuropa-del-700-6/
LOCATION:Museo di Santa Giulia\, via dei Musei\, Brescia
CATEGORIES:Visite guidate
ATTACH;FMTTYPE=image/jpeg:https://www.guidaartistica.com/wp-content/uploads/2023/03/locandinaCeruti.jpg
END:VEVENT
BEGIN:VEVENT
DTSTART;TZID=Europe/Rome:20230429T152000
DTEND;TZID=Europe/Rome:20230429T170000
DTSTAMP:20260426T042409
CREATED:20230127T164849Z
LAST-MODIFIED:20230418T213430Z
UID:5707-1682781600-1682787600@www.guidaartistica.com
SUMMARY:MOSTRA LOTTO\, ROMANINO\, MORETTO\, CERUTI. I CAMPIONI DELLA PITTURA TRA BRESCIA E BERGAMO
DESCRIPTION:
URL:https://www.guidaartistica.com/evento/mostra-lotto-romanino-moretto-ceruti-i-campioni-della-pittura-tra-brescia-e-bergamo-7/
LOCATION:Palazzo Martinengo Cesaresco – sede della Provincia di Brescia\, via Musei 32\, Brescia
CATEGORIES:Visite guidate
ATTACH;FMTTYPE=image/jpeg:https://www.guidaartistica.com/wp-content/uploads/2023/01/29aprileCampioni.jpg
END:VEVENT
BEGIN:VEVENT
DTSTART;TZID=Europe/Rome:20230430T153000
DTEND;TZID=Europe/Rome:20230430T173000
DTSTAMP:20260426T042409
CREATED:20230413T121225Z
LAST-MODIFIED:20230413T201852Z
UID:5695-1682868600-1682875800@www.guidaartistica.com
SUMMARY:BRESCIA BICI: DA BRIXIA ROMANA AI GRATTACIELI
DESCRIPTION:Con questo tour ti porteremo a scoprire le radici romane di Brescia\, leggibili in piazza del foro con il tempio e il teatro\, ma anche in piazzetta labus con i resti dell’antica basilica che no\, non è una chiesa. Pedalata dopo pedalata ci proietteremo poi nel distretto finanziario di Brescia Due\, sotto i grattacieli per scoprire i progetti degli archistar\, i gioielli di vetro\, i colori di Jorrit Torquist\, un gasometro e  il Giardino dei Giusti la cui storia si intreccia con quella di Gino Bartali.
URL:https://www.guidaartistica.com/evento/brescia-bici-da-brixia-romana-ai-grattacieli/
LOCATION:infopoint stazione FS
CATEGORIES:Visite guidate
ATTACH;FMTTYPE=image/jpeg:https://www.guidaartistica.com/wp-content/uploads/2023/04/immagine-per-30-aprile1.jpg
END:VEVENT
BEGIN:VEVENT
DTSTART;TZID=Europe/Rome:20230527T103000
DTEND;TZID=Europe/Rome:20230527T130000
DTSTAMP:20260426T042409
CREATED:20230518T153730Z
LAST-MODIFIED:20230523T080525Z
UID:5717-1685183400-1685192400@www.guidaartistica.com
SUMMARY:ALLA SCOPERTA DI BRESCIA ROMANA: PIAZZA DEL FORO E OLTRE
DESCRIPTION:La Vittoria Alata vi aspetta !
URL:https://www.guidaartistica.com/evento/alla-scoperta-di-brescia-romana-piazza-del-foro-e-oltre/
LOCATION:Orologio Piazza Loggia\, Piazza della Loggia\, Brescia\, Italia
CATEGORIES:Visite guidate
ATTACH;FMTTYPE=image/jpeg:https://www.guidaartistica.com/wp-content/uploads/2023/05/27maggio-bis.jpg
END:VEVENT
BEGIN:VEVENT
DTSTART;TZID=Europe/Rome:20230528T100000
DTEND;TZID=Europe/Rome:20230528T120000
DTSTAMP:20260426T042409
CREATED:20230413T121225Z
LAST-MODIFIED:20230413T202956Z
UID:5703-1685268000-1685275200@www.guidaartistica.com
SUMMARY:BRESCIA BICI: BRESCIA LEONESSA D'ITALIA
DESCRIPTION:La storia risorgimentale bresciana le è valsa il soprannome glorioso di Leonessa d’Italia\, legato soprattutto all’eroismo delle X giornate del 1849.  Come si svolsero i fatti? perchè non arrivarono i soccorsi tanto attesi? \nUna pedalata dietro l’altra\, andremo alla scoperta dei luoghi più significativi di quelle vicende\, dei personaggi più importanti e degli angoli in cui si scrisse letteralmente la storia bresciana\, non solo di quei giorni. \n 
URL:https://www.guidaartistica.com/evento/brescia-bici-brescia-leonessa-ditalia/
LOCATION:infopoint stazione FS
CATEGORIES:Visite guidate
ATTACH;FMTTYPE=image/jpeg:https://www.guidaartistica.com/wp-content/uploads/2023/04/immagine-per-28-maggio.jpg
END:VEVENT
BEGIN:VEVENT
DTSTART;TZID=Europe/Rome:20230603T100000
DTEND;TZID=Europe/Rome:20230603T113000
DTSTAMP:20260426T042409
CREATED:20160813T070016Z
LAST-MODIFIED:20230523T075556Z
UID:5726-1685786400-1685791800@www.guidaartistica.com
SUMMARY:LA CHIESA DI S.MARIA DEL CARMINE
DESCRIPTION:L’edificio è legato\, sin dalle sue origini – alla metà del Trecento\, alla presenza dei Carmelitani in città\, chiamati alla cura delle anime del popoloso quartiere. L’importanza di questa chiesa nel tessuto cittadino è immediatamente percepibile dalle dimensioni (è l’edificio di culto più capiente dopo la Cattedrale) e dalle numerosissime maestranze che hanno lavorato al grande cantiere per oltre quattro secoli. \nVarcato il magnifico portale scolpito\, accanto ai capolavori dei grandi maestri (la cappella Averoldi del Foppa in S. Maria del Carmine è pietra miliare della storia dell’arte lombarda)\, sarà possibile ammirare grazie ai racconti di Guida Artistica le opere di artisti forse meno noti al grande pubblico\, ma di grande qualità\, incluso lo spettacolare coro. \nPer l’occasione sarà possibile visitare anche la Cappella Parva\, ammantata di affreschi. \nContributo di partecipazione euro 12 . Prenotazione obbligatoria. \n  \nGuida Artistica è un gruppo di guide turistiche abilitate specializzate nel territorio di Brescia\, Franciacorta\, Lago di Garda\, Lago d’Iseo.
URL:https://www.guidaartistica.com/evento/la-chiesa-di-s-maria-del-carmine-12/
LOCATION:chiesa del carmine\, contrada del Carmine\, Brescia
CATEGORIES:Visite guidate
ATTACH;FMTTYPE=image/jpeg:https://www.guidaartistica.com/wp-content/uploads/2016/08/tetti-di-SMCarimine-beaTasca.jpg
END:VEVENT
BEGIN:VEVENT
DTSTART;TZID=Europe/Rome:20230603T150000
DTEND;TZID=Europe/Rome:20230603T170000
DTSTAMP:20260426T042409
CREATED:20230413T121225Z
LAST-MODIFIED:20230523T075242Z
UID:5720-1685804400-1685811600@www.guidaartistica.com
SUMMARY:BRESCIA BICI: DAL CUORE DELLE PIAZZE AL CUORE LIBERTY DI BRESCIA
DESCRIPTION:  \n 
URL:https://www.guidaartistica.com/evento/brescia-bici-dal-cuore-delle-piazze-al-cuore-liberty-di-brescia/
LOCATION:infopoint stazione FS
CATEGORIES:Visite guidate
ATTACH;FMTTYPE=image/jpeg:https://www.guidaartistica.com/wp-content/uploads/2023/04/BICI-liberty.jpg
END:VEVENT
BEGIN:VEVENT
DTSTART;TZID=Europe/Rome:20230604T170000
DTEND;TZID=Europe/Rome:20230604T183000
DTSTAMP:20260426T042409
CREATED:20230127T164849Z
LAST-MODIFIED:20230523T075147Z
UID:5721-1685898000-1685903400@www.guidaartistica.com
SUMMARY:MOSTRA LOTTO\, ROMANINO\, MORETTO\, CERUTI. I CAMPIONI DELLA PITTURA TRA BRESCIA E BERGAMO
DESCRIPTION:
URL:https://www.guidaartistica.com/evento/mostra-lotto-romanino-moretto-ceruti-i-campioni-della-pittura-tra-brescia-e-bergamo-8/
LOCATION:Palazzo Martinengo Cesaresco – sede della Provincia di Brescia\, via Musei 32\, Brescia
CATEGORIES:Visite guidate
ATTACH;FMTTYPE=image/jpeg:https://www.guidaartistica.com/wp-content/uploads/2023/01/mostraCampioni-1.jpg
END:VEVENT
BEGIN:VEVENT
DTSTART;TZID=Europe/Rome:20230606T183000
DTEND;TZID=Europe/Rome:20230606T200000
DTSTAMP:20260426T042409
CREATED:20230601T212222Z
LAST-MODIFIED:20230601T212236Z
UID:5732-1686076200-1686081600@www.guidaartistica.com
SUMMARY:LA FABBRICA DELLA MUSICA - TOUR IN BICI
DESCRIPTION:
URL:https://www.guidaartistica.com/evento/la-fabbrica-della-musica-tour-in-bici/
CATEGORIES:Visite guidate
ATTACH;FMTTYPE=image/jpeg:https://www.guidaartistica.com/wp-content/uploads/2023/06/Post-facebook-finale.jpg
END:VEVENT
BEGIN:VEVENT
DTSTART;TZID=Europe/Rome:20230616T190000
DTEND;TZID=Europe/Rome:20230616T210000
DTSTAMP:20260426T042409
CREATED:20230601T212541Z
LAST-MODIFIED:20230601T212541Z
UID:5736-1686942000-1686949200@www.guidaartistica.com
SUMMARY:BRESCIA BICI TOUR - LA NOBILE BRESCIA ATTRAVERSO CORTILI\, FACCIATE E PORTALI
DESCRIPTION:
URL:https://www.guidaartistica.com/evento/brescia-bici-tour-la-nobile-brescia-attraverso-cortili-facciate-e-portali/
CATEGORIES:Visite guidate
ATTACH;FMTTYPE=image/jpeg:https://www.guidaartistica.com/wp-content/uploads/2023/06/16giugno-lanobilebrescia.jpg
END:VEVENT
BEGIN:VEVENT
DTSTART;TZID=Europe/Rome:20230617T100000
DTEND;TZID=Europe/Rome:20230617T123000
DTSTAMP:20260426T042409
CREATED:20230601T212222Z
LAST-MODIFIED:20230611T201632Z
UID:5739-1686996000-1687005000@www.guidaartistica.com
SUMMARY:LA FABBRICA DELLA MUSICA - TOUR IN BICI
DESCRIPTION:Tour guidato in bicicletta per conoscere i principali siti di archeologia industriale a Brescia.
URL:https://www.guidaartistica.com/evento/la-fabbrica-della-musica-tour-in-bici-2/
LOCATION:piazza Garibaldi – Brescia
CATEGORIES:Visite guidate
ATTACH;FMTTYPE=image/jpeg:https://www.guidaartistica.com/wp-content/uploads/2023/06/bici-antiche.jpg
END:VEVENT
BEGIN:VEVENT
DTSTART;TZID=Europe/Rome:20230618T100000
DTEND;TZID=Europe/Rome:20230618T123000
DTSTAMP:20260426T042409
CREATED:20230611T202156Z
LAST-MODIFIED:20230611T202258Z
UID:5749-1687082400-1687091400@www.guidaartistica.com
SUMMARY:CORRIDOIO UNESCO E MUSEO DI SANTA GIULIA
DESCRIPTION:
URL:https://www.guidaartistica.com/evento/corridoio-unesco-e-museo-di-santa-giulia/
CATEGORIES:Visite guidate
ATTACH;FMTTYPE=image/jpeg:https://www.guidaartistica.com/wp-content/uploads/2023/06/Corridoio-Unesco.jpg
END:VEVENT
BEGIN:VEVENT
DTSTART;TZID=Europe/Rome:20230618T170000
DTEND;TZID=Europe/Rome:20230618T183000
DTSTAMP:20260426T042409
CREATED:20230611T201837Z
LAST-MODIFIED:20230611T201955Z
UID:5744-1687107600-1687113000@www.guidaartistica.com
SUMMARY:MONTEROTONDO: CHE STORIA!
DESCRIPTION:visita
URL:https://www.guidaartistica.com/evento/monterotondo-che-storia/
LOCATION:oratorio Monterotondo
CATEGORIES:Visite guidate
ATTACH;FMTTYPE=image/jpeg:https://www.guidaartistica.com/wp-content/uploads/2023/06/Monterotondo.jpg
END:VEVENT
BEGIN:VEVENT
DTSTART;TZID=Europe/Rome:20230624T093000
DTEND;TZID=Europe/Rome:20230624T120000
DTSTAMP:20260426T042409
CREATED:20230626T135745Z
LAST-MODIFIED:20230626T135857Z
UID:5754-1687599000-1687608000@www.guidaartistica.com
SUMMARY:MADDALENA: CAMMINARE IN UN CAPOLAVORO
DESCRIPTION:Non solo una visita guidata\, non proprio uno spettacolo\, La Maddalena: camminare in un capolavoro è un trekking urbano a ritmo lento in cui alla voce narrante di Guida Artistica si intrecciano le performance teatrali di Teatro 19 e di danza di Lelastiko. \nUn modo nuovo di vivere il monte del centro di Brescia\, la Maddalena appunto\, che non è solo polmone verde della città ma scrigno di tesori storici e artistici da valorizzare. \nIl progetto è finanziato dal comune di Brescia nell’ambito dei bandi per Bergamo Brescia Capitali della Cultura 2023
URL:https://www.guidaartistica.com/evento/maddalena-camminare-in-un-capolavoro/
LOCATION:piazza Arnaldo
CATEGORIES:Visite guidate
ATTACH;FMTTYPE=image/jpeg:https://www.guidaartistica.com/wp-content/uploads/2023/06/locandinaMaddalena.jpg
END:VEVENT
BEGIN:VEVENT
DTSTART;TZID=Europe/Rome:20230701T093000
DTEND;TZID=Europe/Rome:20230701T113000
DTSTAMP:20260426T042409
CREATED:20180226T070046Z
LAST-MODIFIED:20230626T195059Z
UID:5758-1688203800-1688211000@www.guidaartistica.com
SUMMARY:IL VANTINIANO: IL CIMITERO MONUMENTALE PIU' ANTICO D'ITALIA
DESCRIPTION:Eretto dopo l’editto napoleonico di Saint Cloud (1804)\, il Cimitero Vantiniano è sicuramente l’edificio più imponente della Brescia dell’ottocento e non tutti sanno che è il più antico cimitero monumentale d’Italia. Progettato  da Rodolfo Vantini\, allora ventenne\, il Camposanto si distingue ancora oggi per la purezza delle linee neoclassiche e per l’unitarietà dell’insieme\, secondo un progetto che l’architetto seguirà fino agli ultimi giorni della sua vita. GUIDA ARTISTICA vi farà ripercorrere i passi di questo grande cantiere\, andando a ritroso nella storia degli illustri personaggi di Brescia che qui riposano\, protetti dai cipressi e dalla mole del Faro\, l’altissimo e silenzioso guardiano della città. Appuntamento all’ingresso del Cimitero Vantiniano \nPrenotazione obbligatoria telefonando al   3473028031 o scrivendo info@guidaartistica.com \nVisita guidata organizzata da Guida Artistica\, gruppo di guide turistiche abilitate specializzate su Brescia\, lago di Garda\, Sebino\, Franciacorta\, Vallecamonica e tutta la provincia di Brescia. Bergamo Brescia capitali della cultura 2023.
URL:https://www.guidaartistica.com/evento/il-vantiniano-il-cimitero-monumentale-piu-antico-ditalia-7/
LOCATION:Cimitero Vantiniano\, via Milano n.17\, Brescia
CATEGORIES:Visite guidate
ATTACH;FMTTYPE=image/jpeg:https://www.guidaartistica.com/wp-content/uploads/2015/04/bella-con-gruppo.jpg
END:VEVENT
BEGIN:VEVENT
DTSTART;TZID=Europe/Rome:20230705T200000
DTEND;TZID=Europe/Rome:20230705T213000
DTSTAMP:20260426T042409
CREATED:20190701T071414Z
LAST-MODIFIED:20230628T164058Z
UID:5764-1688587200-1688592600@www.guidaartistica.com
SUMMARY:LE VIE DELLA LIBERTÀ
DESCRIPTION:A Brescia esistono percorsi meno evidenti ma non per questo meno coinvolgenti\, soprattutto se protagonista è la Memoria\, sempre più difficile da conservare. In questa occasione Guida Artistica ripercorre le tracce di una storia spesso dimenticata\, alla ricerca dei luoghi e della presenza degli ebrei in città\, dall’epoca romana fino alla loro deportazione durate il secondo conflitto mondiale\, come ricordano le Pietre di inciampo. Attraverseremo le successive “ferite” di Brescia lungo il Memoriale delle vittime del terrorismo e della violenza politica\, avendo sempre come meta la Libertà\, in nome della quale molti morirono e lottarono. \nIncontro sotto l’orologio di piazza Loggia. \n  \nVisita guidata a Brescia organizzata da Guida Artistica\, gruppo di guide turistiche abilitate specializzate su Brescia\, lago di Garda\, Sebino\, Franciacorta\, Vallecamonica e tutta la provincia di Brescia.  Bergamo-Brescia Capitali della cultura 2023.
URL:https://www.guidaartistica.com/evento/le-vie-della-liberta-10/
LOCATION:Orologio Piazza Loggia\, Piazza della Loggia\, Brescia\, Italia
CATEGORIES:Visite guidate
ATTACH;FMTTYPE=image/jpeg:https://www.guidaartistica.com/wp-content/uploads/2019/07/pietre-inciampo-e1619602395956.jpg
END:VEVENT
BEGIN:VEVENT
DTSTART;TZID=Europe/Rome:20230713T200000
DTEND;TZID=Europe/Rome:20230713T223000
DTSTAMP:20260426T042409
CREATED:20230704T203326Z
LAST-MODIFIED:20230704T203528Z
UID:5767-1689278400-1689287400@www.guidaartistica.com
SUMMARY:APERITIVO AL TRAMONTO IN BARCA E FESTA DELLE LUCI A MONTISOLA
DESCRIPTION:Speciale tour guidato in occasione della festa delle luci a Montisola con partenza in barca da Iseo: \n\naperitivo con Franciacorta a bordo\nvisita guidata del borgo di Peschiera Maraglio\nvisita guidata delle installazioni luminose di Michelangelo Pistoletto e Angelo Bonello\n\nRitrovo al porto turistico di Iseo (da raggiungere con mezzi propri). \n  \nIniziativa nell’anno di Bergamo Brescia capitale della cultura 2023 a cura di Guida Artistica\, gruppo di guide turistiche specializzate sul  Lago d’Iseo (e Brescia\, Franciacorta e lago di Garda)
URL:https://www.guidaartistica.com/evento/aperitivo-al-tramonto-in-barca-e-festa-delle-luci-a-montisola/
LOCATION:iseo
CATEGORIES:Visite guidate
ATTACH;FMTTYPE=image/jpeg:https://www.guidaartistica.com/wp-content/uploads/2023/07/FESTAdelleLUCI.jpg
END:VEVENT
END:VCALENDAR