BEGIN:VCALENDAR
VERSION:2.0
PRODID:-//Guida Artistica - ECPv6.15.20//NONSGML v1.0//EN
CALSCALE:GREGORIAN
METHOD:PUBLISH
X-WR-CALNAME:Guida Artistica
X-ORIGINAL-URL:https://www.guidaartistica.com
X-WR-CALDESC:Eventi per Guida Artistica
REFRESH-INTERVAL;VALUE=DURATION:PT1H
X-Robots-Tag:noindex
X-PUBLISHED-TTL:PT1H
BEGIN:VTIMEZONE
TZID:Europe/Rome
BEGIN:DAYLIGHT
TZOFFSETFROM:+0100
TZOFFSETTO:+0200
TZNAME:CEST
DTSTART:20170326T010000
END:DAYLIGHT
BEGIN:STANDARD
TZOFFSETFROM:+0200
TZOFFSETTO:+0100
TZNAME:CET
DTSTART:20171029T010000
END:STANDARD
BEGIN:DAYLIGHT
TZOFFSETFROM:+0100
TZOFFSETTO:+0200
TZNAME:CEST
DTSTART:20180325T010000
END:DAYLIGHT
BEGIN:STANDARD
TZOFFSETFROM:+0200
TZOFFSETTO:+0100
TZNAME:CET
DTSTART:20181028T010000
END:STANDARD
BEGIN:DAYLIGHT
TZOFFSETFROM:+0100
TZOFFSETTO:+0200
TZNAME:CEST
DTSTART:20190331T010000
END:DAYLIGHT
BEGIN:STANDARD
TZOFFSETFROM:+0200
TZOFFSETTO:+0100
TZNAME:CET
DTSTART:20191027T010000
END:STANDARD
END:VTIMEZONE
BEGIN:VEVENT
DTSTART;TZID=Europe/Rome:20180609T161500
DTEND;TZID=Europe/Rome:20180609T174500
DTSTAMP:20260425T205436
CREATED:20180306T084643Z
LAST-MODIFIED:20180306T084643Z
UID:3757-1528560900-1528566300@www.guidaartistica.com
SUMMARY:Mostra:  “Tiziano e la pittura del Cinquecento” presso il Museo di Santa Giulia
DESCRIPTION:Tiziano realizzò per la nostra città tre perduti teleri (per Palazzo Loggia) e il polittico Averoldi (per la collegiata dei SS. Nazaro e Celso). La mostra evidenzia come Moretto e Romanino e di tutti gli artisti del Cinquecento a Brescia (e non solo) recepirono le novità del maestro\, con prestiti eccezionali dai maggiori musei europei. \nContributo di partecipazione: 15 euro\, incluso biglietto d’ingresso cumulativo con la Pinacoteca Tosio Martinengo.
URL:https://www.guidaartistica.com/evento/mostra-tiziano-e-la-pittura-del-cinquecento-presso-il-museo-di-santa-giulia-4/
LOCATION:Museo di Santa Giulia\, via dei Musei\, Brescia
CATEGORIES:Visite guidate
ATTACH;FMTTYPE=image/jpeg:https://www.guidaartistica.com/wp-content/uploads/2015/02/1resurr1-e1464673149856.jpg
ORGANIZER;CN="Guida Artistica":MAILTO:info@guidaartistica.com
END:VEVENT
BEGIN:VEVENT
DTSTART;TZID=Europe/Rome:20180617T161500
DTEND;TZID=Europe/Rome:20180617T174500
DTSTAMP:20260425T205436
CREATED:20180306T084643Z
LAST-MODIFIED:20180306T084643Z
UID:3758-1529252100-1529257500@www.guidaartistica.com
SUMMARY:Mostra:  “Tiziano e la pittura del Cinquecento” presso il Museo di Santa Giulia
DESCRIPTION:Tiziano realizzò per la nostra città tre perduti teleri (per Palazzo Loggia) e il polittico Averoldi (per la collegiata dei SS. Nazaro e Celso). La mostra evidenzia come Moretto e Romanino e di tutti gli artisti del Cinquecento a Brescia (e non solo) recepirono le novità del maestro\, con prestiti eccezionali dai maggiori musei europei. \nContributo di partecipazione: 15 euro\, incluso biglietto d’ingresso cumulativo con la Pinacoteca Tosio Martinengo.
URL:https://www.guidaartistica.com/evento/mostra-tiziano-e-la-pittura-del-cinquecento-presso-il-museo-di-santa-giulia-5/
LOCATION:Museo di Santa Giulia\, via dei Musei\, Brescia
CATEGORIES:Visite guidate
ATTACH;FMTTYPE=image/jpeg:https://www.guidaartistica.com/wp-content/uploads/2015/02/1resurr1-e1464673149856.jpg
ORGANIZER;CN="Guida Artistica":MAILTO:info@guidaartistica.com
END:VEVENT
BEGIN:VEVENT
DTSTART;TZID=Europe/Rome:20180623T160000
DTEND;TZID=Europe/Rome:20180623T173000
DTSTAMP:20260425T205436
CREATED:20180306T084643Z
LAST-MODIFIED:20180604T191529Z
UID:3759-1529769600-1529775000@www.guidaartistica.com
SUMMARY:Mostra:  “Tiziano e la pittura del Cinquecento” presso il Museo di Santa Giulia
DESCRIPTION:Tiziano realizzò per la nostra città tre perduti teleri (per Palazzo Loggia) e il polittico Averoldi (per la collegiata dei SS. Nazaro e Celso). La mostra evidenzia come Moretto e Romanino e di tutti gli artisti del Cinquecento a Brescia (e non solo) recepirono le novità del maestro\, con prestiti eccezionali dai maggiori musei europei. \nContributo di partecipazione: 15 euro\, incluso biglietto d’ingresso cumulativo con la Pinacoteca Tosio Martinengo.
URL:https://www.guidaartistica.com/evento/mostra-tiziano-e-la-pittura-del-cinquecento-presso-il-museo-di-santa-giulia-6/
LOCATION:Museo di Santa Giulia\, via dei Musei\, Brescia
CATEGORIES:Visite guidate
ATTACH;FMTTYPE=image/jpeg:https://www.guidaartistica.com/wp-content/uploads/2015/02/1resurr1-e1464673149856.jpg
ORGANIZER;CN="Guida Artistica":MAILTO:info@guidaartistica.com
END:VEVENT
BEGIN:VEVENT
DTSTART;TZID=Europe/Rome:20180630T160000
DTEND;TZID=Europe/Rome:20180630T173000
DTSTAMP:20260425T205436
CREATED:20180306T084643Z
LAST-MODIFIED:20180306T084643Z
UID:3760-1530374400-1530379800@www.guidaartistica.com
SUMMARY:Mostra:  “Tiziano e la pittura del Cinquecento” presso il Museo di Santa Giulia
DESCRIPTION:Tiziano realizzò per la nostra città tre perduti teleri (per Palazzo Loggia) e il polittico Averoldi (per la collegiata dei SS. Nazaro e Celso). La mostra evidenzia come Moretto e Romanino e di tutti gli artisti del Cinquecento a Brescia (e non solo) recepirono le novità del maestro\, con prestiti eccezionali dai maggiori musei europei. \nContributo di partecipazione: 15 euro\, incluso biglietto d’ingresso cumulativo con la Pinacoteca Tosio Martinengo.
URL:https://www.guidaartistica.com/evento/mostra-tiziano-e-la-pittura-del-cinquecento-presso-il-museo-di-santa-giulia-7/
LOCATION:Museo di Santa Giulia\, via dei Musei\, Brescia
CATEGORIES:Visite guidate
ATTACH;FMTTYPE=image/jpeg:https://www.guidaartistica.com/wp-content/uploads/2015/02/1resurr1-e1464673149856.jpg
ORGANIZER;CN="Guida Artistica":MAILTO:info@guidaartistica.com
END:VEVENT
END:VCALENDAR