BEGIN:VCALENDAR
VERSION:2.0
PRODID:-//Guida Artistica - ECPv6.15.20//NONSGML v1.0//EN
CALSCALE:GREGORIAN
METHOD:PUBLISH
X-WR-CALNAME:Guida Artistica
X-ORIGINAL-URL:https://www.guidaartistica.com
X-WR-CALDESC:Eventi per Guida Artistica
REFRESH-INTERVAL;VALUE=DURATION:PT1H
X-Robots-Tag:noindex
X-PUBLISHED-TTL:PT1H
BEGIN:VTIMEZONE
TZID:Europe/Rome
BEGIN:DAYLIGHT
TZOFFSETFROM:+0100
TZOFFSETTO:+0200
TZNAME:CEST
DTSTART:20190331T010000
END:DAYLIGHT
BEGIN:STANDARD
TZOFFSETFROM:+0200
TZOFFSETTO:+0100
TZNAME:CET
DTSTART:20191027T010000
END:STANDARD
BEGIN:DAYLIGHT
TZOFFSETFROM:+0100
TZOFFSETTO:+0200
TZNAME:CEST
DTSTART:20200329T010000
END:DAYLIGHT
BEGIN:STANDARD
TZOFFSETFROM:+0200
TZOFFSETTO:+0100
TZNAME:CET
DTSTART:20201025T010000
END:STANDARD
BEGIN:DAYLIGHT
TZOFFSETFROM:+0100
TZOFFSETTO:+0200
TZNAME:CEST
DTSTART:20210328T010000
END:DAYLIGHT
BEGIN:STANDARD
TZOFFSETFROM:+0200
TZOFFSETTO:+0100
TZNAME:CET
DTSTART:20211031T010000
END:STANDARD
END:VTIMEZONE
BEGIN:VEVENT
DTSTART;TZID=Europe/Rome:20200912T160000
DTEND;TZID=Europe/Rome:20200912T173000
DTSTAMP:20260421T011937
CREATED:20200814T085256Z
LAST-MODIFIED:20200903T202313Z
UID:4668-1599926400-1599931800@www.guidaartistica.com
SUMMARY:PESCHIERA DEL GARDA- LA CITTA' E LA FORTEZZA
DESCRIPTION:Può una fortezza militare essere una bella cittadina lacustre con suggestivi scorci e viali alberati? Peschiera del Garda è la prova che la risposta\, non scontata\, può essere affermativa. \nPasseggeremo tra vicoli e piazzeforti\, spalti e ponti\, guidati dai racconti di Guida Artistica che narrerà di come un borgo noto soprattutto per la pescosità delle sue acque sia potuto diventare centro strategico del quadrilatero del maresciallo austriaco Radetzky e di quella volta in cui il re….. \nLa storia continua al nostro appuntamento guidato. Vi aspettiamo!
URL:https://www.guidaartistica.com/evento/peschiera-del-garda-la-citta-e-la-fortezza/
CATEGORIES:Visite guidate
ATTACH;FMTTYPE=image/jpeg:https://www.guidaartistica.com/wp-content/uploads/2020/08/FB_IMG_1596502389851.jpg
END:VEVENT
END:VCALENDAR