BEGIN:VCALENDAR
VERSION:2.0
PRODID:-//Guida Artistica - ECPv6.15.20//NONSGML v1.0//EN
CALSCALE:GREGORIAN
METHOD:PUBLISH
X-ORIGINAL-URL:https://www.guidaartistica.com
X-WR-CALDESC:Eventi per Guida Artistica
REFRESH-INTERVAL;VALUE=DURATION:PT1H
X-Robots-Tag:noindex
X-PUBLISHED-TTL:PT1H
BEGIN:VTIMEZONE
TZID:Europe/Rome
BEGIN:DAYLIGHT
TZOFFSETFROM:+0100
TZOFFSETTO:+0200
TZNAME:CEST
DTSTART:20200329T010000
END:DAYLIGHT
BEGIN:STANDARD
TZOFFSETFROM:+0200
TZOFFSETTO:+0100
TZNAME:CET
DTSTART:20201025T010000
END:STANDARD
BEGIN:DAYLIGHT
TZOFFSETFROM:+0100
TZOFFSETTO:+0200
TZNAME:CEST
DTSTART:20210328T010000
END:DAYLIGHT
BEGIN:STANDARD
TZOFFSETFROM:+0200
TZOFFSETTO:+0100
TZNAME:CET
DTSTART:20211031T010000
END:STANDARD
BEGIN:DAYLIGHT
TZOFFSETFROM:+0100
TZOFFSETTO:+0200
TZNAME:CEST
DTSTART:20220327T010000
END:DAYLIGHT
BEGIN:STANDARD
TZOFFSETFROM:+0200
TZOFFSETTO:+0100
TZNAME:CET
DTSTART:20221030T010000
END:STANDARD
END:VTIMEZONE
BEGIN:VEVENT
DTSTART;TZID=Europe/Rome:20211009T100000
DTEND;TZID=Europe/Rome:20211009T113000
DTSTAMP:20260425T010501
CREATED:20210505T100555Z
LAST-MODIFIED:20210505T100555Z
UID:5133-1633773600-1633779000@www.guidaartistica.com
SUMMARY:LA VITTORIA ALATA E' AL CAPITOLIUM!  speciale FAMILY TOUR
DESCRIPTION:Brescia è la città romana che non ti aspetti\, con un tempio d’età imperiale che fa capolino tra i palazzi nobiliari del centro storico. I resti del pronao e l’imponente scalinata sono solo la parte piu’ vistosa di una vasta area archeologica (la piu’ grande della Lombardia) che si compone di un Santuario di epoca repubblicana (si è conservata un’intera cella di culto tutta decorata)\, un teatro e il tempio capitolino voluto dall’imperatore Vespasiano. Proprio in un intercapedine di quest’ultimo nel 1826 è stata ritrovata una preziosa statua in bronzo\, alta oltre 1\,90m\, raffigurante la Vittoria Alata. La sua qualità artistica e i valori simbolici che ora come allora trasmette\, hanno portato ad un suo accurato restauro e alla predisposizione di uno speciale allestimento all’interno del tempio. Curiosi? Nella nostra visita guidata vi mostriamo tutto. \n  \n\nVisita guidata organizzata da Guida Artistica\, gruppo di guide turistiche abilitate\, specializzate su Brescia\, Lago di Garda\, Franciacorta\, Lago d’Iseo e provincia di Brescia …..aspettando Brescia-Bergamo Capitali della Cultura 2023
URL:https://www.guidaartistica.com/evento/la-vittoria-alata-e-al-capitolium-speciale-family-tour/
LOCATION:tempio capitolino\, piazza del foro\, Brescia
CATEGORIES:Visite guidate
ATTACH;FMTTYPE=image/jpeg:https://www.guidaartistica.com/wp-content/uploads/2021/05/146492478_10222506451908530_7773528050504515418_o.jpg
END:VEVENT
BEGIN:VEVENT
DTSTART;TZID=Europe/Rome:20211009T142000
DTEND;TZID=Europe/Rome:20211009T155000
DTSTAMP:20260425T010501
CREATED:20210505T100555Z
LAST-MODIFIED:20210921T081038Z
UID:5130-1633789200-1633794600@www.guidaartistica.com
SUMMARY:LA VITTORIA ALATA E' AL CAPITOLIUM!  speciale FAMILY TOUR
DESCRIPTION:Brescia è la città romana che non ti aspetti\, con un tempio d’età imperiale che fa capolino tra i palazzi nobiliari del centro storico. I resti del pronao e l’imponente scalinata sono solo la parte piu’ vistosa di una vasta area archeologica (la piu’ grande della Lombardia) che si compone di un Santuario di epoca repubblicana (si è conservata un’intera cella di culto tutta decorata)\, un teatro e il tempio capitolino voluto dall’imperatore Vespasiano. Proprio in un intercapedine di quest’ultimo nel 1826 è stata ritrovata una preziosa statua in bronzo\, alta oltre 1\,90m\, raffigurante la Vittoria Alata. La sua qualità artistica e i valori simbolici che ora come allora trasmette\, hanno portato ad un suo accurato restauro e alla predisposizione di uno speciale allestimento all’interno del tempio. Curiosi? Nella nostra visita guidata vi mostriamo tutto. \n  \n\nVisita guidata organizzata da Guida Artistica\, gruppo di guide turistiche abilitate\, specializzate su Brescia\, Lago di Garda\, Franciacorta\, Lago d’Iseo e provincia di Brescia …..aspettando Brescia-Bergamo Capitali della Cultura 2023
URL:https://www.guidaartistica.com/evento/la-vittoria-alata-e-al-capitolium-20/
LOCATION:tempio capitolino\, piazza del foro\, Brescia
CATEGORIES:Visite guidate
ATTACH;FMTTYPE=image/jpeg:https://www.guidaartistica.com/wp-content/uploads/2021/05/146492478_10222506451908530_7773528050504515418_o.jpg
END:VEVENT
BEGIN:VEVENT
DTSTART;TZID=Europe/Rome:20211024T144500
DTEND;TZID=Europe/Rome:20211024T154500
DTSTAMP:20260425T010501
CREATED:20151026T164723Z
LAST-MODIFIED:20151026T164723Z
UID:5140-1635086700-1635090300@www.guidaartistica.com
SUMMARY:A CACCIA DI MOSTRI: ITINERARIO HORROR PER PICCOLI CORAGGIOSI-livello 1
DESCRIPTION:In questo originale percorso per famiglie andremo insieme a caccia di mostri: noi non ce ne accorgiamo\, ma nascosti in tanti angolini delle strade e delle piazze di Brescia sono rintanati un sacco di mostri che ci guardano dall’alto col loro ghigno feroce… niente paura! Grazie ai giochi di Guida Artistica\, li staneremo\, racconteremo la loro storia e li renderemo inoffensivi! \nIncontro sotto l’orologio di Piazza della Loggia. Prenotazione obbligatoria (pagamento in loco) \nContributo di partecipazione 5 euro a testa. \n  \n  \nNB:  – i mostri sono artistici (dipinti\, statue…) \n– attività consigliata per bambini tra i 4 e gli 8 anni (…e per fanciullino che è dentro ognuno di noi ^_^) \n  \nGuida Artistica Junior! è il progetto di Guida Artistica per le famiglie. Non semplici visite guidate ma itinerari interattivi ludico-didattici per conoscere luoghi inaspettati e le loro storie. Con un linguaggio semplice\, giochi e divertimento\, l’appuntamento è appositamente studiato dalle guide turistiche di Guida Artistica per i più piccoli (ma siamo pronti a scommettere che piacerà anche ai grandi!)
URL:https://www.guidaartistica.com/evento/a-caccia-di-mostri-itinerario-horror-per-piccoli-coraggiosi-livello-1-18/
LOCATION:Orologio Piazza Loggia\, Piazza della Loggia\, Brescia\, Italia
CATEGORIES:Visite guidate
ATTACH;FMTTYPE=image/jpeg:https://www.guidaartistica.com/wp-content/uploads/2015/10/draghi-FUMETTO.jpg
END:VEVENT
BEGIN:VEVENT
DTSTART;TZID=Europe/Rome:20211030T144500
DTEND;TZID=Europe/Rome:20211030T154500
DTSTAMP:20260425T010501
CREATED:20151026T164723Z
LAST-MODIFIED:20151026T164723Z
UID:5141-1635605100-1635608700@www.guidaartistica.com
SUMMARY:A CACCIA DI MOSTRI: ITINERARIO HORROR PER PICCOLI CORAGGIOSI-livello 1
DESCRIPTION:In questo originale percorso per famiglie andremo insieme a caccia di mostri: noi non ce ne accorgiamo\, ma nascosti in tanti angolini delle strade e delle piazze di Brescia sono rintanati un sacco di mostri che ci guardano dall’alto col loro ghigno feroce… niente paura! Grazie ai giochi di Guida Artistica\, li staneremo\, racconteremo la loro storia e li renderemo inoffensivi! \nIncontro sotto l’orologio di Piazza della Loggia. Prenotazione obbligatoria (pagamento in loco) \nContributo di partecipazione 5 euro a testa. \n  \n  \nNB:  – i mostri sono artistici (dipinti\, statue…) \n– attività consigliata per bambini tra i 4 e gli 8 anni (…e per fanciullino che è dentro ognuno di noi ^_^) \n  \nGuida Artistica Junior! è il progetto di Guida Artistica per le famiglie. Non semplici visite guidate ma itinerari interattivi ludico-didattici per conoscere luoghi inaspettati e le loro storie. Con un linguaggio semplice\, giochi e divertimento\, l’appuntamento è appositamente studiato dalle guide turistiche di Guida Artistica per i più piccoli (ma siamo pronti a scommettere che piacerà anche ai grandi!)
URL:https://www.guidaartistica.com/evento/a-caccia-di-mostri-itinerario-horror-per-piccoli-coraggiosi-livello-1-19/
LOCATION:Orologio Piazza Loggia\, Piazza della Loggia\, Brescia\, Italia
CATEGORIES:Visite guidate
ATTACH;FMTTYPE=image/jpeg:https://www.guidaartistica.com/wp-content/uploads/2015/10/draghi-FUMETTO.jpg
END:VEVENT
BEGIN:VEVENT
DTSTART;TZID=Europe/Rome:20211030T154500
DTEND;TZID=Europe/Rome:20211030T164500
DTSTAMP:20260425T010501
CREATED:20151026T164723Z
LAST-MODIFIED:20151026T164723Z
UID:5146-1635608700-1635612300@www.guidaartistica.com
SUMMARY:A CACCIA DI MOSTRI: ITINERARIO HORROR PER PICCOLI CORAGGIOSI-livello 1
DESCRIPTION:In questo originale percorso per famiglie andremo insieme a caccia di mostri: noi non ce ne accorgiamo\, ma nascosti in tanti angolini delle strade e delle piazze di Brescia sono rintanati un sacco di mostri che ci guardano dall’alto col loro ghigno feroce… niente paura! Grazie ai giochi di Guida Artistica\, li staneremo\, racconteremo la loro storia e li renderemo inoffensivi! \nIncontro sotto l’orologio di Piazza della Loggia. Prenotazione obbligatoria (pagamento in loco) \nContributo di partecipazione 5 euro a testa. \n  \n  \nNB:  – i mostri sono artistici (dipinti\, statue…) \n– attività consigliata per bambini tra i 4 e gli 8 anni (…e per fanciullino che è dentro ognuno di noi ^_^) \n  \nGuida Artistica Junior! è il progetto di Guida Artistica per le famiglie. Non semplici visite guidate ma itinerari interattivi ludico-didattici per conoscere luoghi inaspettati e le loro storie. Con un linguaggio semplice\, giochi e divertimento\, l’appuntamento è appositamente studiato dalle guide turistiche di Guida Artistica per i più piccoli (ma siamo pronti a scommettere che piacerà anche ai grandi!)
URL:https://www.guidaartistica.com/evento/a-caccia-di-mostri-itinerario-horror-per-piccoli-coraggiosi-livello-1-24/
LOCATION:Orologio Piazza Loggia\, Piazza della Loggia\, Brescia\, Italia
CATEGORIES:Visite guidate
ATTACH;FMTTYPE=image/jpeg:https://www.guidaartistica.com/wp-content/uploads/2015/10/draghi-FUMETTO.jpg
END:VEVENT
BEGIN:VEVENT
DTSTART;TZID=Europe/Rome:20211031T144500
DTEND;TZID=Europe/Rome:20211031T154500
DTSTAMP:20260425T010501
CREATED:20151026T164723Z
LAST-MODIFIED:20151026T164723Z
UID:5142-1635691500-1635695100@www.guidaartistica.com
SUMMARY:A CACCIA DI MOSTRI: ITINERARIO HORROR PER PICCOLI CORAGGIOSI-livello 1
DESCRIPTION:In questo originale percorso per famiglie andremo insieme a caccia di mostri: noi non ce ne accorgiamo\, ma nascosti in tanti angolini delle strade e delle piazze di Brescia sono rintanati un sacco di mostri che ci guardano dall’alto col loro ghigno feroce… niente paura! Grazie ai giochi di Guida Artistica\, li staneremo\, racconteremo la loro storia e li renderemo inoffensivi! \nIncontro sotto l’orologio di Piazza della Loggia. Prenotazione obbligatoria (pagamento in loco) \nContributo di partecipazione 5 euro a testa. \n  \n  \nNB:  – i mostri sono artistici (dipinti\, statue…) \n– attività consigliata per bambini tra i 4 e gli 8 anni (…e per fanciullino che è dentro ognuno di noi ^_^) \n  \nGuida Artistica Junior! è il progetto di Guida Artistica per le famiglie. Non semplici visite guidate ma itinerari interattivi ludico-didattici per conoscere luoghi inaspettati e le loro storie. Con un linguaggio semplice\, giochi e divertimento\, l’appuntamento è appositamente studiato dalle guide turistiche di Guida Artistica per i più piccoli (ma siamo pronti a scommettere che piacerà anche ai grandi!)
URL:https://www.guidaartistica.com/evento/a-caccia-di-mostri-itinerario-horror-per-piccoli-coraggiosi-livello-1-20/
LOCATION:Orologio Piazza Loggia\, Piazza della Loggia\, Brescia\, Italia
CATEGORIES:Visite guidate
ATTACH;FMTTYPE=image/jpeg:https://www.guidaartistica.com/wp-content/uploads/2015/10/draghi-FUMETTO.jpg
END:VEVENT
BEGIN:VEVENT
DTSTART;TZID=Europe/Rome:20211031T154500
DTEND;TZID=Europe/Rome:20211031T164500
DTSTAMP:20260425T010501
CREATED:20151026T164723Z
LAST-MODIFIED:20151026T164723Z
UID:5145-1635695100-1635698700@www.guidaartistica.com
SUMMARY:A CACCIA DI MOSTRI: ITINERARIO HORROR PER PICCOLI CORAGGIOSI-livello 1
DESCRIPTION:In questo originale percorso per famiglie andremo insieme a caccia di mostri: noi non ce ne accorgiamo\, ma nascosti in tanti angolini delle strade e delle piazze di Brescia sono rintanati un sacco di mostri che ci guardano dall’alto col loro ghigno feroce… niente paura! Grazie ai giochi di Guida Artistica\, li staneremo\, racconteremo la loro storia e li renderemo inoffensivi! \nIncontro sotto l’orologio di Piazza della Loggia. Prenotazione obbligatoria (pagamento in loco) \nContributo di partecipazione 5 euro a testa. \n  \n  \nNB:  – i mostri sono artistici (dipinti\, statue…) \n– attività consigliata per bambini tra i 4 e gli 8 anni (…e per fanciullino che è dentro ognuno di noi ^_^) \n  \nGuida Artistica Junior! è il progetto di Guida Artistica per le famiglie. Non semplici visite guidate ma itinerari interattivi ludico-didattici per conoscere luoghi inaspettati e le loro storie. Con un linguaggio semplice\, giochi e divertimento\, l’appuntamento è appositamente studiato dalle guide turistiche di Guida Artistica per i più piccoli (ma siamo pronti a scommettere che piacerà anche ai grandi!)
URL:https://www.guidaartistica.com/evento/a-caccia-di-mostri-itinerario-horror-per-piccoli-coraggiosi-livello-1-23/
LOCATION:Orologio Piazza Loggia\, Piazza della Loggia\, Brescia\, Italia
CATEGORIES:Visite guidate
ATTACH;FMTTYPE=image/jpeg:https://www.guidaartistica.com/wp-content/uploads/2015/10/draghi-FUMETTO.jpg
END:VEVENT
END:VCALENDAR