BEGIN:VCALENDAR
VERSION:2.0
PRODID:-//Guida Artistica - ECPv6.15.20//NONSGML v1.0//EN
CALSCALE:GREGORIAN
METHOD:PUBLISH
X-ORIGINAL-URL:https://www.guidaartistica.com
X-WR-CALDESC:Eventi per Guida Artistica
REFRESH-INTERVAL;VALUE=DURATION:PT1H
X-Robots-Tag:noindex
X-PUBLISHED-TTL:PT1H
BEGIN:VTIMEZONE
TZID:Europe/Rome
BEGIN:DAYLIGHT
TZOFFSETFROM:+0100
TZOFFSETTO:+0200
TZNAME:CEST
DTSTART:20180325T010000
END:DAYLIGHT
BEGIN:STANDARD
TZOFFSETFROM:+0200
TZOFFSETTO:+0100
TZNAME:CET
DTSTART:20181028T010000
END:STANDARD
BEGIN:DAYLIGHT
TZOFFSETFROM:+0100
TZOFFSETTO:+0200
TZNAME:CEST
DTSTART:20190331T010000
END:DAYLIGHT
BEGIN:STANDARD
TZOFFSETFROM:+0200
TZOFFSETTO:+0100
TZNAME:CET
DTSTART:20191027T010000
END:STANDARD
BEGIN:DAYLIGHT
TZOFFSETFROM:+0100
TZOFFSETTO:+0200
TZNAME:CEST
DTSTART:20200329T010000
END:DAYLIGHT
BEGIN:STANDARD
TZOFFSETFROM:+0200
TZOFFSETTO:+0100
TZNAME:CET
DTSTART:20201025T010000
END:STANDARD
END:VTIMEZONE
BEGIN:VEVENT
DTSTART;TZID=Europe/Rome:20191102T160000
DTEND;TZID=Europe/Rome:20191102T173000
DTSTAMP:20260425T030847
CREATED:20191021T092643Z
LAST-MODIFIED:20191021T092643Z
UID:4357-1572710400-1572715800@www.guidaartistica.com
SUMMARY:L'ORATORIO SUARDI A TRESCORE
DESCRIPTION:Guida Artistica ha l’onore di aprirvi le porte di uno scrigno d’arte cinquecentesca: la cappella Suardi a Trescore Balneario (Bg). Nascosta agli occhi dei passanti da alberi secolari in un grande e curato parco\, la chiesa è di proprietà privata\, ma con Guida Artistica potrete riempirvi gli occhi della bellezza degli affreschi che ammantano sia le pareti che i soffitti. Il pennello è quello del veneziano Lorenzo Lotto\, che in un epoca dominata da Tiziano\, trovò estimatori nel patriziato bergamasco a cui la nobile famiglia Suardi apparteneva. \nVisita guidata euro 13 (comprensivi del biglietto d’ingresso). Appuntamento a Trescore Balneario in via Suardi n.20 di fronte  al palazzetto dello sport (ingresso della ProLoco) Prenotazione obbligatoria
URL:https://www.guidaartistica.com/evento/loratorio-suardi-a-trescore/
LOCATION:ORATORIO SUARDI\, VIA SUARDI 20\, TRESCORE BALNEARIO\, Italia
CATEGORIES:Visite guidate
ATTACH;FMTTYPE=image/jpeg:https://www.guidaartistica.com/wp-content/uploads/2019/10/lotto-affreschi-di-trescore_guidaartistica.jpg
END:VEVENT
END:VCALENDAR