BEGIN:VCALENDAR
VERSION:2.0
PRODID:-//Guida Artistica - ECPv6.15.20//NONSGML v1.0//EN
CALSCALE:GREGORIAN
METHOD:PUBLISH
X-WR-CALNAME:Guida Artistica
X-ORIGINAL-URL:https://www.guidaartistica.com
X-WR-CALDESC:Eventi per Guida Artistica
REFRESH-INTERVAL;VALUE=DURATION:PT1H
X-Robots-Tag:noindex
X-PUBLISHED-TTL:PT1H
BEGIN:VTIMEZONE
TZID:Europe/Rome
BEGIN:DAYLIGHT
TZOFFSETFROM:+0100
TZOFFSETTO:+0200
TZNAME:CEST
DTSTART:20210328T010000
END:DAYLIGHT
BEGIN:STANDARD
TZOFFSETFROM:+0200
TZOFFSETTO:+0100
TZNAME:CET
DTSTART:20211031T010000
END:STANDARD
BEGIN:DAYLIGHT
TZOFFSETFROM:+0100
TZOFFSETTO:+0200
TZNAME:CEST
DTSTART:20220327T010000
END:DAYLIGHT
BEGIN:STANDARD
TZOFFSETFROM:+0200
TZOFFSETTO:+0100
TZNAME:CET
DTSTART:20221030T010000
END:STANDARD
BEGIN:DAYLIGHT
TZOFFSETFROM:+0100
TZOFFSETTO:+0200
TZNAME:CEST
DTSTART:20230326T010000
END:DAYLIGHT
BEGIN:STANDARD
TZOFFSETFROM:+0200
TZOFFSETTO:+0100
TZNAME:CET
DTSTART:20231029T010000
END:STANDARD
END:VTIMEZONE
BEGIN:VEVENT
DTSTART;TZID=Europe/Rome:20221029T144500
DTEND;TZID=Europe/Rome:20221029T154500
DTSTAMP:20260421T164726
CREATED:20151026T164723Z
LAST-MODIFIED:20151026T164723Z
UID:5549-1667054700-1667058300@www.guidaartistica.com
SUMMARY:A CACCIA DI MOSTRI: ITINERARIO HORROR PER PICCOLI CORAGGIOSI-livello 1
DESCRIPTION:In questo originale percorso per famiglie andremo insieme a caccia di mostri: noi non ce ne accorgiamo\, ma nascosti in tanti angolini delle strade e delle piazze di Brescia sono rintanati un sacco di mostri che ci guardano dall’alto col loro ghigno feroce… niente paura! Grazie ai giochi di Guida Artistica\, li staneremo\, racconteremo la loro storia e li renderemo inoffensivi! \nIncontro sotto l’orologio di Piazza della Loggia. Prenotazione obbligatoria (pagamento in loco) \nContributo di partecipazione 5 euro a testa. \n  \n  \nNB:  – i mostri sono artistici (dipinti\, statue…) \n– attività consigliata per bambini tra i 4 e gli 8 anni (…e per fanciullino che è dentro ognuno di noi ^_^) \n  \nGuida Artistica Junior! è il progetto di Guida Artistica per le famiglie. Non semplici visite guidate ma itinerari interattivi ludico-didattici per conoscere luoghi inaspettati e le loro storie. Con un linguaggio semplice\, giochi e divertimento\, l’appuntamento è appositamente studiato dalle guide turistiche di Guida Artistica per i più piccoli (ma siamo pronti a scommettere che piacerà anche ai grandi!)
URL:https://www.guidaartistica.com/evento/a-caccia-di-mostri-itinerario-horror-per-piccoli-coraggiosi-livello-1-26/
LOCATION:Orologio Piazza Loggia\, Piazza della Loggia\, Brescia\, Italia
CATEGORIES:Visite guidate
ATTACH;FMTTYPE=image/jpeg:https://www.guidaartistica.com/wp-content/uploads/2015/10/draghi-FUMETTO.jpg
END:VEVENT
BEGIN:VEVENT
DTSTART;TZID=Europe/Rome:20221029T154500
DTEND;TZID=Europe/Rome:20221029T164500
DTSTAMP:20260421T164726
CREATED:20151026T164723Z
LAST-MODIFIED:20151026T164723Z
UID:5548-1667058300-1667061900@www.guidaartistica.com
SUMMARY:A CACCIA DI MOSTRI: ITINERARIO HORROR PER PICCOLI CORAGGIOSI-livello 1
DESCRIPTION:In questo originale percorso per famiglie andremo insieme a caccia di mostri: noi non ce ne accorgiamo\, ma nascosti in tanti angolini delle strade e delle piazze di Brescia sono rintanati un sacco di mostri che ci guardano dall’alto col loro ghigno feroce… niente paura! Grazie ai giochi di Guida Artistica\, li staneremo\, racconteremo la loro storia e li renderemo inoffensivi! \nIncontro sotto l’orologio di Piazza della Loggia. Prenotazione obbligatoria (pagamento in loco) \nContributo di partecipazione 5 euro a testa. \n  \n  \nNB:  – i mostri sono artistici (dipinti\, statue…) \n– attività consigliata per bambini tra i 4 e gli 8 anni (…e per fanciullino che è dentro ognuno di noi ^_^) \n  \nGuida Artistica Junior! è il progetto di Guida Artistica per le famiglie. Non semplici visite guidate ma itinerari interattivi ludico-didattici per conoscere luoghi inaspettati e le loro storie. Con un linguaggio semplice\, giochi e divertimento\, l’appuntamento è appositamente studiato dalle guide turistiche di Guida Artistica per i più piccoli (ma siamo pronti a scommettere che piacerà anche ai grandi!)
URL:https://www.guidaartistica.com/evento/a-caccia-di-mostri-itinerario-horror-per-piccoli-coraggiosi-livello-1-25/
LOCATION:Orologio Piazza Loggia\, Piazza della Loggia\, Brescia\, Italia
CATEGORIES:Visite guidate
ATTACH;FMTTYPE=image/jpeg:https://www.guidaartistica.com/wp-content/uploads/2015/10/draghi-FUMETTO.jpg
END:VEVENT
END:VCALENDAR