BEGIN:VCALENDAR
VERSION:2.0
PRODID:-//Guida Artistica - ECPv6.15.20//NONSGML v1.0//EN
CALSCALE:GREGORIAN
METHOD:PUBLISH
X-ORIGINAL-URL:https://www.guidaartistica.com
X-WR-CALDESC:Eventi per Guida Artistica
REFRESH-INTERVAL;VALUE=DURATION:PT1H
X-Robots-Tag:noindex
X-PUBLISHED-TTL:PT1H
BEGIN:VTIMEZONE
TZID:Europe/Rome
BEGIN:DAYLIGHT
TZOFFSETFROM:+0100
TZOFFSETTO:+0200
TZNAME:CEST
DTSTART:20200329T010000
END:DAYLIGHT
BEGIN:STANDARD
TZOFFSETFROM:+0200
TZOFFSETTO:+0100
TZNAME:CET
DTSTART:20201025T010000
END:STANDARD
BEGIN:DAYLIGHT
TZOFFSETFROM:+0100
TZOFFSETTO:+0200
TZNAME:CEST
DTSTART:20210328T010000
END:DAYLIGHT
BEGIN:STANDARD
TZOFFSETFROM:+0200
TZOFFSETTO:+0100
TZNAME:CET
DTSTART:20211031T010000
END:STANDARD
BEGIN:DAYLIGHT
TZOFFSETFROM:+0100
TZOFFSETTO:+0200
TZNAME:CEST
DTSTART:20220327T010000
END:DAYLIGHT
BEGIN:STANDARD
TZOFFSETFROM:+0200
TZOFFSETTO:+0100
TZNAME:CET
DTSTART:20221030T010000
END:STANDARD
END:VTIMEZONE
BEGIN:VEVENT
DTSTART;TZID=Europe/Rome:20210718T153000
DTEND;TZID=Europe/Rome:20210718T180000
DTSTAMP:20260425T122429
CREATED:20210520T084529Z
LAST-MODIFIED:20210713T095140Z
UID:4976-1626622200-1626631200@www.guidaartistica.com
SUMMARY:OME: UN'OASI IN FRANCIACORTA
DESCRIPTION:A Ome\, nel cuore della Franciacorta\, passeggiata guidata tra vigneti e querce secolari. Nel Borgo del Maglio assisteremo alla forgiatura del ferro (grazie alla ruota idraulica risalente al XV secolo che muove il maglio) e visiteremo la Casa Museo Malossi (con la sua pregiata collezione di opere d’arte). La passeggiata ci porterà poi al Santuario della Madonna dell’Avello\, che custodisce ben 159 dipinti e domina il verde paesaggio franciacortino. \nPer concludere è possibile sorseggiare un calice di Franciacorta. \nDurata circa 3 ore \nContributo di partecipazione euro 10\,00. \nGuida Artistica è un gruppo di guide turistiche abilitate specializzate nel territorio di Brescia\, Franciacorta\, Lago di Garda\, Lago d’Iseo.
URL:https://www.guidaartistica.com/evento/ome-unoasi-in-franciacorta-2/
LOCATION:BORGO DEL MAGLIO DI OME\, via del Maglio n.51\, Ome\, Italia
CATEGORIES:Visite guidate
ATTACH;FMTTYPE=image/jpeg:https://www.guidaartistica.com/wp-content/uploads/2021/05/IMG-2752-1.jpg
END:VEVENT
END:VCALENDAR