BEGIN:VCALENDAR
VERSION:2.0
PRODID:-//Guida Artistica - ECPv6.15.20//NONSGML v1.0//EN
CALSCALE:GREGORIAN
METHOD:PUBLISH
X-WR-CALNAME:Guida Artistica
X-ORIGINAL-URL:https://www.guidaartistica.com
X-WR-CALDESC:Eventi per Guida Artistica
REFRESH-INTERVAL;VALUE=DURATION:PT1H
X-Robots-Tag:noindex
X-PUBLISHED-TTL:PT1H
BEGIN:VTIMEZONE
TZID:Europe/Rome
BEGIN:DAYLIGHT
TZOFFSETFROM:+0100
TZOFFSETTO:+0200
TZNAME:CEST
DTSTART:20220327T010000
END:DAYLIGHT
BEGIN:STANDARD
TZOFFSETFROM:+0200
TZOFFSETTO:+0100
TZNAME:CET
DTSTART:20221030T010000
END:STANDARD
BEGIN:DAYLIGHT
TZOFFSETFROM:+0100
TZOFFSETTO:+0200
TZNAME:CEST
DTSTART:20230326T010000
END:DAYLIGHT
BEGIN:STANDARD
TZOFFSETFROM:+0200
TZOFFSETTO:+0100
TZNAME:CET
DTSTART:20231029T010000
END:STANDARD
BEGIN:DAYLIGHT
TZOFFSETFROM:+0100
TZOFFSETTO:+0200
TZNAME:CEST
DTSTART:20240331T010000
END:DAYLIGHT
BEGIN:STANDARD
TZOFFSETFROM:+0200
TZOFFSETTO:+0100
TZNAME:CET
DTSTART:20241027T010000
END:STANDARD
END:VTIMEZONE
BEGIN:VEVENT
DTSTART;TZID=Europe/Rome:20230924T150000
DTEND;TZID=Europe/Rome:20230924T170000
DTSTAMP:20260422T164942
CREATED:20230919T091556Z
LAST-MODIFIED:20230919T092110Z
UID:5821-1695567600-1695574800@www.guidaartistica.com
SUMMARY:BICI TOUR- I GIARDINI DELL'ANIMA: TOUR DEI PIU' BEI CHIOSTRI DI BRESCIA
DESCRIPTION:Visita guidata in bicicletta nell’ambito della Settimana Europea della Mobilità Sostenibile. \nPedalando a ritmo lento\, andremo ad ammirare i chiostri che custodiscono ancor oggi atmosfere e spiritualità antiche. \nPossibilità di noleggio bici e caschetto a soli euro 2. \n 
URL:https://www.guidaartistica.com/evento/bici-tour-sotto-le-torri-di-brescia-2/
LOCATION:infopoint stazione FS
CATEGORIES:Visite guidate
ATTACH;FMTTYPE=image/jpeg:https://www.guidaartistica.com/wp-content/uploads/2023/09/locandina-titolo-x-24-Settembre.jpg
END:VEVENT
BEGIN:VEVENT
DTSTART;TZID=Europe/Rome:20230919T180000
DTEND;TZID=Europe/Rome:20230919T200000
DTSTAMP:20260422T164942
CREATED:20230919T091556Z
LAST-MODIFIED:20230919T091829Z
UID:5818-1695146400-1695153600@www.guidaartistica.com
SUMMARY:BICI TOUR- SOTTO LE TORRI DI BRESCIA
DESCRIPTION:Visita guidata in bicicletta nell’ambito della Settimana Europea della Mobilità Sostenibile. \nPedalando a ritmo lento\, andremo ad ammirare le tante torri che hanno lasciato la loro traccia nel centro storico di Brescia. Sapevi che ne aveva più di San Gimignano? \nIl tour è impreziosito da un intermezzo musicale con arie liriche cantate dalla soprano Federica Cassetti. \nPossibilità di noleggio bici e caschetto a soli euro 2. \n 
URL:https://www.guidaartistica.com/evento/bici-tour-sotto-le-torri-di-brescia/
LOCATION:infopoint stazione FS
CATEGORIES:Visite guidate
ATTACH;FMTTYPE=image/jpeg:https://www.guidaartistica.com/wp-content/uploads/2023/09/locandina-titolo-x-21-Settembre.jpg
END:VEVENT
BEGIN:VEVENT
DTSTART;TZID=Europe/Rome:20230422T100000
DTEND;TZID=Europe/Rome:20230422T120000
DTSTAMP:20260422T164942
CREATED:20230413T121045Z
LAST-MODIFIED:20230413T201453Z
UID:5691-1682157600-1682164800@www.guidaartistica.com
SUMMARY:BRESCIA BICI: DAL CUORE DELLE PIAZZE AL CUORE DEL LIBERTY A BRESCIA
DESCRIPTION:Brescia “la Ferrea”\, “La Forte”\, “leonessa d’Italia”. Così Carducci citava la città 140 anni fa. \nQuasi nessuno cita Brescia “Liberty”\, uno stile che ancora oggi caratterizza diverse case e palazzi: un mondo vegetale e floreale con molta libertà di applicazione\, in cui i “colpi di frusta” ingentiliscono la solidità costruttiva e il senso architettonico bresciani. Ma si sa… la vita è fatta di dettagli e sfumature e a Guida Artistica piace scoprirli e raccontarli! \nIl nostro tour attraverserà anche alcune delle principali piazze della città\, che ne raccontano la storia e le bellezze: piazza del mercato con la sede del Rettorato dell’Università di Brescia\,  piazza Paolo VI con le due cattedrali e piazza della Repubblica con la grande fontana
URL:https://www.guidaartistica.com/evento/brescia-bici-dal-cuore-delle-piazze-al-cuore-del-liberty-a-brescia/
LOCATION:STAZIONE FS
CATEGORIES:Visite guidate
ATTACH;FMTTYPE=image/jpeg:https://www.guidaartistica.com/wp-content/uploads/2023/04/immagine-per-22-aprile.jpg
END:VEVENT
END:VCALENDAR