BEGIN:VCALENDAR
VERSION:2.0
PRODID:-//Guida Artistica - ECPv6.15.20//NONSGML v1.0//EN
CALSCALE:GREGORIAN
METHOD:PUBLISH
X-ORIGINAL-URL:https://www.guidaartistica.com
X-WR-CALDESC:Eventi per Guida Artistica
REFRESH-INTERVAL;VALUE=DURATION:PT1H
X-Robots-Tag:noindex
X-PUBLISHED-TTL:PT1H
BEGIN:VTIMEZONE
TZID:Europe/Rome
BEGIN:DAYLIGHT
TZOFFSETFROM:+0100
TZOFFSETTO:+0200
TZNAME:CEST
DTSTART:20180325T010000
END:DAYLIGHT
BEGIN:STANDARD
TZOFFSETFROM:+0200
TZOFFSETTO:+0100
TZNAME:CET
DTSTART:20181028T010000
END:STANDARD
BEGIN:DAYLIGHT
TZOFFSETFROM:+0100
TZOFFSETTO:+0200
TZNAME:CEST
DTSTART:20190331T010000
END:DAYLIGHT
BEGIN:STANDARD
TZOFFSETFROM:+0200
TZOFFSETTO:+0100
TZNAME:CET
DTSTART:20191027T010000
END:STANDARD
BEGIN:DAYLIGHT
TZOFFSETFROM:+0100
TZOFFSETTO:+0200
TZNAME:CEST
DTSTART:20200329T010000
END:DAYLIGHT
BEGIN:STANDARD
TZOFFSETFROM:+0200
TZOFFSETTO:+0100
TZNAME:CET
DTSTART:20201025T010000
END:STANDARD
END:VTIMEZONE
BEGIN:VEVENT
DTSTART;TZID=Europe/Rome:20190922T160000
DTEND;TZID=Europe/Rome:20190922T180000
DTSTAMP:20260424T184730
CREATED:20190829T040837Z
LAST-MODIFIED:20190902T100007Z
UID:4298-1569168000-1569175200@www.guidaartistica.com
SUMMARY:LA CHIESA DI SAN FILASTRIO: GIOIELLO DI TAVERNOLE SUL MELLA
DESCRIPTION:Dedicata a Filastrio\, vescovo di Brescia alla fine del IV sec.\, la chiesa rappresenta una delle più belle testimonianze dell’architettura sacra di epoca medievale e scrigno di affreschi votivi del XV e XVI sec. Ma è l’annesso oratorio di S. Domenico a custodire il tesoro più prezioso: un ciclo di oltre 15 affreschi dedicato alla vita del Santo\, attribuito ad Andrea Bembo alla metà del Quattrocento. \nLa visita guidata è a cura di Barbara D’Attoma\, autrice di “S. Filastrio a Tavernole” in “Gli antichi originari. Cimmo e Tavernole” edito dalla Comunità Montana di Valle Trompia\, 2018 e guida turistica abilitata del gruppo GUIDA ARTISTICA \nA seguire aperitivo con degustazione di formaggi tipici locali. \nContributo di partecipazione euro 15 \nVisita guidata organizzata da Guida Artistica\, gruppo di guide turistiche abilitate\, specializzate su Brescia\, Lago di Garda\, Franciacorta\, Lago d’Iseo e provincia di Brescia.
URL:https://www.guidaartistica.com/evento/tavernole-sul-mella-la-chiesa-di-san-filastrio-2/
LOCATION:chiesa San filastrio\, via Padre O.Marcolini\, Tavernole sul Mella\, Italia
CATEGORIES:Visite guidate
ATTACH;FMTTYPE=image/jpeg:https://www.guidaartistica.com/wp-content/uploads/2019/08/IMG0089.jpg
ORGANIZER;CN="GUIDA ARTISTICA":MAILTO:info@guidaartistica.com
END:VEVENT
END:VCALENDAR