BEGIN:VCALENDAR
VERSION:2.0
PRODID:-//Guida Artistica - ECPv6.15.20//NONSGML v1.0//EN
CALSCALE:GREGORIAN
METHOD:PUBLISH
X-ORIGINAL-URL:https://www.guidaartistica.com
X-WR-CALDESC:Eventi per Guida Artistica
REFRESH-INTERVAL;VALUE=DURATION:PT1H
X-Robots-Tag:noindex
X-PUBLISHED-TTL:PT1H
BEGIN:VTIMEZONE
TZID:Europe/Rome
BEGIN:DAYLIGHT
TZOFFSETFROM:+0100
TZOFFSETTO:+0200
TZNAME:CEST
DTSTART:20170326T010000
END:DAYLIGHT
BEGIN:STANDARD
TZOFFSETFROM:+0200
TZOFFSETTO:+0100
TZNAME:CET
DTSTART:20171029T010000
END:STANDARD
BEGIN:DAYLIGHT
TZOFFSETFROM:+0100
TZOFFSETTO:+0200
TZNAME:CEST
DTSTART:20180325T010000
END:DAYLIGHT
BEGIN:STANDARD
TZOFFSETFROM:+0200
TZOFFSETTO:+0100
TZNAME:CET
DTSTART:20181028T010000
END:STANDARD
BEGIN:DAYLIGHT
TZOFFSETFROM:+0100
TZOFFSETTO:+0200
TZNAME:CEST
DTSTART:20190331T010000
END:DAYLIGHT
BEGIN:STANDARD
TZOFFSETFROM:+0200
TZOFFSETTO:+0100
TZNAME:CET
DTSTART:20191027T010000
END:STANDARD
END:VTIMEZONE
BEGIN:VEVENT
DTSTART;TZID=Europe/Rome:20180506T160000
DTEND;TZID=Europe/Rome:20180506T170000
DTSTAMP:20260426T000148
CREATED:20180215T213815Z
LAST-MODIFIED:20180413T080633Z
UID:3704-1525622400-1525626000@www.guidaartistica.com
SUMMARY:PINACOTECA TOSIO MARTINENGO
DESCRIPTION:Dopo dieci lunghi anni\, riapre al pubblico la Pinacoteca Tosio Martinengo prezioso scrigno di opere d’arte che testimoniano l’evoluzione dell’arte bresciana fin dal medioevo. 120 dipinti saranno esposti in dialogo con altrettanti oggetti\, preziosi elementi per riscostruire il gusto e lo spirito dell’epoca. Da Foppa a Moretto\, da Raffaello a Pitocchetto\, sono moltissimi i capolavori che vi lasceranno a bocca aperta. \nAffidatevi alla narrazione intrigante di Guida Artistica per scoprire  i dettagli “da esperti”. \n  \nGuida Artistica è un gruppo di guide turistiche professioniste specializzato sulla provincia di Brescia. Siamo disponibili ad organizzare visite guidate per gruppi su richiesta. \ncredit fotografico Fondazione Brescia Musei
URL:https://www.guidaartistica.com/evento/pinacoteca-tosio-martinengo-9/
LOCATION:Pinacoteca Tosio Martinengo\, piazza Moretto n.4\, Brescia\, Italia
CATEGORIES:Visite guidate
ATTACH;FMTTYPE=image/jpeg:https://www.guidaartistica.com/wp-content/uploads/2018/02/compo-pina.jpg
ORGANIZER;CN="Guida Artistica":MAILTO:info@guidaartistica.com
END:VEVENT
BEGIN:VEVENT
DTSTART;TZID=Europe/Rome:20180513T160000
DTEND;TZID=Europe/Rome:20180513T173000
DTSTAMP:20260426T000148
CREATED:20180215T213815Z
LAST-MODIFIED:20180424T074113Z
UID:3731-1526227200-1526232600@www.guidaartistica.com
SUMMARY:PINACOTECA TOSIO MARTINENGO
DESCRIPTION:Dopo dieci lunghi anni\, riapre al pubblico la Pinacoteca Tosio Martinengo prezioso scrigno di opere d’arte che testimoniano l’evoluzione dell’arte bresciana fin dal medioevo. 120 dipinti saranno esposti in dialogo con altrettanti oggetti\, preziosi elementi per riscostruire il gusto e lo spirito dell’epoca. Da Foppa a Moretto\, da Raffaello a Pitocchetto\, sono moltissimi i capolavori che vi lasceranno a bocca aperta. \nAffidatevi alla narrazione intrigante di Guida Artistica per scoprire  i dettagli “da esperti”. \n  \nGuida Artistica è un gruppo di guide turistiche professioniste specializzato sulla provincia di Brescia. Siamo disponibili ad organizzare visite guidate per gruppi su richiesta. \n 
URL:https://www.guidaartistica.com/evento/pinacoteca-tosio-martinengo-10/
LOCATION:Pinacoteca Tosio Martinengo\, piazza Moretto n.4\, Brescia\, Italia
CATEGORIES:Visite guidate
ATTACH;FMTTYPE=image/jpeg:https://www.guidaartistica.com/wp-content/uploads/2018/02/compo-pina.jpg
ORGANIZER;CN="Guida Artistica":MAILTO:info@guidaartistica.com
END:VEVENT
BEGIN:VEVENT
DTSTART;TZID=Europe/Rome:20180522T153000
DTEND;TZID=Europe/Rome:20180522T170000
DTSTAMP:20260426T000148
CREATED:20180215T213815Z
LAST-MODIFIED:20180215T213815Z
UID:3754-1527003000-1527008400@www.guidaartistica.com
SUMMARY:PINACOTECA TOSIO MARTINENGO
DESCRIPTION:Dopo dieci lunghi anni\, riapre al pubblico la Pinacoteca Tosio Martinengo prezioso scrigno di opere d’arte che testimoniano l’evoluzione dell’arte bresciana fin dal medioevo. 120 dipinti saranno esposti in dialogo con altrettanti oggetti\, preziosi elementi per riscostruire il gusto e lo spirito dell’epoca. Da Foppa a Moretto\, da Raffaello a Pitocchetto\, sono moltissimi i capolavori che vi lasceranno a bocca aperta. \nAffidatevi alla narrazione intrigante di Guida Artistica per scoprire  i dettagli “da esperti”. \n  \nGuida Artistica è un gruppo di guide turistiche professioniste specializzato sulla provincia di Brescia. Siamo disponibili ad organizzare visite guidate per gruppi su richiesta. \n 
URL:https://www.guidaartistica.com/evento/pinacoteca-tosio-martinengo-12/
LOCATION:Pinacoteca Tosio Martinengo\, piazza Moretto n.4\, Brescia\, Italia
CATEGORIES:Visite guidate
ATTACH;FMTTYPE=image/jpeg:https://www.guidaartistica.com/wp-content/uploads/2018/02/compo-pina.jpg
ORGANIZER;CN="Guida Artistica":MAILTO:info@guidaartistica.com
END:VEVENT
BEGIN:VEVENT
DTSTART;TZID=Europe/Rome:20180526T160000
DTEND;TZID=Europe/Rome:20180526T173000
DTSTAMP:20260426T000148
CREATED:20180215T213815Z
LAST-MODIFIED:20180215T213815Z
UID:3733-1527350400-1527355800@www.guidaartistica.com
SUMMARY:PINACOTECA TOSIO MARTINENGO
DESCRIPTION:Dopo dieci lunghi anni\, riapre al pubblico la Pinacoteca Tosio Martinengo prezioso scrigno di opere d’arte che testimoniano l’evoluzione dell’arte bresciana fin dal medioevo. 120 dipinti saranno esposti in dialogo con altrettanti oggetti\, preziosi elementi per riscostruire il gusto e lo spirito dell’epoca. Da Foppa a Moretto\, da Raffaello a Pitocchetto\, sono moltissimi i capolavori che vi lasceranno a bocca aperta. \nAffidatevi alla narrazione intrigante di Guida Artistica per scoprire  i dettagli “da esperti”. \n  \nGuida Artistica è un gruppo di guide turistiche professioniste specializzato sulla provincia di Brescia. Siamo disponibili ad organizzare visite guidate per gruppi su richiesta. \n 
URL:https://www.guidaartistica.com/evento/pinacoteca-tosio-martinengo-11/
LOCATION:Pinacoteca Tosio Martinengo\, piazza Moretto n.4\, Brescia\, Italia
CATEGORIES:Visite guidate
ATTACH;FMTTYPE=image/jpeg:https://www.guidaartistica.com/wp-content/uploads/2018/02/compo-pina.jpg
ORGANIZER;CN="Guida Artistica":MAILTO:info@guidaartistica.com
END:VEVENT
END:VCALENDAR