BEGIN:VCALENDAR
VERSION:2.0
PRODID:-//Guida Artistica - ECPv6.15.20//NONSGML v1.0//EN
CALSCALE:GREGORIAN
METHOD:PUBLISH
X-WR-CALNAME:Guida Artistica
X-ORIGINAL-URL:https://www.guidaartistica.com
X-WR-CALDESC:Eventi per Guida Artistica
REFRESH-INTERVAL;VALUE=DURATION:PT1H
X-Robots-Tag:noindex
X-PUBLISHED-TTL:PT1H
BEGIN:VTIMEZONE
TZID:Europe/Rome
BEGIN:DAYLIGHT
TZOFFSETFROM:+0100
TZOFFSETTO:+0200
TZNAME:CEST
DTSTART:20170326T010000
END:DAYLIGHT
BEGIN:STANDARD
TZOFFSETFROM:+0200
TZOFFSETTO:+0100
TZNAME:CET
DTSTART:20171029T010000
END:STANDARD
BEGIN:DAYLIGHT
TZOFFSETFROM:+0100
TZOFFSETTO:+0200
TZNAME:CEST
DTSTART:20180325T010000
END:DAYLIGHT
BEGIN:STANDARD
TZOFFSETFROM:+0200
TZOFFSETTO:+0100
TZNAME:CET
DTSTART:20181028T010000
END:STANDARD
BEGIN:DAYLIGHT
TZOFFSETFROM:+0100
TZOFFSETTO:+0200
TZNAME:CEST
DTSTART:20190331T010000
END:DAYLIGHT
BEGIN:STANDARD
TZOFFSETFROM:+0200
TZOFFSETTO:+0100
TZNAME:CET
DTSTART:20191027T010000
END:STANDARD
END:VTIMEZONE
BEGIN:VEVENT
DTSTART;TZID=Europe/Rome:20180725T203000
DTEND;TZID=Europe/Rome:20180725T220000
DTSTAMP:20260426T030427
CREATED:20150625T083135Z
LAST-MODIFIED:20180714T132846Z
UID:3794-1532550600-1532556000@www.guidaartistica.com
SUMMARY:GOCCE D’ARTE-PERCORSO TRA LE FONTANE DI BRESCIA
DESCRIPTION:Guida Artistica organizza sfiziosi appuntamenti per ammirare Brescia di sera! \nQuesta serata è dedicata alle fontane del centro della città: piacevoli oggetti d’arte e di arredo urbano\, molte fontane fanno bella mostra di sé tra le piazze e i crocicchi di Brescia\, e in alcuni casi sono dei veri e propri capolavori dell’ingegneria idraulica! In questa piacevole passeggiata serale conoscete la storia e le curiosità che animano questi veri e propri “monumenti” spesso ingiustamente trascurati. \nAppuntamento alle 20.15 in corso Zanardelli\, davanti al Teatro Grande. Contributo di partecipazione euro 7 (gratis under 18). \n  \n  \nEvento realizzato da Guida Artistica\, appassionato gruppo di guide turistiche specializzato in tour su misura a Brescia\, in Franciacorta\, sul Lago d’Iseo e sul Lago di Garda
URL:https://www.guidaartistica.com/evento/gocce-darte-percorso-tra-le-fontane-di-brescia-6/
LOCATION:Teatro Grande\, corso Zanardelli\, Brescia
CATEGORIES:Visite guidate
ATTACH;FMTTYPE=image/jpeg:https://www.guidaartistica.com/wp-content/uploads/2014/06/passeggiate-artistiche-logo-colori.jpg
ORGANIZER;CN="Guida Artistica":MAILTO:info@guidaartistica.com
END:VEVENT
END:VCALENDAR