BEGIN:VCALENDAR
VERSION:2.0
PRODID:-//Guida Artistica - ECPv6.15.20//NONSGML v1.0//EN
CALSCALE:GREGORIAN
METHOD:PUBLISH
X-WR-CALNAME:Guida Artistica
X-ORIGINAL-URL:https://www.guidaartistica.com
X-WR-CALDESC:Eventi per Guida Artistica
REFRESH-INTERVAL;VALUE=DURATION:PT1H
X-Robots-Tag:noindex
X-PUBLISHED-TTL:PT1H
BEGIN:VTIMEZONE
TZID:Europe/Rome
BEGIN:DAYLIGHT
TZOFFSETFROM:+0100
TZOFFSETTO:+0200
TZNAME:CEST
DTSTART:20170326T010000
END:DAYLIGHT
BEGIN:STANDARD
TZOFFSETFROM:+0200
TZOFFSETTO:+0100
TZNAME:CET
DTSTART:20171029T010000
END:STANDARD
BEGIN:DAYLIGHT
TZOFFSETFROM:+0100
TZOFFSETTO:+0200
TZNAME:CEST
DTSTART:20180325T010000
END:DAYLIGHT
BEGIN:STANDARD
TZOFFSETFROM:+0200
TZOFFSETTO:+0100
TZNAME:CET
DTSTART:20181028T010000
END:STANDARD
BEGIN:DAYLIGHT
TZOFFSETFROM:+0100
TZOFFSETTO:+0200
TZNAME:CEST
DTSTART:20190331T010000
END:DAYLIGHT
BEGIN:STANDARD
TZOFFSETFROM:+0200
TZOFFSETTO:+0100
TZNAME:CET
DTSTART:20191027T010000
END:STANDARD
END:VTIMEZONE
BEGIN:VEVENT
DTSTART;TZID=Europe/Rome:20180218T160000
DTEND;TZID=Europe/Rome:20180218T173000
DTSTAMP:20260425T200641
CREATED:20161230T152142Z
LAST-MODIFIED:20161230T152142Z
UID:3597-1518969600-1518975000@www.guidaartistica.com
SUMMARY:I FASTI BAROCCHI DI BRESCIA
DESCRIPTION:In questo speciale itinerario Guida Artistica vi porterà nella Brescia del ‘600-‘700\, al tempo del Duomo Nuovo\, degli sfavillanti marmi di Santa Maria della Carità e degli affreschi prospettici della Chiesa di S.Agata\, per conoscere i fasti barocchi che hanno trasformato il volto di tante chiese di Brescia. \n  \nAppuntamento davanti alla chiesa di Santa Maria della Carità (via dei Musei) 15 min prima dell’inizio della visita. \nContributo di partecipazione euro 7 (gratis under 18 accompagnati). Prenotazione obbligatoria. \n  \nVisita guidata a Brescia organizzata da Guida Artistica\, gruppo di guide turistiche abilitate specializzate su Brescia\, lago di Garda\, Sebino\, Franciacorta\, Vallecamonica e tutta la provincia di Brescia.
URL:https://www.guidaartistica.com/evento/i-fasti-barocchi-di-brescia-4/
LOCATION:Chiesa di santa Maria della Carità\, via dei Musei\, Brescia\, Italia
CATEGORIES:Visite guidate
ATTACH;FMTTYPE=image/jpeg:https://www.guidaartistica.com/wp-content/uploads/2014/04/02_mariacarita.jpg
ORGANIZER;CN="Guida Artistica":MAILTO:info@guidaartistica.com
END:VEVENT
END:VCALENDAR