BEGIN:VCALENDAR
VERSION:2.0
PRODID:-//Guida Artistica - ECPv6.15.20//NONSGML v1.0//EN
CALSCALE:GREGORIAN
METHOD:PUBLISH
X-WR-CALNAME:Guida Artistica
X-ORIGINAL-URL:https://www.guidaartistica.com
X-WR-CALDESC:Eventi per Guida Artistica
REFRESH-INTERVAL;VALUE=DURATION:PT1H
X-Robots-Tag:noindex
X-PUBLISHED-TTL:PT1H
BEGIN:VTIMEZONE
TZID:Europe/Rome
BEGIN:DAYLIGHT
TZOFFSETFROM:+0100
TZOFFSETTO:+0200
TZNAME:CEST
DTSTART:20180325T010000
END:DAYLIGHT
BEGIN:STANDARD
TZOFFSETFROM:+0200
TZOFFSETTO:+0100
TZNAME:CET
DTSTART:20181028T010000
END:STANDARD
BEGIN:DAYLIGHT
TZOFFSETFROM:+0100
TZOFFSETTO:+0200
TZNAME:CEST
DTSTART:20190331T010000
END:DAYLIGHT
BEGIN:STANDARD
TZOFFSETFROM:+0200
TZOFFSETTO:+0100
TZNAME:CET
DTSTART:20191027T010000
END:STANDARD
BEGIN:DAYLIGHT
TZOFFSETFROM:+0100
TZOFFSETTO:+0200
TZNAME:CEST
DTSTART:20200329T010000
END:DAYLIGHT
BEGIN:STANDARD
TZOFFSETFROM:+0200
TZOFFSETTO:+0100
TZNAME:CET
DTSTART:20201025T010000
END:STANDARD
END:VTIMEZONE
BEGIN:VEVENT
DTSTART;TZID=Europe/Rome:20190808T203000
DTEND;TZID=Europe/Rome:20190808T220000
DTSTAMP:20260425T032154
CREATED:20160710T131428Z
LAST-MODIFIED:20160710T131428Z
UID:4274-1565296200-1565301600@www.guidaartistica.com
SUMMARY:BRESCIA SOTTO LE STELLE: UN ITINERARIO CURIOSO
DESCRIPTION:Guida Artistica propone un itinerario serale sfizioso\, per passeggiare nella nostra bella città ed apprezzarne gli scorci più curiosi e suggestivi. \nQuante volte camminiamo distratti per il centro città\, presi dal tran tran della vita di tutti i giorni\, senza osservare attentamente alcuni luoghi insoliti che ci appaiono di fronte? Con Guida Artistica  in questo nuovo itinerario passeggeremo col naso all’insù per ammirare tanti dettagli nascosti e sentire storie curiose. \nAd esempio\, siete mai stati alle “Case del Paradiso”? \nContributo di partecipazione euro 7 (gratis under 18 accompagnati ) Prenotazione obbligatoria. Incontro in Piazza Tebaldo Brusato\, davanti a Palazzo Cigola (angolo via Carlo Cattaneo). \n  \nVisita guidata a Brescia organizzata da Guida Artistica\, gruppo di guide turistiche abilitate specializzate su Brescia\, lago di Garda\, Sebino\, Franciacorta\, Vallecamonica e tutta la provincia di Brescia.
URL:https://www.guidaartistica.com/evento/brescia-sotto-le-stelle-un-itinerario-curioso-9/
LOCATION:Piazza del Foro\, Piazza del Foro\, Brescia\, Italia
CATEGORIES:Visite guidate
ATTACH;FMTTYPE=image/jpeg:https://www.guidaartistica.com/wp-content/uploads/2014/06/passeggiate-artistiche-logo-colori.jpg
ORGANIZER;CN="Guida Artistica":MAILTO:info@guidaartistica.com
END:VEVENT
END:VCALENDAR