BEGIN:VCALENDAR
VERSION:2.0
PRODID:-//Guida Artistica - ECPv6.15.20//NONSGML v1.0//EN
CALSCALE:GREGORIAN
METHOD:PUBLISH
X-WR-CALNAME:Guida Artistica
X-ORIGINAL-URL:https://www.guidaartistica.com
X-WR-CALDESC:Eventi per Guida Artistica
REFRESH-INTERVAL;VALUE=DURATION:PT1H
X-Robots-Tag:noindex
X-PUBLISHED-TTL:PT1H
BEGIN:VTIMEZONE
TZID:Europe/Rome
BEGIN:DAYLIGHT
TZOFFSETFROM:+0100
TZOFFSETTO:+0200
TZNAME:CEST
DTSTART:20230326T010000
END:DAYLIGHT
BEGIN:STANDARD
TZOFFSETFROM:+0200
TZOFFSETTO:+0100
TZNAME:CET
DTSTART:20231029T010000
END:STANDARD
BEGIN:DAYLIGHT
TZOFFSETFROM:+0100
TZOFFSETTO:+0200
TZNAME:CEST
DTSTART:20240331T010000
END:DAYLIGHT
BEGIN:STANDARD
TZOFFSETFROM:+0200
TZOFFSETTO:+0100
TZNAME:CET
DTSTART:20241027T010000
END:STANDARD
BEGIN:DAYLIGHT
TZOFFSETFROM:+0100
TZOFFSETTO:+0200
TZNAME:CEST
DTSTART:20250330T010000
END:DAYLIGHT
BEGIN:STANDARD
TZOFFSETFROM:+0200
TZOFFSETTO:+0100
TZNAME:CET
DTSTART:20251026T010000
END:STANDARD
END:VTIMEZONE
BEGIN:VEVENT
DTSTART;TZID=Europe/Rome:20240310T150000
DTEND;TZID=Europe/Rome:20240310T183000
DTSTAMP:20260422T134523
CREATED:20191129T105549Z
LAST-MODIFIED:20240125T192816Z
UID:5879-1710082800-1710095400@www.guidaartistica.com
SUMMARY:I TESORI DEL MUSEO DI SANTA GIULIA
DESCRIPTION:Guida Artistica vi propone un concentrato di capolavori in 120 minuti! Dai resti romani alla chiesa di San Salvatore\, dalle domus alla croce di Desiderio\, conoscerete la storia delle poi importanti opere del museo cittadino in un suggestivo viaggio nel passato. \nSapete che la sezione romana è stata recentemente ri-allestita? la multimedialità ci aiuterà ad ampliare lo sguardo dal museo alla città..di duemila anni fa. \nContributo di partecipazione: euro 20 comprensivo di biglietto d’ingresso. Prenotazione obbligatoria. \n  \nVisita guidata organizzata da Guida Artistica\, gruppo di guide turistiche abilitate\, specializzate su Brescia\, Lago di Garda\, Franciacorta\, Lago d’Iseo e provincia di Brescia. \nAspettando Bergamo-Brescia capitali della cultura 2023
URL:https://www.guidaartistica.com/evento/i-tesori-del-museo-di-santa-giulia-8/
LOCATION:Museo di Santa Giulia\, via dei Musei\, Brescia
CATEGORIES:Visite guidate
ATTACH;FMTTYPE=image/jpeg:https://www.guidaartistica.com/wp-content/uploads/2015/08/chiesa-san-salvatore.jpg
END:VEVENT
END:VCALENDAR