BEGIN:VCALENDAR
VERSION:2.0
PRODID:-//Guida Artistica - ECPv6.15.20//NONSGML v1.0//EN
CALSCALE:GREGORIAN
METHOD:PUBLISH
X-ORIGINAL-URL:https://www.guidaartistica.com
X-WR-CALDESC:Eventi per Guida Artistica
REFRESH-INTERVAL;VALUE=DURATION:PT1H
X-Robots-Tag:noindex
X-PUBLISHED-TTL:PT1H
BEGIN:VTIMEZONE
TZID:Europe/Rome
BEGIN:DAYLIGHT
TZOFFSETFROM:+0100
TZOFFSETTO:+0200
TZNAME:CEST
DTSTART:20170326T010000
END:DAYLIGHT
BEGIN:STANDARD
TZOFFSETFROM:+0200
TZOFFSETTO:+0100
TZNAME:CET
DTSTART:20171029T010000
END:STANDARD
BEGIN:DAYLIGHT
TZOFFSETFROM:+0100
TZOFFSETTO:+0200
TZNAME:CEST
DTSTART:20180325T010000
END:DAYLIGHT
BEGIN:STANDARD
TZOFFSETFROM:+0200
TZOFFSETTO:+0100
TZNAME:CET
DTSTART:20181028T010000
END:STANDARD
BEGIN:DAYLIGHT
TZOFFSETFROM:+0100
TZOFFSETTO:+0200
TZNAME:CEST
DTSTART:20190331T010000
END:DAYLIGHT
BEGIN:STANDARD
TZOFFSETFROM:+0200
TZOFFSETTO:+0100
TZNAME:CET
DTSTART:20191027T010000
END:STANDARD
END:VTIMEZONE
BEGIN:VEVENT
DTSTART;TZID=Europe/Rome:20180303T162000
DTEND;TZID=Europe/Rome:20180303T175000
DTSTAMP:20260426T002009
CREATED:20180115T082743Z
LAST-MODIFIED:20180221T073828Z
UID:3620-1520094000-1520099400@www.guidaartistica.com
SUMMARY:Mostra a Palazzo Martinengo: Picasso De Chirico Morandi. Cento capolavori dalle collezioni private bresciane
DESCRIPTION:Guida Artistica vi svela la nuova mostra di Palazzo Martinengo\, una carrellata di capolavori dell’Otto e Novecento\, frutto del collezionismo privato della nostra città: dai brescianissimi Basiletti e Inganni agli artisti internazionali come Picasso\, De Chirico e Fontana. \nIn questa giornata dedicata alle donne\, GUIDA ARTISTICA propone una speciale VISITA IN ROSA\, commentando con particolare attenzione i capolavori che hanno come soggetto proprio il gentil sesso. Ammireremo mogli\, amiche e amanti\, curiosando attraverso i dipinti nella vita privata e nelle relazioni sociali dei pittori \nVisita aperta anche ai signori uomini 🙂 \nContributo di partecipazione euro 15 (incluso biglietto di ingresso). Prenotazione obbligatoria.
URL:https://www.guidaartistica.com/evento/mostra-a-palazzo-martinengo-picasso-de-chirico-morandi-cento-capolavori-dalle-collezioni-private-bresciane-8/
LOCATION:Palazzo Martinengo Cesaresco – sede della Provincia di Brescia\, via Musei 32\, Brescia
CATEGORIES:Visite guidate
ATTACH;FMTTYPE=image/jpeg:https://www.guidaartistica.com/wp-content/uploads/2018/01/picasso.jpg
ORGANIZER;CN="Guida Artistica":MAILTO:info@guidaartistica.com
END:VEVENT
BEGIN:VEVENT
DTSTART;TZID=Europe/Rome:20180308T152000
DTEND;TZID=Europe/Rome:20180308T170000
DTSTAMP:20260426T002009
CREATED:20180115T082743Z
LAST-MODIFIED:20180210T210133Z
UID:3606-1520522400-1520528400@www.guidaartistica.com
SUMMARY:Mostra a Palazzo Martinengo: Picasso De Chirico Morandi. Cento capolavori dalle collezioni private bresciane
DESCRIPTION:Guida Artistica vi svela la nuova mostra di Palazzo Martinengo\, una carrellata di capolavori dell’Otto e Novecento\, frutto del collezionismo privato della nostra città: dai brescianissimi Basiletti e Inganni agli artisti internazionali come Picasso\, De Chirico e Fontana. \nIn questa giornata dedicata alle donne\, GUIDA ARTISTICA propone una speciale VISITA IN ROSA\, commentando con particolare attenzione i capolavori che hanno come soggetto proprio il gentil sesso. Ammireremo mogli\, amiche e amanti\, curiosando attraverso i dipinti nella vita privata e nelle relazioni sociali dei pittori \nVisita aperta anche ai signori uomini 🙂 \nContributo di partecipazione euro 15 (incluso biglietto di ingresso). Prenotazione obbligatoria.
URL:https://www.guidaartistica.com/evento/mostra-a-palazzo-martinengo-picasso-de-chirico-morandi-cento-capolavori-dalle-collezioni-private-bresciane-7/
LOCATION:Palazzo Martinengo Cesaresco – sede della Provincia di Brescia\, via Musei 32\, Brescia
CATEGORIES:Visite guidate
ATTACH;FMTTYPE=image/jpeg:https://www.guidaartistica.com/wp-content/uploads/2018/01/picasso.jpg
ORGANIZER;CN="Guida Artistica":MAILTO:info@guidaartistica.com
END:VEVENT
BEGIN:VEVENT
DTSTART;TZID=Europe/Rome:20180311T162000
DTEND;TZID=Europe/Rome:20180311T173000
DTSTAMP:20260426T002009
CREATED:20180225T074716Z
LAST-MODIFIED:20180221T080751Z
UID:3629-1520785200-1520789400@www.guidaartistica.com
SUMMARY:GUIDA ARTISTICA JUNIOR - PICASSO\, MORANDI\, DE CHIRICO... SONO UN ARTISTA ANCHE IO!
DESCRIPTION:Pronti a viaggiare con “l’arte in tasca”? Guida Artistica organizza una visita interattiva alla mostra di Palazzo Martinengo: “De Chirico\, Picasso\, Morandi. 100 capolavori dalle collezioni private bresciane”. Vestiremo i panni di un giovane pittore in viaggio\, per carpire i segreti dei grandi maestri dell’Otto e Novecento esposti in mostra\, dai ritratti dei nobili bresciani ai paesaggisti romantici\, fino alla velocità del Futurismo e alla scomposizione delle forme di Picasso e realizzare il nostro personale “album di viaggio”! \nContributo di partecipazione: 12 euro (incluso biglietto d’ingresso). Prenotazione obbligatoria\, appuntamento 15 minuti prima dell’inizio.
URL:https://www.guidaartistica.com/evento/guida-artistica-junior-picasso-morandi-de-chirico-sono-un-artista-anche-io/
CATEGORIES:Visite guidate
ATTACH;FMTTYPE=image/jpeg:https://www.guidaartistica.com/wp-content/uploads/2018/02/PICASSO.jpg
ORGANIZER;CN="Guida Artistica":MAILTO:info@guidaartistica.com
END:VEVENT
BEGIN:VEVENT
DTSTART;TZID=Europe/Rome:20180317T180000
DTEND;TZID=Europe/Rome:20180317T193000
DTSTAMP:20260426T002009
CREATED:20180225T074716Z
LAST-MODIFIED:20180312T125334Z
UID:3655-1521309600-1521315000@www.guidaartistica.com
SUMMARY:GUIDA ARTISTICA JUNIOR - PICASSO\, MORANDI\, DE CHIRICO... SONO UN ARTISTA ANCHE IO!
DESCRIPTION:Pronti a viaggiare con “l’arte in tasca”? Guida Artistica organizza una visita interattiva alla mostra di Palazzo Martinengo: “De Chirico\, Picasso\, Morandi. 100 capolavori dalle collezioni private bresciane”. Vestiremo i panni di un giovane pittore in viaggio\, per carpire i segreti dei grandi maestri dell’Otto e Novecento esposti in mostra\, dai ritratti dei nobili bresciani ai paesaggisti romantici\, fino alla velocità del Futurismo e alla scomposizione delle forme di Picasso e realizzare il nostro personale “album di viaggio”! \nSono ammessi gli adulti solo se accompagnati dai bambini 🙂 \n  \nEtà consigliata: 5 – 11 anni \nContributo di partecipazione: 12 euro (incluso biglietto d’ingresso) sia per adulti che per bambini. Prenotazione obbligatoria\, appuntamento 15 minuti prima dell’inizio alla biglietteria
URL:https://www.guidaartistica.com/evento/guida-artistica-junior-picasso-morandi-de-chirico-sono-un-artista-anche-io-3/
LOCATION:Palazzo Martinengo Cesaresco – sede della Provincia di Brescia\, via Musei 32\, Brescia
CATEGORIES:Visite guidate
ATTACH;FMTTYPE=image/jpeg:https://www.guidaartistica.com/wp-content/uploads/2018/02/PICASSO.jpg
ORGANIZER;CN="Guida Artistica":MAILTO:info@guidaartistica.com
END:VEVENT
END:VCALENDAR