BEGIN:VCALENDAR
VERSION:2.0
PRODID:-//Guida Artistica - ECPv6.15.20//NONSGML v1.0//EN
CALSCALE:GREGORIAN
METHOD:PUBLISH
X-WR-CALNAME:Guida Artistica
X-ORIGINAL-URL:https://www.guidaartistica.com
X-WR-CALDESC:Eventi per Guida Artistica
REFRESH-INTERVAL;VALUE=DURATION:PT1H
X-Robots-Tag:noindex
X-PUBLISHED-TTL:PT1H
BEGIN:VTIMEZONE
TZID:Europe/Rome
BEGIN:DAYLIGHT
TZOFFSETFROM:+0100
TZOFFSETTO:+0200
TZNAME:CEST
DTSTART:20150329T010000
END:DAYLIGHT
BEGIN:STANDARD
TZOFFSETFROM:+0200
TZOFFSETTO:+0100
TZNAME:CET
DTSTART:20151025T010000
END:STANDARD
BEGIN:DAYLIGHT
TZOFFSETFROM:+0100
TZOFFSETTO:+0200
TZNAME:CEST
DTSTART:20160327T010000
END:DAYLIGHT
BEGIN:STANDARD
TZOFFSETFROM:+0200
TZOFFSETTO:+0100
TZNAME:CET
DTSTART:20161030T010000
END:STANDARD
BEGIN:DAYLIGHT
TZOFFSETFROM:+0100
TZOFFSETTO:+0200
TZNAME:CEST
DTSTART:20170326T010000
END:DAYLIGHT
BEGIN:STANDARD
TZOFFSETFROM:+0200
TZOFFSETTO:+0100
TZNAME:CET
DTSTART:20171029T010000
END:STANDARD
END:VTIMEZONE
BEGIN:VEVENT
DTSTART;TZID=Europe/Rome:20160206T160000
DTEND;TZID=Europe/Rome:20160206T173000
DTSTAMP:20260425T181125
CREATED:20150528T152416Z
LAST-MODIFIED:20160127T093903Z
UID:2573-1454774400-1454779800@www.guidaartistica.com
SUMMARY:Visita alla quarta cella del tempio repubblicano e mostra ROMA E LE GENTI DEL PO
DESCRIPTION:Guida Artistica organizza una visita guidata che vi porterà ad ammirare la più grande area archeologica di tutto il Nord Italia impreziosita dalla Quarta cella del Santuario Repubblicano e ovviamente dal complesso di Santa Giulia\, nel quale visiteremo la mostra “Roma e le genti del Po”. Attraverso i numerosi reperti antichi (circa 500!) Guida Artistica vi racconterà la storia delle origini di Brixia e del fenomeno di romanizzazione delle popolazioni che abitavano la Gallia Cisalpina (Veneti\, Galli Cenomani\, Insubri\, Boi\, Liguri…). \nRimarrete abbagliati dalla bellezza dei mosaici e dei corredi funerari\, delle statue e dei gioielli. Per non parlare degli affreschi che ammantano la Quarta cella del Santuario Repubblicano\, finalmente aperta al pubblico dopo attenta opera di musealizzazione. \n Cosa aspettate?? Prenotate subito!!! \nAppuntamento 15 minuti prima alla biglietteria del museo di S.Giulia \nContributo di partecipazione euro 5 (oltre al biglietto d’ingresso alla mostra di euro 10\,00 ridotto gruppi) \n  \nVisita guidata organizzata da Guida Artistica\, gruppo di guide turistiche abilitate\, specializzate su Brescia\, Lago di Garda\, Franciacorta\, Lago d’Iseo e provincia di Brescia.
URL:https://www.guidaartistica.com/evento/visita-alla-quarta-cella-del-tempio-repubblicano-e-mostra-roma-e-le-genti-del-po/
LOCATION:Museo di Santa Giulia\, via dei Musei\, Brescia
CATEGORIES:Visite guidate
ATTACH;FMTTYPE=image/jpeg:https://www.guidaartistica.com/wp-content/uploads/2015/05/mosaico-brixia.jpg
ORGANIZER;CN="Guida Artistica":MAILTO:info@guidaartistica.com
END:VEVENT
BEGIN:VEVENT
DTSTART;TZID=Europe/Rome:20160214T153000
DTEND;TZID=Europe/Rome:20160214T170000
DTSTAMP:20260425T181125
CREATED:20150528T152416Z
LAST-MODIFIED:20150528T152416Z
UID:2574-1455463800-1455469200@www.guidaartistica.com
SUMMARY:Visita alla quarta cella del tempio repubblicano e mostra ROMA E LE GENTI DEL PO
DESCRIPTION:Guida Artistica organizza una visita guidata che vi porterà ad ammirare la più grande area archeologica di tutto il Nord Italia impreziosita dalla Quarta cella del Santuario Repubblicano e ovviamente dal complesso di Santa Giulia\, nel quale visiteremo la mostra “Roma e le genti del Po”. Attraverso i numerosi reperti antichi (circa 500!) Guida Artistica vi racconterà la storia delle origini di Brixia e del fenomeno di romanizzazione delle popolazioni che abitavano la Gallia Cisalpina (Veneti\, Galli Cenomani\, Insubri\, Boi\, Liguri…). \nRimarrete abbagliati dalla bellezza dei mosaici e dei corredi funerari\, delle statue e dei gioielli. Per non parlare degli affreschi che ammantano la Quarta cella del Santuario Repubblicano\, finalmente aperta al pubblico dopo attenta opera di musealizzazione. \n Cosa aspettate?? Prenotate subito!!! \nAppuntamento 15 minuti prima alla biglietteria del museo di S.Giulia \nContributo di partecipazione euro 5 (oltre al biglietto d’ingresso alla mostra di euro 10\,00 ridotto gruppi) \n  \nVisita guidata organizzata da Guida Artistica\, gruppo di guide turistiche abilitate\, specializzate su Brescia\, Lago di Garda\, Franciacorta\, Lago d’Iseo e provincia di Brescia.
URL:https://www.guidaartistica.com/evento/visita-alla-quarta-cella-del-tempio-repubblicano-e-mostra-roma-e-le-genti-del-po-2/
LOCATION:Museo di Santa Giulia\, via dei Musei\, Brescia
CATEGORIES:Visite guidate
ATTACH;FMTTYPE=image/jpeg:https://www.guidaartistica.com/wp-content/uploads/2015/05/mosaico-brixia.jpg
ORGANIZER;CN="Guida Artistica":MAILTO:info@guidaartistica.com
END:VEVENT
BEGIN:VEVENT
DTSTART;TZID=Europe/Rome:20160215T153000
DTEND;TZID=Europe/Rome:20160215T170000
DTSTAMP:20260425T181125
CREATED:20150528T152416Z
LAST-MODIFIED:20150528T152416Z
UID:2575-1455550200-1455555600@www.guidaartistica.com
SUMMARY:Visita alla quarta cella del tempio repubblicano e mostra ROMA E LE GENTI DEL PO
DESCRIPTION:Guida Artistica organizza una visita guidata che vi porterà ad ammirare la più grande area archeologica di tutto il Nord Italia impreziosita dalla Quarta cella del Santuario Repubblicano e ovviamente dal complesso di Santa Giulia\, nel quale visiteremo la mostra “Roma e le genti del Po”. Attraverso i numerosi reperti antichi (circa 500!) Guida Artistica vi racconterà la storia delle origini di Brixia e del fenomeno di romanizzazione delle popolazioni che abitavano la Gallia Cisalpina (Veneti\, Galli Cenomani\, Insubri\, Boi\, Liguri…). \nRimarrete abbagliati dalla bellezza dei mosaici e dei corredi funerari\, delle statue e dei gioielli. Per non parlare degli affreschi che ammantano la Quarta cella del Santuario Repubblicano\, finalmente aperta al pubblico dopo attenta opera di musealizzazione. \n Cosa aspettate?? Prenotate subito!!! \nAppuntamento 15 minuti prima alla biglietteria del museo di S.Giulia \nContributo di partecipazione euro 5 (oltre al biglietto d’ingresso alla mostra di euro 10\,00 ridotto gruppi) \n  \nVisita guidata organizzata da Guida Artistica\, gruppo di guide turistiche abilitate\, specializzate su Brescia\, Lago di Garda\, Franciacorta\, Lago d’Iseo e provincia di Brescia.
URL:https://www.guidaartistica.com/evento/visita-alla-quarta-cella-del-tempio-repubblicano-e-mostra-roma-e-le-genti-del-po-3/
LOCATION:Museo di Santa Giulia\, via dei Musei\, Brescia
CATEGORIES:Visite guidate
ATTACH;FMTTYPE=image/jpeg:https://www.guidaartistica.com/wp-content/uploads/2015/05/mosaico-brixia.jpg
ORGANIZER;CN="Guida Artistica":MAILTO:info@guidaartistica.com
END:VEVENT
END:VCALENDAR