BEGIN:VCALENDAR
VERSION:2.0
PRODID:-//Guida Artistica - ECPv6.15.20//NONSGML v1.0//EN
CALSCALE:GREGORIAN
METHOD:PUBLISH
X-ORIGINAL-URL:https://www.guidaartistica.com
X-WR-CALDESC:Eventi per Guida Artistica
REFRESH-INTERVAL;VALUE=DURATION:PT1H
X-Robots-Tag:noindex
X-PUBLISHED-TTL:PT1H
BEGIN:VTIMEZONE
TZID:Europe/Rome
BEGIN:DAYLIGHT
TZOFFSETFROM:+0100
TZOFFSETTO:+0200
TZNAME:CEST
DTSTART:20140330T010000
END:DAYLIGHT
BEGIN:STANDARD
TZOFFSETFROM:+0200
TZOFFSETTO:+0100
TZNAME:CET
DTSTART:20141026T010000
END:STANDARD
BEGIN:DAYLIGHT
TZOFFSETFROM:+0100
TZOFFSETTO:+0200
TZNAME:CEST
DTSTART:20150329T010000
END:DAYLIGHT
BEGIN:STANDARD
TZOFFSETFROM:+0200
TZOFFSETTO:+0100
TZNAME:CET
DTSTART:20151025T010000
END:STANDARD
BEGIN:DAYLIGHT
TZOFFSETFROM:+0100
TZOFFSETTO:+0200
TZNAME:CEST
DTSTART:20160327T010000
END:DAYLIGHT
BEGIN:STANDARD
TZOFFSETFROM:+0200
TZOFFSETTO:+0100
TZNAME:CET
DTSTART:20161030T010000
END:STANDARD
END:VTIMEZONE
BEGIN:VEVENT
DTSTART;TZID=Europe/Rome:20150502T160000
DTEND;TZID=Europe/Rome:20150502T173000
DTSTAMP:20260421T102706
CREATED:20150427T175816Z
LAST-MODIFIED:20150427T175833Z
UID:2135-1430582400-1430587800@www.guidaartistica.com
SUMMARY:I CUSTODI DELL'APOCALISSE: IL DOPPIO VOLTO DEGLI ANGELI
DESCRIPTION:Nuovo appuntamento di Guida Artistica dedicato agli angeli: non solo figure eteree\, messaggeri della bontà divina e custodi degli uomini…nell’Apocalisse di San Giovanni essi compaiono per dare l’avvio ad eventi catastrofici che colpiranno la Terra! Con Guida Artistica osserveremo\, in due diverse chiese\, questo doppio aspetto\, talvolta magnanimo e talvolta impietoso\, così come è stato rappresentato dagli artisti.\nAppuntamento alle 15.45 sul sagrato della chiesa di S.Faustino e Giovita\nDurata di 1 h e 30 min Contributo di partecipazione euro 7 (gratis under 18)\nPrenotazione obbligatoria telefonando al 347 3735785 oppure 3473028031 o scrivendo info@guidaartistica.com
URL:https://www.guidaartistica.com/evento/i-custodi-dellapocalisse-il-doppio-volto-degli-angeli/
LOCATION:chiesa di San Faustino\, via San Faustino
CATEGORIES:Visite guidate
ATTACH;FMTTYPE=image/jpeg:https://www.guidaartistica.com/wp-content/uploads/2015/04/custodi-apocalisse-rit.jpg
ORGANIZER;CN="Guida Artistica":MAILTO:info@guidaartistica.com
END:VEVENT
BEGIN:VEVENT
DTSTART;TZID=Europe/Rome:20150131T160000
DTEND;TZID=Europe/Rome:20150131T171500
DTSTAMP:20260421T102706
CREATED:20150103T144942Z
LAST-MODIFIED:20150103T144942Z
UID:2049-1422720000-1422724500@www.guidaartistica.com
SUMMARY:QUANDO LE DIMENSIONI NON CONTANO-PICCOLE CHIESE\, GRANDI CAPOLAVORI
DESCRIPTION:Per il ciclo Sulle orme dei Santi Patroni\, visiteremo la chiesa edificata nel luogo in cui si narra che i corpi di San Faustino e Giovita abbiano sanguinato: l’attuale San Faustino in Riposo nota anche con il nome di Santa Rita.\nCi sposteremo poi ad ammirare i resti di affascinanti affreschi Duecenteschi\, tra i più antichi rimasti in città\, in un edificio ormai sconsacrato e dedicato all’arte.\nContributo di partecipazione: euro 5 . Incontro all’ingresso della chiesa di San Faustino in Riposo (sotto l’arco di Porta Bruciata\, nell’angolo nord-est di piazza loggia a Brescia)\n \n  \nSULLE ORME DEI SANTI PATRONI è un ciclo di visite ideato da Guida Artistica per approfondire la conoscenza delle vicende dei Santi Patroni della Città di Brescia: Faustino e Giovita. Molto sentita è la devozione in città per i suoi protettori\, ma siete sicuri di conoscerne davvero le vicende e le opere d’arte ad essi ispirate? Ad esempio non tutti sanno che in passato erano ben 4 i luoghi di culto dedicati a San Faustino in città …. Ecco perchè consigliamo di seguire gli appuntamenti di Guida Artistica anche ai bresciani doc: siamo convinti che vi stupiremo! \n 
URL:https://www.guidaartistica.com/evento/quando-le-dimensioni-non-contano-piccole-chiese-grandi-capolavori/
LOCATION:Chiesa di S.Faustino in Riposo\, via musei 3\, Brescia
CATEGORIES:Visite guidate
ATTACH;FMTTYPE=image/jpeg:https://www.guidaartistica.com/wp-content/uploads/2015/01/volta.jpg
ORGANIZER;CN="Guida Artistica":MAILTO:info@guidaartistica.com
END:VEVENT
END:VCALENDAR