BEGIN:VCALENDAR
VERSION:2.0
PRODID:-//Guida Artistica - ECPv6.15.20//NONSGML v1.0//EN
CALSCALE:GREGORIAN
METHOD:PUBLISH
X-ORIGINAL-URL:https://www.guidaartistica.com
X-WR-CALDESC:Eventi per Guida Artistica
REFRESH-INTERVAL;VALUE=DURATION:PT1H
X-Robots-Tag:noindex
X-PUBLISHED-TTL:PT1H
BEGIN:VTIMEZONE
TZID:Europe/Rome
BEGIN:DAYLIGHT
TZOFFSETFROM:+0100
TZOFFSETTO:+0200
TZNAME:CEST
DTSTART:20180325T010000
END:DAYLIGHT
BEGIN:STANDARD
TZOFFSETFROM:+0200
TZOFFSETTO:+0100
TZNAME:CET
DTSTART:20181028T010000
END:STANDARD
BEGIN:DAYLIGHT
TZOFFSETFROM:+0100
TZOFFSETTO:+0200
TZNAME:CEST
DTSTART:20190331T010000
END:DAYLIGHT
BEGIN:STANDARD
TZOFFSETFROM:+0200
TZOFFSETTO:+0100
TZNAME:CET
DTSTART:20191027T010000
END:STANDARD
BEGIN:DAYLIGHT
TZOFFSETFROM:+0100
TZOFFSETTO:+0200
TZNAME:CEST
DTSTART:20200329T010000
END:DAYLIGHT
BEGIN:STANDARD
TZOFFSETFROM:+0200
TZOFFSETTO:+0100
TZNAME:CET
DTSTART:20201025T010000
END:STANDARD
END:VTIMEZONE
BEGIN:VEVENT
DTSTART;TZID=Europe/Rome:20190203T160000
DTEND;TZID=Europe/Rome:20190203T173000
DTSTAMP:20260425T061506
CREATED:20190127T192531Z
LAST-MODIFIED:20190127T192531Z
UID:4019-1549209600-1549215000@www.guidaartistica.com
SUMMARY:La chiesa di San Giorgio
DESCRIPTION:Incastonata nell’omonima piazzetta lungo via Gasparo da Salò\, l’edificio è stato fondato tra XI e XII secolo ed è forse la chiesa bresciana che meglio conserva l’originaria struttura romanica. Nelle navate\, accanto agli esuberanti affreschi realizzati nel Sei e nel Settecento\, i recenti restauri hanno mantenuto numerose pitture più antiche\, che rendono la Chiesa di S. Giorgio un vero e proprio “palinsesto artistico”. Curiosità: la chiesa è nota per aver ospitato la Compagnia della Misericordia\, istituto di assistenza dei condannati a morte che venivano sepolti nell’orto della vicina canonica. Contributo di partecipazione 7 euro (gratis under 18 accompagnati). Prenotazione obbligatoria.
URL:https://www.guidaartistica.com/evento/la-chiesa-di-san-giorgio-2/
LOCATION:chiesa di san giorgio\, via gasparo da salò\, Brescia\, Italia
CATEGORIES:Visite guidate
ATTACH;FMTTYPE=image/jpeg:https://www.guidaartistica.com/wp-content/uploads/2014/06/facciata-san-giorgio.jpg
ORGANIZER;CN="Guida Artistica":MAILTO:info@guidaartistica.com
END:VEVENT
END:VCALENDAR