BEGIN:VCALENDAR
VERSION:2.0
PRODID:-//Guida Artistica - ECPv6.15.20//NONSGML v1.0//EN
CALSCALE:GREGORIAN
METHOD:PUBLISH
X-WR-CALNAME:Guida Artistica
X-ORIGINAL-URL:https://www.guidaartistica.com
X-WR-CALDESC:Eventi per Guida Artistica
REFRESH-INTERVAL;VALUE=DURATION:PT1H
X-Robots-Tag:noindex
X-PUBLISHED-TTL:PT1H
BEGIN:VTIMEZONE
TZID:Europe/Rome
BEGIN:DAYLIGHT
TZOFFSETFROM:+0100
TZOFFSETTO:+0200
TZNAME:CEST
DTSTART:20230326T010000
END:DAYLIGHT
BEGIN:STANDARD
TZOFFSETFROM:+0200
TZOFFSETTO:+0100
TZNAME:CET
DTSTART:20231029T010000
END:STANDARD
BEGIN:DAYLIGHT
TZOFFSETFROM:+0100
TZOFFSETTO:+0200
TZNAME:CEST
DTSTART:20240331T010000
END:DAYLIGHT
BEGIN:STANDARD
TZOFFSETFROM:+0200
TZOFFSETTO:+0100
TZNAME:CET
DTSTART:20241027T010000
END:STANDARD
BEGIN:DAYLIGHT
TZOFFSETFROM:+0100
TZOFFSETTO:+0200
TZNAME:CEST
DTSTART:20250330T010000
END:DAYLIGHT
BEGIN:STANDARD
TZOFFSETFROM:+0200
TZOFFSETTO:+0100
TZNAME:CET
DTSTART:20251026T010000
END:STANDARD
END:VTIMEZONE
BEGIN:VEVENT
DTSTART;TZID=Europe/Rome:20240420T093000
DTEND;TZID=Europe/Rome:20240420T170000
DTSTAMP:20260421T144722
CREATED:20240403T214421Z
LAST-MODIFIED:20240403T214421Z
UID:5906-1713605400-1713632400@www.guidaartistica.com
SUMMARY:SOLFERINO: UNA STORIA DA GUSTARE
DESCRIPTION:Immersi nel verde delle colline moreniche del Garda\, ti portiamo a scoprire come nasce un fiore all’occhiello del nostro territorio: il Grana Padano. Visitiamo una delle aziende produttrici e ovviamente ne degustiamo i prodotti. \nSe vuoi puoi continuare il viaggio gastronomico con noi\, fermandoti a pranzo: verranno serviti i tipici capunsèi oltre ai salumi con gnocco fritto e giardiniera\, oltre a semifreddo allo zabaione. Euro 25 a persona. \nNel pomeriggio se vuoi\, puoi venire alla scoperta della storia risorgimentale (euro 15 compreso biglietto d’ingresso)
URL:https://www.guidaartistica.com/evento/solferino-una-storia-da-gustare/
LOCATION:Solferino
CATEGORIES:Visite guidate
ATTACH;FMTTYPE=image/jpeg:https://www.guidaartistica.com/wp-content/uploads/2024/04/Solferino.jpg
END:VEVENT
END:VCALENDAR