BEGIN:VCALENDAR
VERSION:2.0
PRODID:-//Guida Artistica - ECPv6.15.20//NONSGML v1.0//EN
CALSCALE:GREGORIAN
METHOD:PUBLISH
X-ORIGINAL-URL:https://www.guidaartistica.com
X-WR-CALDESC:Eventi per Guida Artistica
REFRESH-INTERVAL;VALUE=DURATION:PT1H
X-Robots-Tag:noindex
X-PUBLISHED-TTL:PT1H
BEGIN:VTIMEZONE
TZID:Europe/Rome
BEGIN:DAYLIGHT
TZOFFSETFROM:+0100
TZOFFSETTO:+0200
TZNAME:CEST
DTSTART:20170326T010000
END:DAYLIGHT
BEGIN:STANDARD
TZOFFSETFROM:+0200
TZOFFSETTO:+0100
TZNAME:CET
DTSTART:20171029T010000
END:STANDARD
BEGIN:DAYLIGHT
TZOFFSETFROM:+0100
TZOFFSETTO:+0200
TZNAME:CEST
DTSTART:20180325T010000
END:DAYLIGHT
BEGIN:STANDARD
TZOFFSETFROM:+0200
TZOFFSETTO:+0100
TZNAME:CET
DTSTART:20181028T010000
END:STANDARD
BEGIN:DAYLIGHT
TZOFFSETFROM:+0100
TZOFFSETTO:+0200
TZNAME:CEST
DTSTART:20190331T010000
END:DAYLIGHT
BEGIN:STANDARD
TZOFFSETFROM:+0200
TZOFFSETTO:+0100
TZNAME:CET
DTSTART:20191027T010000
END:STANDARD
END:VTIMEZONE
BEGIN:VEVENT
DTSTART;TZID=Europe/Rome:20180802T203000
DTEND;TZID=Europe/Rome:20180802T220000
DTSTAMP:20260425T212927
CREATED:20150625T082731Z
LAST-MODIFIED:20180719T191001Z
UID:3814-1533241800-1533247200@www.guidaartistica.com
SUMMARY:LE CUSTODI DEL TEMPO - PASSEGGIATA SOTTO LE TORRI DI BRESCIA
DESCRIPTION:Questo itinerario ha come protagoniste le torri che\, ideate come punti di avvistamento per proteggere la città\, nel corso dei secoli hanno avuto molteplici funzioni\, tra cui quella di scandire le giornate dei Bresciani. Ancora oggi fanno bella mostra di fontane\, orologi e complicati meccanismi\, metafore dello scorrere infinito del tempo\, che Guida Artistica saprà svelare.\nL’incontro è in piazza Paolo VI all’ingresso del Duomo Vecchio\nContributo di partecipazione euro 7 (gratis under 18 accompagnati). Prenotazione obbligatoria \n  \n  \n  \nVisita guidata a Brescia organizzata da Guida Artistica\, gruppo di guide turistiche abilitate specializzate su Brescia\, lago di Garda\, Sebino\, Franciacorta\, Vallecamonica e tutta la provincia di Brescia.
URL:https://www.guidaartistica.com/evento/le-custodi-del-tempo-passeggiata-sotto-le-torri-di-brescia-6/
LOCATION:duomo vecchio\, piazza Paolo VI\, Brescia
CATEGORIES:Visite guidate
ATTACH;FMTTYPE=image/jpeg:https://www.guidaartistica.com/wp-content/uploads/2014/06/passeggiate-artistiche-logo-colori.jpg
ORGANIZER;CN="Guida Artistica":MAILTO:info@guidaartistica.com
END:VEVENT
END:VCALENDAR