BEGIN:VCALENDAR
VERSION:2.0
PRODID:-//Guida Artistica - ECPv6.15.20//NONSGML v1.0//EN
CALSCALE:GREGORIAN
METHOD:PUBLISH
X-WR-CALNAME:Guida Artistica
X-ORIGINAL-URL:https://www.guidaartistica.com
X-WR-CALDESC:Eventi per Guida Artistica
REFRESH-INTERVAL;VALUE=DURATION:PT1H
X-Robots-Tag:noindex
X-PUBLISHED-TTL:PT1H
BEGIN:VTIMEZONE
TZID:Europe/Rome
BEGIN:DAYLIGHT
TZOFFSETFROM:+0100
TZOFFSETTO:+0200
TZNAME:CEST
DTSTART:20180325T010000
END:DAYLIGHT
BEGIN:STANDARD
TZOFFSETFROM:+0200
TZOFFSETTO:+0100
TZNAME:CET
DTSTART:20181028T010000
END:STANDARD
BEGIN:DAYLIGHT
TZOFFSETFROM:+0100
TZOFFSETTO:+0200
TZNAME:CEST
DTSTART:20190331T010000
END:DAYLIGHT
BEGIN:STANDARD
TZOFFSETFROM:+0200
TZOFFSETTO:+0100
TZNAME:CET
DTSTART:20191027T010000
END:STANDARD
BEGIN:DAYLIGHT
TZOFFSETFROM:+0100
TZOFFSETTO:+0200
TZNAME:CEST
DTSTART:20200329T010000
END:DAYLIGHT
BEGIN:STANDARD
TZOFFSETFROM:+0200
TZOFFSETTO:+0100
TZNAME:CET
DTSTART:20201025T010000
END:STANDARD
END:VTIMEZONE
BEGIN:VEVENT
DTSTART;TZID=Europe/Rome:20190512T160000
DTEND;TZID=Europe/Rome:20190512T170000
DTSTAMP:20260425T143933
CREATED:20151007T114918Z
LAST-MODIFIED:20151007T114918Z
UID:4094-1557676800-1557680400@www.guidaartistica.com
SUMMARY:L'orologio di Piazza Loggia: il fascino del tempo\, il calendario\, gli astri
DESCRIPTION:Guida Artistica propone una visita interamente dedicata all’orologio di Piazza della Loggia\, che con i rintocchi dei suoi Macc de le Ure scandisce da secoli la laboriosa vita dei bresciani. Avrete sicuramente notato che il bel quadrante che si affaccia sulla piazza è molto complesso e ricco di indicazioni: Guida Artistica ve le saprà illustrare con linguaggio semplice e coinvolgente. Ne rimarrete ammaliati! \n7Prenotazione obbligatoria. Durata 1 ora circa. Contributo di partecipazione:  7 euro (gratis under 18 accompagnati). \n  \nN.B. la visita guidata si svolgerà in piazza\, non sarà possibile salire a vedere il meccanismo dell’orologio
URL:https://www.guidaartistica.com/evento/lorologio-di-piazza-loggia-il-fascino-del-tempo-il-calendario-gli-astri-6/
LOCATION:Torre dell’Orologio\, Piazza della Loggia\, Brescia\, Italia
CATEGORIES:Visite guidate
ATTACH;FMTTYPE=image/jpeg:https://www.guidaartistica.com/wp-content/uploads/2015/10/Brescia_piazzaLoggia.jpg
ORGANIZER;CN="Guida Artistica":MAILTO:info@guidaartistica.com
END:VEVENT
END:VCALENDAR