BEGIN:VCALENDAR
VERSION:2.0
PRODID:-//Guida Artistica - ECPv6.15.20//NONSGML v1.0//EN
CALSCALE:GREGORIAN
METHOD:PUBLISH
X-ORIGINAL-URL:https://www.guidaartistica.com
X-WR-CALDESC:Eventi per Guida Artistica
REFRESH-INTERVAL;VALUE=DURATION:PT1H
X-Robots-Tag:noindex
X-PUBLISHED-TTL:PT1H
BEGIN:VTIMEZONE
TZID:Europe/Rome
BEGIN:DAYLIGHT
TZOFFSETFROM:+0100
TZOFFSETTO:+0200
TZNAME:CEST
DTSTART:20190331T010000
END:DAYLIGHT
BEGIN:STANDARD
TZOFFSETFROM:+0200
TZOFFSETTO:+0100
TZNAME:CET
DTSTART:20191027T010000
END:STANDARD
BEGIN:DAYLIGHT
TZOFFSETFROM:+0100
TZOFFSETTO:+0200
TZNAME:CEST
DTSTART:20200329T010000
END:DAYLIGHT
BEGIN:STANDARD
TZOFFSETFROM:+0200
TZOFFSETTO:+0100
TZNAME:CET
DTSTART:20201025T010000
END:STANDARD
BEGIN:DAYLIGHT
TZOFFSETFROM:+0100
TZOFFSETTO:+0200
TZNAME:CEST
DTSTART:20210328T010000
END:DAYLIGHT
BEGIN:STANDARD
TZOFFSETFROM:+0200
TZOFFSETTO:+0100
TZNAME:CET
DTSTART:20211031T010000
END:STANDARD
END:VTIMEZONE
BEGIN:VEVENT
DTSTART;TZID=Europe/Rome:20200608T200000
DTEND;TZID=Europe/Rome:20200608T213000
DTSTAMP:20260426T011341
CREATED:20170827T130310Z
LAST-MODIFIED:20200529T194758Z
UID:4483-1591646400-1591651800@www.guidaartistica.com
SUMMARY:FACCIATE\, PORTALI E CORTILI DELLA QUADRA DI SAN GIOVANNI
DESCRIPTION:L’arte è stata nei secoli passati appannaggio di chi aveva la risorse economiche per poter commissionare  il bello\, non stupisce quindi che la nobiltà bresciana nel ‘600- ‘700 abbia investito le proprie ricchezze per costruire (o aggiornare al nuovo gusto) le proprie suntuose dimore\, vero e proprio status symbol di un prestigio sempre crescente. Sono fiorite quindi eleganti dimore\, la cui bellezza è annunciata già dalle facciate\, dai portali e dai cortili\, secondo schemi prospettici e soluzioni architettoniche ispirate alla teatralità del gusto barocco\, che Guida Artistica vi guiderà ad ammirare. \n  \n  \n 
URL:https://www.guidaartistica.com/evento/facciate-portali-e-cortili-della-quadra-di-san-giovanni/
CATEGORIES:Visite guidate
ATTACH;FMTTYPE=image/jpeg:https://www.guidaartistica.com/wp-content/uploads/2017/08/Lombardia_Brescia_Brescia_PalazzoFenaroliUggeri02rid.jpg
END:VEVENT
END:VCALENDAR