BEGIN:VCALENDAR
VERSION:2.0
PRODID:-//Guida Artistica - ECPv6.15.20//NONSGML v1.0//EN
CALSCALE:GREGORIAN
METHOD:PUBLISH
X-ORIGINAL-URL:https://www.guidaartistica.com
X-WR-CALDESC:Eventi per Guida Artistica
REFRESH-INTERVAL;VALUE=DURATION:PT1H
X-Robots-Tag:noindex
X-PUBLISHED-TTL:PT1H
BEGIN:VTIMEZONE
TZID:Europe/Rome
BEGIN:DAYLIGHT
TZOFFSETFROM:+0100
TZOFFSETTO:+0200
TZNAME:CEST
DTSTART:20220327T010000
END:DAYLIGHT
BEGIN:STANDARD
TZOFFSETFROM:+0200
TZOFFSETTO:+0100
TZNAME:CET
DTSTART:20221030T010000
END:STANDARD
BEGIN:DAYLIGHT
TZOFFSETFROM:+0100
TZOFFSETTO:+0200
TZNAME:CEST
DTSTART:20230326T010000
END:DAYLIGHT
BEGIN:STANDARD
TZOFFSETFROM:+0200
TZOFFSETTO:+0100
TZNAME:CET
DTSTART:20231029T010000
END:STANDARD
BEGIN:DAYLIGHT
TZOFFSETFROM:+0100
TZOFFSETTO:+0200
TZNAME:CEST
DTSTART:20240331T010000
END:DAYLIGHT
BEGIN:STANDARD
TZOFFSETFROM:+0200
TZOFFSETTO:+0100
TZNAME:CET
DTSTART:20241027T010000
END:STANDARD
END:VTIMEZONE
BEGIN:VEVENT
DTSTART;TZID=Europe/Rome:20230705T200000
DTEND;TZID=Europe/Rome:20230705T213000
DTSTAMP:20260425T170909
CREATED:20190701T071414Z
LAST-MODIFIED:20230628T164058Z
UID:5764-1688587200-1688592600@www.guidaartistica.com
SUMMARY:LE VIE DELLA LIBERTÀ
DESCRIPTION:A Brescia esistono percorsi meno evidenti ma non per questo meno coinvolgenti\, soprattutto se protagonista è la Memoria\, sempre più difficile da conservare. In questa occasione Guida Artistica ripercorre le tracce di una storia spesso dimenticata\, alla ricerca dei luoghi e della presenza degli ebrei in città\, dall’epoca romana fino alla loro deportazione durate il secondo conflitto mondiale\, come ricordano le Pietre di inciampo. Attraverseremo le successive “ferite” di Brescia lungo il Memoriale delle vittime del terrorismo e della violenza politica\, avendo sempre come meta la Libertà\, in nome della quale molti morirono e lottarono. \nIncontro sotto l’orologio di piazza Loggia. \n  \nVisita guidata a Brescia organizzata da Guida Artistica\, gruppo di guide turistiche abilitate specializzate su Brescia\, lago di Garda\, Sebino\, Franciacorta\, Vallecamonica e tutta la provincia di Brescia.  Bergamo-Brescia Capitali della cultura 2023.
URL:https://www.guidaartistica.com/evento/le-vie-della-liberta-10/
LOCATION:Orologio Piazza Loggia\, Piazza della Loggia\, Brescia\, Italia
CATEGORIES:Visite guidate
ATTACH;FMTTYPE=image/jpeg:https://www.guidaartistica.com/wp-content/uploads/2019/07/pietre-inciampo-e1619602395956.jpg
END:VEVENT
BEGIN:VEVENT
DTSTART;TZID=Europe/Rome:20230713T200000
DTEND;TZID=Europe/Rome:20230713T223000
DTSTAMP:20260425T170909
CREATED:20230704T203326Z
LAST-MODIFIED:20230704T203528Z
UID:5767-1689278400-1689287400@www.guidaartistica.com
SUMMARY:APERITIVO AL TRAMONTO IN BARCA E FESTA DELLE LUCI A MONTISOLA
DESCRIPTION:Speciale tour guidato in occasione della festa delle luci a Montisola con partenza in barca da Iseo: \n\naperitivo con Franciacorta a bordo\nvisita guidata del borgo di Peschiera Maraglio\nvisita guidata delle installazioni luminose di Michelangelo Pistoletto e Angelo Bonello\n\nRitrovo al porto turistico di Iseo (da raggiungere con mezzi propri). \n  \nIniziativa nell’anno di Bergamo Brescia capitale della cultura 2023 a cura di Guida Artistica\, gruppo di guide turistiche specializzate sul  Lago d’Iseo (e Brescia\, Franciacorta e lago di Garda)
URL:https://www.guidaartistica.com/evento/aperitivo-al-tramonto-in-barca-e-festa-delle-luci-a-montisola/
LOCATION:iseo
CATEGORIES:Visite guidate
ATTACH;FMTTYPE=image/jpeg:https://www.guidaartistica.com/wp-content/uploads/2023/07/FESTAdelleLUCI.jpg
END:VEVENT
END:VCALENDAR