BEGIN:VCALENDAR
VERSION:2.0
PRODID:-//Guida Artistica - ECPv6.15.20//NONSGML v1.0//EN
CALSCALE:GREGORIAN
METHOD:PUBLISH
X-ORIGINAL-URL:https://www.guidaartistica.com
X-WR-CALDESC:Eventi per Guida Artistica
REFRESH-INTERVAL;VALUE=DURATION:PT1H
X-Robots-Tag:noindex
X-PUBLISHED-TTL:PT1H
BEGIN:VTIMEZONE
TZID:Europe/Rome
BEGIN:DAYLIGHT
TZOFFSETFROM:+0100
TZOFFSETTO:+0200
TZNAME:CEST
DTSTART:20220327T010000
END:DAYLIGHT
BEGIN:STANDARD
TZOFFSETFROM:+0200
TZOFFSETTO:+0100
TZNAME:CET
DTSTART:20221030T010000
END:STANDARD
BEGIN:DAYLIGHT
TZOFFSETFROM:+0100
TZOFFSETTO:+0200
TZNAME:CEST
DTSTART:20230326T010000
END:DAYLIGHT
BEGIN:STANDARD
TZOFFSETFROM:+0200
TZOFFSETTO:+0100
TZNAME:CET
DTSTART:20231029T010000
END:STANDARD
BEGIN:DAYLIGHT
TZOFFSETFROM:+0100
TZOFFSETTO:+0200
TZNAME:CEST
DTSTART:20240331T010000
END:DAYLIGHT
BEGIN:STANDARD
TZOFFSETFROM:+0200
TZOFFSETTO:+0100
TZNAME:CET
DTSTART:20241027T010000
END:STANDARD
END:VTIMEZONE
BEGIN:VEVENT
DTSTART;TZID=Europe/Rome:20230909T190000
DTEND;TZID=Europe/Rome:20230909T210000
DTSTAMP:20260425T141310
CREATED:20230710T210006Z
LAST-MODIFIED:20230829T122838Z
UID:5802-1694286000-1694293200@www.guidaartistica.com
SUMMARY:MADDALENA MON AMOUR!
DESCRIPTION:Cosa c’è di meglio di una bella passeggiata al tramonto sulle pendici della Maddalena? abbiamo tante storie da raccontarvi! \nGuida Artistica vi aspetta in piazzale Arnaldo per un bel tour. Passeggeremo in viale Venezia per ammirare le ville di primo ‘900 e salire fino alla chiesa di S.Fiorano e alla Tomba del Cane ancor oggi avvolta nella leggenda. Consigliamo di portare con voi una torcia…per far luce sul mistero.\n \n 
URL:https://www.guidaartistica.com/evento/maddalena-mon-amour-2/
CATEGORIES:Visite guidate
ATTACH;FMTTYPE=image/jpeg:https://www.guidaartistica.com/wp-content/uploads/2023/07/DSCN4083.jpg
END:VEVENT
BEGIN:VEVENT
DTSTART;TZID=Europe/Rome:20230930T180000
DTEND;TZID=Europe/Rome:20230930T200000
DTSTAMP:20260425T141310
CREATED:20230704T204626Z
LAST-MODIFIED:20230919T085127Z
UID:5815-1696096800-1696104000@www.guidaartistica.com
SUMMARY:LA VITTORIA ALATA E IL PUGILE IN RIPOSO LUNGO IL CORRIDOIO UNESCO
DESCRIPTION:Speciale tour guidato  al Parco Archeologico di Brixia Romana per ammirare il nuovo allestimento dell’archistar Juan Navarro Baldeweg. La Vittoria Alata dialogherà con il capolavoro greco Il pugile in riposo\, in prestito straordinario dal Museo Nazionale Romano- palazzo Massimo di Roma.  \nLa visita si sofferma anche sul dialogo tra antico e moderno della visual art di Fabrizio Plessi\, per proseguire lungo il Corridoio Une \nTour guidato organizzato da Guida Artistica nell’anno di Bergamo-Brescia capitale della cultura 2023. Gruppo di guide turistiche specializzato per Brescia\, Franciacorta\, lago d’Iseo e lago di Garda.
URL:https://www.guidaartistica.com/evento/la-vittoria-alata-e-il-pugile-in-riposo-lungo-il-corridoio-unesco-4/
LOCATION:parco archeologico\, piazza del foro\, Brescia
CATEGORIES:Visite guidate
ATTACH;FMTTYPE=image/jpeg:https://www.guidaartistica.com/wp-content/uploads/2023/07/pugile-in-riposo-met.jpg
END:VEVENT
END:VCALENDAR