BEGIN:VCALENDAR
VERSION:2.0
PRODID:-//Guida Artistica - ECPv6.15.20//NONSGML v1.0//EN
CALSCALE:GREGORIAN
METHOD:PUBLISH
X-WR-CALNAME:Guida Artistica
X-ORIGINAL-URL:https://www.guidaartistica.com
X-WR-CALDESC:Eventi per Guida Artistica
REFRESH-INTERVAL;VALUE=DURATION:PT1H
X-Robots-Tag:noindex
X-PUBLISHED-TTL:PT1H
BEGIN:VTIMEZONE
TZID:Europe/Rome
BEGIN:DAYLIGHT
TZOFFSETFROM:+0100
TZOFFSETTO:+0200
TZNAME:CEST
DTSTART:20230326T010000
END:DAYLIGHT
BEGIN:STANDARD
TZOFFSETFROM:+0200
TZOFFSETTO:+0100
TZNAME:CET
DTSTART:20231029T010000
END:STANDARD
BEGIN:DAYLIGHT
TZOFFSETFROM:+0100
TZOFFSETTO:+0200
TZNAME:CEST
DTSTART:20240331T010000
END:DAYLIGHT
BEGIN:STANDARD
TZOFFSETFROM:+0200
TZOFFSETTO:+0100
TZNAME:CET
DTSTART:20241027T010000
END:STANDARD
BEGIN:DAYLIGHT
TZOFFSETFROM:+0100
TZOFFSETTO:+0200
TZNAME:CEST
DTSTART:20250330T010000
END:DAYLIGHT
BEGIN:STANDARD
TZOFFSETFROM:+0200
TZOFFSETTO:+0100
TZNAME:CET
DTSTART:20251026T010000
END:STANDARD
END:VTIMEZONE
BEGIN:VEVENT
DTSTART;TZID=Europe/Rome:20240411T150000
DTEND;TZID=Europe/Rome:20240411T163000
DTSTAMP:20260425T033958
CREATED:20240125T190126Z
LAST-MODIFIED:20240329T191605Z
UID:5898-1712847600-1712853000@www.guidaartistica.com
SUMMARY:mostra I MACCHIAIOLI
DESCRIPTION:Straordinaria mostra dedicata ai Macchiaioli\, movimento artistico ottocentesco che innova il modo di dipingere e intreccia le sue sorti con quelle della riunificazione d’Italia. Almeno un decennio prima degli impressionisti infatti\, questi artisti escono dai loro studi per recarsi in mezzo alla natura (Castiglioncello\, la Maremma\, la Liguria) per cogliere le impressioni create dalla luce e trovare un modo nuovo di trasporle sulla tela. \nGrazie all’indefesso lavoro del loro critico d’arte di riferimento Martelli\, si strutturano come un vero e proprio movimento artistico\, sforzandosi di teorizzare questo nuovo modo di fare arte. Il luogo d’eccellenza di questi dibattiti è il caffè Michelangiolo a Firenze\, dove si incontravano pittori provenienti anche da altre città\, accomunati da questo desiderio di creare una nuova arte nazionale per la nuova nazione italiana che stava nascendo. Qualche nome? Giovanni Fattori\, Silvestro Lega\, Telemaco Signorini\, Vincenzo Cabianca e molti altri che imparerete ad amare. \nQuota di partecipazione euro 20 a testa: 12 euro per biglietto d’ingresso e euro 8 per visita guidata \nVisita guidata condotta da Guida Artistica\, gruppo di guide turistiche specializzate su Brescia\, lago di Garda e lago D’Iseo e Franciacorta.
URL:https://www.guidaartistica.com/evento/mostra-i-macchiaioli-14/
LOCATION:Palazzo Martinengo Cesaresco – sede della Provincia di Brescia\, via Musei 32\, Brescia
CATEGORIES:Visite guidate
ATTACH;FMTTYPE=image/jpeg:https://www.guidaartistica.com/wp-content/uploads/2024/01/2-Fattori-Raccolta-del-fieno-in-Maremma-collezione-privata-scaled-1.jpeg
END:VEVENT
BEGIN:VEVENT
DTSTART;TZID=Europe/Rome:20240413T172000
DTEND;TZID=Europe/Rome:20240413T190000
DTSTAMP:20260425T033958
CREATED:20240125T190126Z
LAST-MODIFIED:20240402T105408Z
UID:5897-1713028800-1713034800@www.guidaartistica.com
SUMMARY:mostra I MACCHIAIOLI
DESCRIPTION:Straordinaria mostra dedicata ai Macchiaioli\, movimento artistico ottocentesco che innova il modo di dipingere e intreccia le sue sorti con quelle della riunificazione d’Italia. Almeno un decennio prima degli impressionisti infatti\, questi artisti escono dai loro studi per recarsi in mezzo alla natura (Castiglioncello\, la Maremma\, la Liguria) per cogliere le impressioni create dalla luce e trovare un modo nuovo di trasporle sulla tela. \nGrazie all’indefesso lavoro del loro critico d’arte di riferimento Martelli\, si strutturano come un vero e proprio movimento artistico\, sforzandosi di teorizzare questo nuovo modo di fare arte. Il luogo d’eccellenza di questi dibattiti è il caffè Michelangiolo a Firenze\, dove si incontravano pittori provenienti anche da altre città\, accomunati da questo desiderio di creare una nuova arte nazionale per la nuova nazione italiana che stava nascendo. Qualche nome? Giovanni Fattori\, Silvestro Lega\, Telemaco Signorini\, Vincenzo Cabianca e molti altri che imparerete ad amare. \nQuota di partecipazione euro 20 a testa: 12 euro per biglietto d’ingresso e euro 8 per visita guidata \nVisita guidata condotta da Guida Artistica\, gruppo di guide turistiche specializzate su Brescia\, lago di Garda e lago D’Iseo e Franciacorta.
URL:https://www.guidaartistica.com/evento/mostra-i-macchiaioli-13/
LOCATION:Palazzo Martinengo Cesaresco – sede della Provincia di Brescia\, via Musei 32\, Brescia
CATEGORIES:Visite guidate
ATTACH;FMTTYPE=image/jpeg:https://www.guidaartistica.com/wp-content/uploads/2024/01/2-Fattori-Raccolta-del-fieno-in-Maremma-collezione-privata-scaled-1.jpeg
END:VEVENT
BEGIN:VEVENT
DTSTART;TZID=Europe/Rome:20240427T160000
DTEND;TZID=Europe/Rome:20240427T173000
DTSTAMP:20260425T033958
CREATED:20190328T153442Z
LAST-MODIFIED:20240410T201644Z
UID:5911-1714233600-1714239000@www.guidaartistica.com
SUMMARY:IL KILOMETRO DELLA BELLEZZA
DESCRIPTION:C’è una strada nel cuore di Brescia\, che ci conduce in un viaggio nel tempo offrendoci più di un KM di bellezze artistiche: parola di Unesco! Ammireremo il Capitolium dopo avere varcato l’antica Porta Mediolanense\, oggi per noi Porta Bruciata\, fino alla porta scomparsa dedicata a Sant’Andrea\, che segnava il confine più orientale del decumano romano. Nel mezzo fanno capolino molti palazzi nobiliari legati alle famiglie che hanno fatto la storia di Brescia: non solo la più antica ( i Maggi\, i Martinengo) ma anche quella del ‘900 (la nascita della Mille Miglia e quella del grande statista Giuseppe Zanardelli).\n\nIncontro: statua della Bella Italia in piazza Loggia.\n\nVisita guidata organizzata da Guida Artistica\, gruppo di guide turistiche abilitate\, specializzate su Brescia\, Lago di Garda\, Franciacorta\, Lago d’Iseo e provincia di Brescia. Bergamo-Brescia capitali della cultura 2023.\n  \n  \n 
URL:https://www.guidaartistica.com/evento/il-kilometro-della-bellezza-5/
LOCATION:STATUA BELLA ITALIA\, piazza della Loggia\, Brescia
CATEGORIES:Visite guidate
ATTACH;FMTTYPE=image/jpeg:https://www.guidaartistica.com/wp-content/uploads/2019/03/km-bellezza.jpg
END:VEVENT
END:VCALENDAR