BEGIN:VCALENDAR
VERSION:2.0
PRODID:-//Guida Artistica - ECPv6.15.20//NONSGML v1.0//EN
CALSCALE:GREGORIAN
METHOD:PUBLISH
X-WR-CALNAME:Guida Artistica
X-ORIGINAL-URL:https://www.guidaartistica.com
X-WR-CALDESC:Eventi per Guida Artistica
REFRESH-INTERVAL;VALUE=DURATION:PT1H
X-Robots-Tag:noindex
X-PUBLISHED-TTL:PT1H
BEGIN:VTIMEZONE
TZID:Europe/Rome
BEGIN:DAYLIGHT
TZOFFSETFROM:+0100
TZOFFSETTO:+0200
TZNAME:CEST
DTSTART:20230326T010000
END:DAYLIGHT
BEGIN:STANDARD
TZOFFSETFROM:+0200
TZOFFSETTO:+0100
TZNAME:CET
DTSTART:20231029T010000
END:STANDARD
BEGIN:DAYLIGHT
TZOFFSETFROM:+0100
TZOFFSETTO:+0200
TZNAME:CEST
DTSTART:20240331T010000
END:DAYLIGHT
BEGIN:STANDARD
TZOFFSETFROM:+0200
TZOFFSETTO:+0100
TZNAME:CET
DTSTART:20241027T010000
END:STANDARD
BEGIN:DAYLIGHT
TZOFFSETFROM:+0100
TZOFFSETTO:+0200
TZNAME:CEST
DTSTART:20250330T010000
END:DAYLIGHT
BEGIN:STANDARD
TZOFFSETFROM:+0200
TZOFFSETTO:+0100
TZNAME:CET
DTSTART:20251026T010000
END:STANDARD
END:VTIMEZONE
BEGIN:VEVENT
DTSTART;TZID=Europe/Rome:20241102T100000
DTEND;TZID=Europe/Rome:20241102T113000
DTSTAMP:20260424T171749
CREATED:20241028T115428Z
LAST-MODIFIED:20241028T115534Z
UID:6008-1730541600-1730547000@www.guidaartistica.com
SUMMARY:RINASCIMENTO A BRESCIA. MORETTO\, ROMANINO\, SAVOLDO
DESCRIPTION:Importante mostra al museo di Santa Giulia dedicata al rinascimento bresciano\, il periodo d’oro dell’arte pittorica a Brescia. \nA partire dal celeberrimo ritratto che Moretto fece a Fortunato Martinengo\, attraverso una quarantina di preziose opere (molte delle quali in prestito dall’estero)\, verrà indagato e ricotruito lo spirito del tempo.
URL:https://www.guidaartistica.com/evento/rinascimento-a-brescia-moretto-romanino-savoldo/
LOCATION:Museo di Santa Giulia\, via dei Musei\, Brescia
ATTACH;FMTTYPE=image/jpeg:https://www.guidaartistica.com/wp-content/uploads/2024/10/Moretto_da_brescia_cesaresco.jpg
END:VEVENT
BEGIN:VEVENT
DTSTART;TZID=Europe/Rome:20241102T100000
DTEND;TZID=Europe/Rome:20241102T113000
DTSTAMP:20260424T171749
CREATED:20241028T115428Z
LAST-MODIFIED:20241028T115428Z
UID:6012-1730541600-1730547000@www.guidaartistica.com
SUMMARY:RINASCIMENTO A BRESCIA. MORETTO\, ROMANINO\, SAVOLDO
DESCRIPTION:Importante mostra al museo di Santa Giulia dedicata al rinascimento bresciano\, il periodo d’oro dell’arte pittorica a Brescia. \nA partire dal celeberrimo ritratto che Moretto fece a Fortunato Martinengo\, attraverso una quarantina di preziose opere (molte delle quali in prestito dall’estero)\, verrà indagato e ricotruito lo spirito del tempo.
URL:https://www.guidaartistica.com/evento/rinascimento-a-brescia-moretto-romanino-savoldo-2/
LOCATION:Museo di Santa Giulia\, via dei Musei\, Brescia
ATTACH;FMTTYPE=image/jpeg:https://www.guidaartistica.com/wp-content/uploads/2024/10/Moretto_da_brescia_cesaresco.jpg
END:VEVENT
BEGIN:VEVENT
DTSTART;TZID=Europe/Rome:20241109T150000
DTEND;TZID=Europe/Rome:20241109T163000
DTSTAMP:20260424T171749
CREATED:20220606T171004Z
LAST-MODIFIED:20241016T184014Z
UID:5995-1731164400-1731169800@www.guidaartistica.com
SUMMARY:FIORI E CEMENTO: UN NUOVO ITINERARIO DI ART NOUVEU A BRESCIA
DESCRIPTION:Nuovo itinerario con lo sguardo in alto ad ammirare le facciate dei palazzi di primo novecento nella zona di via Venti Settembre a Brescia\, dove le famiglie borghesi emergenti commissionarono palazzi alla moda liberty o art nouveu (che dir si voglia) che imperversava in tutta Europa. \n  \nVisita guidata a Brescia organizzata da Guida Artistica\, gruppo di guide turistiche abilitate specializzate su Brescia\, lago di Garda\, Sebino\, Franciacorta\, Vallecamonica e tutta la provincia di Brescia.  Bergamo-Brescia Capitali della cultura 2023
URL:https://www.guidaartistica.com/evento/fiori-e-cemento-un-nuovo-itinerario-di-art-nouveu-a-brescia-2/
CATEGORIES:Visite guidate
ATTACH;FMTTYPE=image/jpeg:https://www.guidaartistica.com/wp-content/uploads/2022/06/fioricemento.jpg
END:VEVENT
BEGIN:VEVENT
DTSTART;TZID=Europe/Rome:20241116T150000
DTEND;TZID=Europe/Rome:20241116T163000
DTSTAMP:20260424T171749
CREATED:20241028T115428Z
LAST-MODIFIED:20241028T115927Z
UID:6014-1731769200-1731774600@www.guidaartistica.com
SUMMARY:RINASCIMENTO A BRESCIA. MORETTO\, ROMANINO\, SAVOLDO
DESCRIPTION:Importante mostra al museo di Santa Giulia dedicata al rinascimento bresciano\, il periodo d’oro dell’arte pittorica a Brescia. \nA partire dal celeberrimo ritratto che Moretto fece a Fortunato Martinengo\, attraverso una quarantina di preziose opere (molte delle quali in prestito dall’estero)\, verrà indagato e ricotruito lo spirito del tempo.
URL:https://www.guidaartistica.com/evento/rinascimento-a-brescia-moretto-romanino-savoldo-4/
LOCATION:Museo di Santa Giulia\, via dei Musei\, Brescia
ATTACH;FMTTYPE=image/jpeg:https://www.guidaartistica.com/wp-content/uploads/2024/10/Moretto_da_brescia_cesaresco.jpg
END:VEVENT
BEGIN:VEVENT
DTSTART;TZID=Europe/Rome:20241120T150000
DTEND;TZID=Europe/Rome:20241120T163000
DTSTAMP:20260424T171749
CREATED:20241028T115428Z
LAST-MODIFIED:20241115T071948Z
UID:6019-1732114800-1732120200@www.guidaartistica.com
SUMMARY:RINASCIMENTO A BRESCIA. MORETTO\, ROMANINO\, SAVOLDO 1512-1552
DESCRIPTION:Importante mostra al museo di Santa Giulia dedicata al rinascimento bresciano\, il periodo d’oro dell’arte pittorica a Brescia. \nA partire dal celeberrimo ritratto che Moretto fece a Fortunato Martinengo\, attraverso una quarantina di preziose opere (molte delle quali in prestito dall’estero)\, verrà indagato e ricotruito lo spirito del tempo.
URL:https://www.guidaartistica.com/evento/rinascimento-a-brescia-moretto-romanino-savoldo-1512-1552/
LOCATION:Museo di Santa Giulia\, via dei Musei\, Brescia
CATEGORIES:Visite guidate
ATTACH;FMTTYPE=image/jpeg:https://www.guidaartistica.com/wp-content/uploads/2024/10/Moretto_da_brescia_cesaresco.jpg
END:VEVENT
BEGIN:VEVENT
DTSTART;TZID=Europe/Rome:20241123T153000
DTEND;TZID=Europe/Rome:20241123T170000
DTSTAMP:20260424T171749
CREATED:20220302T204654Z
LAST-MODIFIED:20241115T072517Z
UID:5993-1732375800-1732381200@www.guidaartistica.com
SUMMARY:L'ORATORIO DEI DISCIPLINI E LA CHIESA DI SANT'ANTONINO - MOMPIANO
DESCRIPTION:Apertura straordinaria di un luogo normalmente chiuso al pubblico. \nIngredienti di un pomeriggio speciale: l’antico monte Denno\, il colle San Giuseppe\, un santo appartenente alla vera elite del Paradiso e abbondanti corsi d’acqua. Shakerare qualche minuto ed ecco il risultato: la bella disciplina di San Cristoforo a Mompiano\, il cui recente restauro ha restituito preziosi affreschi del XV-XVI sec. \nLa visita sarà l’occasione per conoscere anche la chiesa di Sant’Antonino e la storia di Mompiano\, comune autonomo fino al 1880. \n  \n  \nVisita guidata organizzata da Guida Artistica\, gruppo di guide turistiche abilitate specializzate su Brescia\, lago di Garda\, Sebino\, Franciacorta\, Vallecamonica e tutta la provincia di Brescia. Arte e storia che oltre Bergamo Brescia capitali della cultura 2023.
URL:https://www.guidaartistica.com/evento/loratorio-dei-disciplini-e-la-chiesa-di-santantonino-mompiano-5/
CATEGORIES:Visite guidate
ATTACH;FMTTYPE=image/jpeg:https://www.guidaartistica.com/wp-content/uploads/2022/03/Mompiano-disciplini.jpg
END:VEVENT
BEGIN:VEVENT
DTSTART;TZID=Europe/Rome:20241124T150000
DTEND;TZID=Europe/Rome:20241124T163000
DTSTAMP:20260424T171749
CREATED:20241028T115428Z
LAST-MODIFIED:20241115T071045Z
UID:6016-1732460400-1732465800@www.guidaartistica.com
SUMMARY:RINASCIMENTO A BRESCIA. MORETTO\, ROMANINO\, SAVOLDO 1512-1552
DESCRIPTION:Importante mostra al museo di Santa Giulia dedicata al rinascimento bresciano\, il periodo d’oro dell’arte pittorica a Brescia. \nA partire dal celeberrimo ritratto che Moretto fece a Fortunato Martinengo\, attraverso una quarantina di preziose opere (molte delle quali in prestito dall’estero)\, verrà indagato e ricotruito lo spirito del tempo.
URL:https://www.guidaartistica.com/evento/rinascimento-a-brescia-moretto-romanino-savoldo-5/
LOCATION:Museo di Santa Giulia\, via dei Musei\, Brescia
CATEGORIES:Visite guidate
ATTACH;FMTTYPE=image/jpeg:https://www.guidaartistica.com/wp-content/uploads/2024/10/Moretto_da_brescia_cesaresco.jpg
END:VEVENT
BEGIN:VEVENT
DTSTART;TZID=Europe/Rome:20241130T100000
DTEND;TZID=Europe/Rome:20241130T113000
DTSTAMP:20260424T171749
CREATED:20241115T071741Z
LAST-MODIFIED:20241115T071826Z
UID:6021-1732960800-1732966200@www.guidaartistica.com
SUMMARY:LA MODA NEL RINASCIMENTO BRESCIANO ALLA PINACOTECA TOSIO MARTINENGO
DESCRIPTION:Visita guidata speciale alla collezione rinascimentale della Pinacoteca Tosio Martinengo di Brescia con focus sulla moda dell’epoca tra dettagli raffinati e status symbol…perchè “la moda non è qualcosa che esiste solo sotto forma di abiti. La moda è nel cielo\, nelle strade\, la moda ha a che fare con le idee\, il modo in cui viviamo\, ciò che accade” Cocò Chanel.tourmorett
URL:https://www.guidaartistica.com/evento/la-moda-nel-rinascimento-bresciano-alla-pinacoteca-tosio-martinengo/
LOCATION:Pinacoteca Tosio Martinengo\, piazza Moretto n.4\, Brescia\, Italia
CATEGORIES:Visite guidate
ATTACH;FMTTYPE=image/jpeg:https://www.guidaartistica.com/wp-content/uploads/2024/11/modainPinacoteca.jpg
END:VEVENT
END:VCALENDAR