BEGIN:VCALENDAR
VERSION:2.0
PRODID:-//Guida Artistica - ECPv6.15.20//NONSGML v1.0//EN
CALSCALE:GREGORIAN
METHOD:PUBLISH
X-ORIGINAL-URL:https://www.guidaartistica.com
X-WR-CALDESC:Eventi per Guida Artistica
REFRESH-INTERVAL;VALUE=DURATION:PT1H
X-Robots-Tag:noindex
X-PUBLISHED-TTL:PT1H
BEGIN:VTIMEZONE
TZID:Europe/Rome
BEGIN:DAYLIGHT
TZOFFSETFROM:+0100
TZOFFSETTO:+0200
TZNAME:CEST
DTSTART:20240331T010000
END:DAYLIGHT
BEGIN:STANDARD
TZOFFSETFROM:+0200
TZOFFSETTO:+0100
TZNAME:CET
DTSTART:20241027T010000
END:STANDARD
BEGIN:DAYLIGHT
TZOFFSETFROM:+0100
TZOFFSETTO:+0200
TZNAME:CEST
DTSTART:20250330T010000
END:DAYLIGHT
BEGIN:STANDARD
TZOFFSETFROM:+0200
TZOFFSETTO:+0100
TZNAME:CET
DTSTART:20251026T010000
END:STANDARD
BEGIN:DAYLIGHT
TZOFFSETFROM:+0100
TZOFFSETTO:+0200
TZNAME:CEST
DTSTART:20260329T010000
END:DAYLIGHT
BEGIN:STANDARD
TZOFFSETFROM:+0200
TZOFFSETTO:+0100
TZNAME:CET
DTSTART:20261025T010000
END:STANDARD
END:VTIMEZONE
BEGIN:VEVENT
DTSTART;TZID=Europe/Rome:20250104T150000
DTEND;TZID=Europe/Rome:20250104T163000
DTSTAMP:20260424T140348
CREATED:20241028T115428Z
LAST-MODIFIED:20241125T093116Z
UID:6027-1736002800-1736008200@www.guidaartistica.com
SUMMARY:RINASCIMENTO A BRESCIA. MORETTO\, ROMANINO\, SAVOLDO 1512-1552
DESCRIPTION:Importante mostra al museo di Santa Giulia dedicata al rinascimento bresciano\, il periodo d’oro dell’arte pittorica a Brescia. \nA partire dal celeberrimo ritratto che Moretto fece a Fortunato Martinengo\, attraverso una quarantina di preziose opere (molte delle quali in prestito dall’estero)\, verrà indagato e ricotruito lo spirito del tempo.
URL:https://www.guidaartistica.com/evento/rinascimento-a-brescia-moretto-romanino-savoldo-1512-1552-3/
LOCATION:Museo di Santa Giulia\, via dei Musei\, Brescia
CATEGORIES:Visite guidate
ATTACH;FMTTYPE=image/jpeg:https://www.guidaartistica.com/wp-content/uploads/2024/10/Moretto_da_brescia_cesaresco.jpg
END:VEVENT
BEGIN:VEVENT
DTSTART;TZID=Europe/Rome:20250118T153000
DTEND;TZID=Europe/Rome:20250118T170000
DTSTAMP:20260424T140348
CREATED:20220302T204654Z
LAST-MODIFIED:20241126T104800Z
UID:6033-1737214200-1737219600@www.guidaartistica.com
SUMMARY:L'ORATORIO DEI DISCIPLINI E LA CHIESA DI SANT'ANTONINO - MOMPIANO
DESCRIPTION:Apertura straordinaria di un luogo normalmente chiuso al pubblico. \nIngredienti di un pomeriggio speciale: l’antico monte Denno\, il colle San Giuseppe\, un santo appartenente alla vera elite del Paradiso e abbondanti corsi d’acqua. Shakerare qualche minuto ed ecco il risultato: la bella disciplina di San Cristoforo a Mompiano\, il cui recente restauro ha restituito preziosi affreschi del XV-XVI sec. \nLa visita sarà l’occasione per conoscere anche la chiesa di Sant’Antonino e la storia di Mompiano\, comune autonomo fino al 1880. \n  \n  \nVisita guidata organizzata da Guida Artistica\, gruppo di guide turistiche abilitate specializzate su Brescia\, lago di Garda\, Sebino\, Franciacorta\, Vallecamonica e tutta la provincia di Brescia. Arte e storia  oltre Bergamo Brescia capitali della cultura 2023.
URL:https://www.guidaartistica.com/evento/loratorio-dei-disciplini-e-la-chiesa-di-santantonino-mompiano-6/
CATEGORIES:Visite guidate
ATTACH;FMTTYPE=image/jpeg:https://www.guidaartistica.com/wp-content/uploads/2022/03/Mompiano-disciplini.jpg
END:VEVENT
BEGIN:VEVENT
DTSTART;TZID=Europe/Rome:20250125T100000
DTEND;TZID=Europe/Rome:20250125T113000
DTSTAMP:20260424T140348
CREATED:20211025T152718Z
LAST-MODIFIED:20241230T144836Z
UID:6041-1737799200-1737804600@www.guidaartistica.com
SUMMARY:PALAZZO DELLA LOGGIA A BRESCIA
DESCRIPTION: Palazzo della Loggia è forse il più emblematico edificio della città: iniziato nel 1492\, ebbe una storia edificativa travagliata che gli fece assumere l’aspetto attuale solo il secolo scorso.\nSimbolo del potere veneziano in città\, fu realizzato da artisti di fama in squisito stile rinascimentale.\nAvremo l’opportunità di ammirarne gli interni scoprendone gli ambienti decorati\, lo scalone principale\, le particolarità del salone Vanvitelliano\, la sala della Giunta e quella del Consiglio Comunale. Visiteremo inoltre la straordinaria sala dei Giudici\, tornata alla luce una decina di anni fa durante lavori di sistemazione interni al palazzo. In questo ambiente i fratelli Campi realizzarono un ciclo di affreschi sul tema della giustizia e della lealtà della legge\, che unisce i valori civili ad una straordinaria capacità artistica.\n\n\n\nEvento organizzato da Guida Artistica\, guite turistiche di Brescia\, capitale della Cultura 2023.
URL:https://www.guidaartistica.com/evento/palazzo-della-loggia-10/
LOCATION:PIAZZA DELLA LOGGIA
CATEGORIES:Visite guidate
ATTACH;FMTTYPE=image/jpeg:https://www.guidaartistica.com/wp-content/uploads/2021/10/831.jpg
END:VEVENT
END:VCALENDAR