BEGIN:VCALENDAR
VERSION:2.0
PRODID:-//Guida Artistica - ECPv6.15.20//NONSGML v1.0//EN
CALSCALE:GREGORIAN
METHOD:PUBLISH
X-WR-CALNAME:Guida Artistica
X-ORIGINAL-URL:https://www.guidaartistica.com
X-WR-CALDESC:Eventi per Guida Artistica
REFRESH-INTERVAL;VALUE=DURATION:PT1H
X-Robots-Tag:noindex
X-PUBLISHED-TTL:PT1H
BEGIN:VTIMEZONE
TZID:Europe/Rome
BEGIN:DAYLIGHT
TZOFFSETFROM:+0100
TZOFFSETTO:+0200
TZNAME:CEST
DTSTART:20190331T010000
END:DAYLIGHT
BEGIN:STANDARD
TZOFFSETFROM:+0200
TZOFFSETTO:+0100
TZNAME:CET
DTSTART:20191027T010000
END:STANDARD
BEGIN:DAYLIGHT
TZOFFSETFROM:+0100
TZOFFSETTO:+0200
TZNAME:CEST
DTSTART:20200329T010000
END:DAYLIGHT
BEGIN:STANDARD
TZOFFSETFROM:+0200
TZOFFSETTO:+0100
TZNAME:CET
DTSTART:20201025T010000
END:STANDARD
BEGIN:DAYLIGHT
TZOFFSETFROM:+0100
TZOFFSETTO:+0200
TZNAME:CEST
DTSTART:20210328T010000
END:DAYLIGHT
BEGIN:STANDARD
TZOFFSETFROM:+0200
TZOFFSETTO:+0100
TZNAME:CET
DTSTART:20211031T010000
END:STANDARD
END:VTIMEZONE
BEGIN:VEVENT
DTSTART;TZID=Europe/Rome:20200105T153000
DTEND;TZID=Europe/Rome:20200105T170000
DTSTAMP:20260425T044607
CREATED:20180730T070058Z
LAST-MODIFIED:20200102T092832Z
UID:3810-1578238200-1578243600@www.guidaartistica.com
SUMMARY:UN TUFFO NEL MEDIOEVO: PASSEGGIATA A ISEO
DESCRIPTION:Guida Artistica organizza una passeggiata ad Iseo per conoscere la sua storia e l’arte di questo importante centro sulle rive del Sebino. Oggi ci appare poco più grande di un paese\, ma durante il Medioevo è stato un importante snodo commerciale\, dotato di un porto e di un fiorente mercato. \nLa ricchezza dei commerci ha contribuito allo sviluppo della città\, con la costruzione di una vera propria cittadella circondata da mura\, il castello e la pieve di S. Andrea (tra le più grandi nel Bresciano). \nCon Guida Artistica farete un vero e proprio viaggio nel tempo tra i monumenti più importanti\, ma anche alla ricerca di testimonianze meno note che sfuggono all’occhio del passante distratto. \nIncontro in piazza Garibaldi. Contributo di partecipazione: 7 euro (gratis under 18 accompagnati). Prenotazione obbligatoria. \nPossibilità di parcheggio libero in viale Europa.
URL:https://www.guidaartistica.com/evento/un-tuffo-nel-medioevo-passeggiata-a-iseo-7/
CATEGORIES:Visite guidate
ATTACH;FMTTYPE=image/jpeg:https://www.guidaartistica.com/wp-content/uploads/2015/07/iseo-guida-artistica-e1437982580641.jpg
ORGANIZER;CN="Guida Artistica":MAILTO:info@guidaartistica.com
END:VEVENT
END:VCALENDAR