BEGIN:VCALENDAR
VERSION:2.0
PRODID:-//Guida Artistica - ECPv6.15.20//NONSGML v1.0//EN
CALSCALE:GREGORIAN
METHOD:PUBLISH
X-ORIGINAL-URL:https://www.guidaartistica.com
X-WR-CALDESC:Eventi per Guida Artistica
REFRESH-INTERVAL;VALUE=DURATION:PT1H
X-Robots-Tag:noindex
X-PUBLISHED-TTL:PT1H
BEGIN:VTIMEZONE
TZID:Europe/Rome
BEGIN:DAYLIGHT
TZOFFSETFROM:+0100
TZOFFSETTO:+0200
TZNAME:CEST
DTSTART:20190331T010000
END:DAYLIGHT
BEGIN:STANDARD
TZOFFSETFROM:+0200
TZOFFSETTO:+0100
TZNAME:CET
DTSTART:20191027T010000
END:STANDARD
BEGIN:DAYLIGHT
TZOFFSETFROM:+0100
TZOFFSETTO:+0200
TZNAME:CEST
DTSTART:20200329T010000
END:DAYLIGHT
BEGIN:STANDARD
TZOFFSETFROM:+0200
TZOFFSETTO:+0100
TZNAME:CET
DTSTART:20201025T010000
END:STANDARD
BEGIN:DAYLIGHT
TZOFFSETFROM:+0100
TZOFFSETTO:+0200
TZNAME:CEST
DTSTART:20210328T010000
END:DAYLIGHT
BEGIN:STANDARD
TZOFFSETFROM:+0200
TZOFFSETTO:+0100
TZNAME:CET
DTSTART:20211031T010000
END:STANDARD
END:VTIMEZONE
BEGIN:VEVENT
DTSTART;TZID=Europe/Rome:20200328T160000
DTEND;TZID=Europe/Rome:20200328T173000
DTSTAMP:20260424T154821
CREATED:20160227T104324Z
LAST-MODIFIED:20200225T174141Z
UID:4440-1585411200-1585416600@www.guidaartistica.com
SUMMARY:Visita a Villa Mazzucchelli
DESCRIPTION:Immersa nella quiete della campagna\, Villa Mazzucchelli accoglie il visitatore con il suo fascino d’altri tempi: uno scenografico cortile d’onore\, la sala da ballo esagonale\, i salottini affrescati… \nAffacciandosi dalla finestra della biblioteca\, sembra quasi di poter vedere il conte Giammaria Mazzucchelli\, il letterato bresciano più importante del settecento insieme al Cardinal Querini\, che passeggia nell’ampio parco impreziosito da statue e fontane. \nDopo esserci soffermati nella stanza della musica e aver immaginato Arturo Benedetti Michelangeli che suona il pianoforte (da lui posseduto e autografato) nella sala da pranzo\, ammireremo la splendida collezione di abiti del Museo della moda e del costume allestito nella barchessa della villa\, e il Museo del vino e del cavatappi nelle ex scuderie. \nContributo di partecipazione euro 13 (comprensivo di ingresso e visita guidata). Prenotazione obbligatoria\, posti limitati.
URL:https://www.guidaartistica.com/evento/visita-a-villa-mazzucchelli-8/
LOCATION:Villa Mazzucchelli\, via Giammaria Mazzucchelli\, Mazzano\, Italia
CATEGORIES:Visite guidate
ATTACH;FMTTYPE=image/jpeg:https://www.guidaartistica.com/wp-content/uploads/2016/02/0002.3-e1456569690567.jpg
ORGANIZER;CN="Guida Artistica":MAILTO:info@guidaartistica.com
END:VEVENT
END:VCALENDAR