BEGIN:VCALENDAR
VERSION:2.0
PRODID:-//Guida Artistica - ECPv6.15.20//NONSGML v1.0//EN
CALSCALE:GREGORIAN
METHOD:PUBLISH
X-WR-CALNAME:Guida Artistica
X-ORIGINAL-URL:https://www.guidaartistica.com
X-WR-CALDESC:Eventi per Guida Artistica
REFRESH-INTERVAL;VALUE=DURATION:PT1H
X-Robots-Tag:noindex
X-PUBLISHED-TTL:PT1H
BEGIN:VTIMEZONE
TZID:Europe/Rome
BEGIN:DAYLIGHT
TZOFFSETFROM:+0100
TZOFFSETTO:+0200
TZNAME:CEST
DTSTART:20200329T010000
END:DAYLIGHT
BEGIN:STANDARD
TZOFFSETFROM:+0200
TZOFFSETTO:+0100
TZNAME:CET
DTSTART:20201025T010000
END:STANDARD
BEGIN:DAYLIGHT
TZOFFSETFROM:+0100
TZOFFSETTO:+0200
TZNAME:CEST
DTSTART:20210328T010000
END:DAYLIGHT
BEGIN:STANDARD
TZOFFSETFROM:+0200
TZOFFSETTO:+0100
TZNAME:CET
DTSTART:20211031T010000
END:STANDARD
BEGIN:DAYLIGHT
TZOFFSETFROM:+0100
TZOFFSETTO:+0200
TZNAME:CEST
DTSTART:20220327T010000
END:DAYLIGHT
BEGIN:STANDARD
TZOFFSETFROM:+0200
TZOFFSETTO:+0100
TZNAME:CET
DTSTART:20221030T010000
END:STANDARD
END:VTIMEZONE
BEGIN:VEVENT
DTSTART;TZID=Europe/Rome:20210903T200000
DTEND;TZID=Europe/Rome:20210903T213000
DTSTAMP:20260423T125142
CREATED:20150625T083304Z
LAST-MODIFIED:20210828T134637Z
UID:5090-1630699200-1630704600@www.guidaartistica.com
SUMMARY:SOTTO MENTITE SPOGLIE - PIETRE ANTICHE E NUOVE FUNZIONI
DESCRIPTION:Le vie e i palazzi della città sono punteggiati da numerosi e bizzarri “indizi”: a cosa potrebbe servire una scacchiera incisa su una delle antiche porte della città romana? Sicuramente non per giocare\, dato che si trova ad oltre due metri d’altezza! E l’immagine di un centurione romano? \nSpesso a Brescia\, tra i vicoli e i palazzi del centro storico si mimetizzano frammenti di un passato lontanissimo: antiche pietre\, con iscrizioni o immagini scolpite\, ma qual è la loro origine? \nUn itinerario dedicato ai più curiosi\, che con l’esperienza di Guida Artistica potranno diventare “investigatori per una sera” e fare luce su affascinanti dettagli di una città che riserva sempre piacevoli sorprese. \nL’incontro è in piazza Michelangeli (corso Magenta\, di fronte all’auditorium San Barnaba)\nContributo di partecipazione euro 8 . Prenotazione obbligatoria \nLa visita si svolgerà nel pieno rispetto delle norme Covid 19: \n\nmascherina obbligatoria\ndistanza interpersonale di almeno 1 m\ngruppi di massimo 20 persone\nprenotazione obbligatoria\n\nPer Guida Artistica la sicurezza è un valore. \nVisita guidata a Brescia organizzata da Guida Artistica\, gruppo di guide turistiche abilitate specializzate su Brescia\, lago di Garda\, Sebino\, Franciacorta\, Vallecamonica e tutta la provincia di Brescia.
URL:https://www.guidaartistica.com/evento/sotto-mentite-spoglie-pietre-antiche-e-nuove-funzioni-3/
LOCATION:Auditorium San Barnaba\, corso Magenta 44\, Brescia
CATEGORIES:Visite guidate
ATTACH;FMTTYPE=image/jpeg:https://www.guidaartistica.com/wp-content/uploads/2014/06/passeggiate-artistiche-logo-colori.jpg
END:VEVENT
END:VCALENDAR