BEGIN:VCALENDAR
VERSION:2.0
PRODID:-//Guida Artistica - ECPv6.15.20//NONSGML v1.0//EN
CALSCALE:GREGORIAN
METHOD:PUBLISH
X-ORIGINAL-URL:https://www.guidaartistica.com
X-WR-CALDESC:Eventi per Guida Artistica
REFRESH-INTERVAL;VALUE=DURATION:PT1H
X-Robots-Tag:noindex
X-PUBLISHED-TTL:PT1H
BEGIN:VTIMEZONE
TZID:Europe/Rome
BEGIN:DAYLIGHT
TZOFFSETFROM:+0100
TZOFFSETTO:+0200
TZNAME:CEST
DTSTART:20190331T010000
END:DAYLIGHT
BEGIN:STANDARD
TZOFFSETFROM:+0200
TZOFFSETTO:+0100
TZNAME:CET
DTSTART:20191027T010000
END:STANDARD
BEGIN:DAYLIGHT
TZOFFSETFROM:+0100
TZOFFSETTO:+0200
TZNAME:CEST
DTSTART:20200329T010000
END:DAYLIGHT
BEGIN:STANDARD
TZOFFSETFROM:+0200
TZOFFSETTO:+0100
TZNAME:CET
DTSTART:20201025T010000
END:STANDARD
BEGIN:DAYLIGHT
TZOFFSETFROM:+0100
TZOFFSETTO:+0200
TZNAME:CEST
DTSTART:20210328T010000
END:DAYLIGHT
BEGIN:STANDARD
TZOFFSETFROM:+0200
TZOFFSETTO:+0100
TZNAME:CET
DTSTART:20211031T010000
END:STANDARD
END:VTIMEZONE
BEGIN:VEVENT
DTSTART;TZID=Europe/Rome:20200120T093000
DTEND;TZID=Europe/Rome:20200120T110000
DTSTAMP:20260424T182924
CREATED:20180226T060224Z
LAST-MODIFIED:20200119T102855Z
UID:4096-1579512600-1579518000@www.guidaartistica.com
SUMMARY:VISITA AL TEATRO GRANDE
DESCRIPTION:Guida Artistica organizza una visita guidata al Teatro Grande\, elegante edificio sul corso cittadino e primo teatro pubblico di Brescia. Ammireremo nel dettaglio tutti gli ambienti: dalla grandiosa sala alla ritrovata sala Butterfly fino alla sala verde. Sosteremo nel Ridotto\, luogo di intrattenimento sfarzoso ed elegante\, che deve la sua ampia struttura  con logge e parapetti all’architetto Antonio Marchetti. Conosceremo la storia dell’Accademia degli Erranti\, prima istituzione che qui aveva la sua sede e ammireremo le splendide pitture illusionistiche che ammiccano ai vizi del gioco d’azzardo e del bel mondo bresciano (e non solo) che ha frequentato queste sale. \n Contributo di partecipazione 10 euro. Prenotazione obbligatoria.
URL:https://www.guidaartistica.com/evento/visita-al-teatro-grande-4/
LOCATION:Teatro Grande\, corso Zanardelli\, Brescia
CATEGORIES:Visite guidate
ATTACH;FMTTYPE=image/jpeg:https://www.guidaartistica.com/wp-content/uploads/2015/06/Ridotto.jpg
ORGANIZER;CN="Guida Artistica":MAILTO:info@guidaartistica.com
END:VEVENT
END:VCALENDAR